{"text_format":"3","workbook":"xlsx","n_sheets":6,"sheets":["Chart","Data","Yerms","Rules","Zoom","Labels"],"not_rendered":{"charts":1,"macros":1,"defined_names":19},"read":"whole","date_system":"1900"}

{"sheet":"Chart","index":0,"n_rows":19,"n_cols":17,"rows_kept":19}
[{"$f":"MPC&\"-Month, \"&Yerms&\"-Yerm Lunar Cycle Jitter\"","v":"360-Month, 22-Yerm Lunar Cycle Jitter"}]
[{"$f":"\"Cycle contains \"&MPC&\" months (\"&FMPC&\" full, \"&DMPC&\" deficient) = \"&DPC&\" days = \"&reducefraction(DPC,7,FALSE,FALSE,TRUE)&\" weeks = \"&Yerms&\" yerms.\"","v":"Cycle contains 360 months (191 full, 169 deficient) = 10631 days = 1518+5/7 weeks = 22 yerms."}]
[{"$f":"\"Mean month = \"&\"29+\"&reducefraction(FMPC,MPC,FALSE,FALSE,TRUE)&\" days = 29d 12h 44m \"&reducefraction(240*(360*FMPC-191*MPC),MPC,FALSE,FALSE,TRUE)&\" seconds, or about 29\"&MID(FMPC/MPC,2,20)&\" days or 29d 12h 44m \"&ROUND(240*(360*FMPC-191*MPC)/MPC,6)&\" seconds.\"","v":"Mean month = 29+191/360 days = 29d 12h 44m 0 seconds, or about 29.530555555555556 days or 29d 12h 44m 0 seconds."}]
[{"$f":"\"Duration per ''Part'' = 1/\"&MPC&\" day = \"&reducefraction(24,MPC,FALSE,FALSE,TRUE)&\" hour = \"&reducefraction(1440,MPC,FALSE,FALSE,TRUE)&\" minutes = \"&reducefraction(86400,MPC,FALSE,FALSE,TRUE)&\" seconds.  One hour = \"&reducefraction(MPC,24,FALSE,FALSE,TRUE)&\" parts.\"","v":"Duration per ''Part'' = 1/360 day = 1/15 hour = 4 minutes = 240 seconds.  One hour = 15 parts."}]
[]
[]
[]
[]
[{"$nulls":16},false]
[]
[]
[]
[]
[]
[{"$nulls":16},1]
[{"$nulls":16},"Selected"]
[{"$nulls":16},"Month"]
[{"$nulls":16},"in Yerm"]
[{"$nulls":16},"(1 to 17)"]

{"sheet":"Data","index":1,"n_rows":757,"n_cols":8,"rows_kept":757}
["Lunar Cycle Jitter Evaluator"]
["by Dr. Irv Bromberg, University of Toronto, Canada"]
["http://individual.utoronto.ca/intervalmath/jitter/index.html",null,null,"Jitter","(parts)"]
[{"$nulls":3},{"$f":"MAX(H:H)","v":183},"maximum",{"$f":"reducefraction(JitterMax*MPC,MPC,FALSE,FALSE,FALSE)","v":"183"}]
["Months per Cycle (Parts per Day):",360,"months (parts)",{"$f":"MIN(H:H)","v":-176},"minimum",{"$f":"reducefraction(JitterMin*MPC,MPC,FALSE,FALSE,FALSE)","v":"–(176)"}]
["30-day Months per Cycle:",191,"months",{"$f":"D4-D5","v":359},"range",{"$f":"reducefraction(JitterRange*MPC,MPC,FALSE,FALSE,FALSE)","v":"359"}]
["29-day Months per Cycle:",{"$f":"MPC-FMPC","v":169},"months",{"$f":"\"Jitter range = \"&F6&\" parts = \"&reducefraction(F6*24,MPC,FALSE,FALSE,FALSE)&\" hours\"","v":"Jitter range = 359 parts = 23 + 14 / 15 hours"}]
["Days per Cycle (Parts per Month):",{"$f":"29*MPC+FMPC","v":10631},"days (parts)"]
["Yerms per Cycle:",{"$f":"2*DPC-59*MPC","v":22},"yerms","Limits for Chart:"]
["Mean Month:",{"$f":"\"29 + \"&reducefraction(FMPC,MPC,FALSE,FALSE,FALSE)","v":"29 + 191 / 360"},"days","x","y","Hours"]
["Mean Month >29d:",{"$f":"FMPC/MPC","v":{"v":0.5305555555555556,"d":"0.530555555555556"}},"days",{"$f":"C21","v":1},{"$f":"JitterMax","v":183},{"$f":"E11*24/MPC","v":12.2}]
["Mean Month >29d 12h 44m:",{"$f":"reducefraction(240*(360*FMPC-191*MPC),MPC,FALSE,FALSE,TRUE)","v":"0"},"seconds",{"$f":"2*MPC+1","v":721},{"$f":"E11","v":183},{"$f":"E12*24/MPC","v":12.2}]
["… or approximately:",{"$f":"240*(360*FMPC-191*MPC)/MPC","v":0},"seconds"]
["Has Yerm Zero:",{"$f":"MeanMonth>26/49","v":false},null,{"$f":"D11","v":1},0]
["17-month Yerms per Cycle:",{"$f":"443*MPC-15*DPC","v":15},"yerms",{"$f":"D12","v":721},0]
["15-month Yerms per Cycle:",{"$f":"Yerms-n17my","v":7},"yerms"]
["49-month subcycles:",{"$f":"INT(Yerms/3)","v":7},null,{"$f":"C21","v":1},{"$f":"JitterMin","v":-176},{"$f":"E17*24/MPC","v":-11.733333333333333}]
["Duration per Part:",{"$f":"reducefraction(1440,MPC,FALSE,FALSE,FALSE)","v":"4"},"minutes",{"$f":"D12","v":721},{"$f":"E17","v":-176},{"$f":"E18*24/MPC","v":-11.733333333333333}]
[]
["Yerm in Cycle","Months in Yerm","Month #","Month in Yerm","Month Length","New Month Moment","Elapsed","Difference"]
[1,{"$f":"IF(MOD(A21,3)=0,15,17)","v":17},1,1,{"$f":"IF(MOD(D21,2)=1,30,29)","v":30},0,0,{"$f":"F21-G21","v":0}]
[{"$f":"IF(D22=1,IF(A21=Yerms,1,A21+1),A21)","v":1},{"$f":"IF(MOD(A22,3)=0,15,17)","v":17},{"$f":"C21+1","v":2},{"$f":"IF(D21=B21,1,D21+1)","v":2},{"$f":"IF(MOD(D22,2)=1,30,29)","v":29},{"$f":"F21+PPM","v":10631},{"$f":"G21+E21*PPD","v":10800},-169]
[1,17,{"$f":"C22+1","v":3},3,30,{"$f":"F22+PPM","v":21262},21240,22]
[1,17,4,4,29,31893,32040,-147]
[1,17,5,5,30,42524,42480,44]
[1,17,6,6,29,53155,53280,-125]
[1,17,7,7,30,63786,63720,66]
[1,17,8,8,29,74417,74520,-103]
[1,17,9,9,30,85048,84960,88]
[1,17,10,10,29,95679,95760,-81]
[1,17,11,11,30,106310,106200,110]
[1,17,12,12,29,116941,117000,-59]
[1,17,13,13,30,127572,127440,132]
[1,17,14,14,29,138203,138240,-37]
[1,17,15,15,30,148834,148680,154]
[1,17,16,16,29,159465,159480,-15]
[1,{"$f":"IF(MOD(A37,3)=0,15,17)","v":17},17,17,30,170096,169920,176]
[2,17,18,1,30,180727,180720,7]
[2,17,19,2,29,191358,191520,-162]
[2,17,20,3,30,201989,201960,29]
[2,17,21,4,29,212620,212760,-140]
[2,17,22,5,30,223251,223200,51]
[2,17,23,6,29,233882,234000,-118]
[2,17,24,7,30,244513,244440,73]
[2,17,25,8,29,255144,255240,-96]
[2,17,26,9,30,265775,265680,95]
[2,17,27,10,29,276406,276480,-74]
[2,17,28,11,30,287037,286920,117]
[2,17,29,12,29,297668,297720,-52]
[2,17,30,13,30,308299,308160,139]
[2,17,31,14,29,318930,318960,-30]
[2,17,32,15,30,329561,329400,161]
[2,17,33,16,29,340192,340200,-8]
[2,17,34,17,30,350823,350640,183]
[3,15,35,1,30,361454,361440,14]
[3,15,36,2,29,372085,372240,-155]
[3,15,37,3,30,382716,382680,36]
[3,15,38,4,29,393347,393480,-133]
[3,15,39,5,30,403978,403920,58]
[3,15,40,6,29,414609,414720,-111]
[3,15,41,7,30,425240,425160,80]
[3,15,42,8,29,435871,435960,-89]
[3,15,43,9,30,446502,446400,102]
[3,15,44,10,29,457133,457200,-67]
[3,15,45,11,30,467764,467640,124]
[3,15,46,12,29,478395,478440,-45]
[3,15,47,13,30,489026,488880,146]
[3,15,48,14,29,499657,499680,-23]
[3,15,49,15,30,510288,510120,168]
[4,17,50,1,30,520919,520920,-1]
[4,17,51,2,29,531550,531720,-170]
[4,17,52,3,30,542181,542160,21]
[4,17,53,4,29,552812,552960,-148]
[4,17,54,5,30,563443,563400,43]
[4,17,55,6,29,574074,574200,-126]
[4,17,56,7,30,584705,584640,65]
[4,17,57,8,29,595336,595440,-104]
[4,17,58,9,30,605967,605880,87]
[4,17,59,10,29,616598,616680,-82]
[4,17,60,11,30,627229,627120,109]
[4,17,61,12,29,637860,637920,-60]
[4,17,62,13,30,648491,648360,131]
[4,17,63,14,29,659122,659160,-38]
[4,17,64,15,30,669753,669600,153]
[4,17,65,16,29,680384,680400,{"$f":"F85-G85","v":-16}]
[{"$f":"IF(D86=1,IF(A85=Yerms,1,A85+1),A85)","v":4},{"$f":"IF(MOD(A86,3)=0,15,17)","v":17},66,{"$f":"IF(D85=B85,1,D85+1)","v":17},{"$f":"IF(MOD(D86,2)=1,30,29)","v":30},691015,{"$f":"G85+E85*PPD","v":690840},175]
[5,17,{"$f":"C86+1","v":67},1,30,{"$f":"F86+PPM","v":701646},701640,6]
[5,17,68,2,29,712277,712440,-163]
[5,17,69,3,30,722908,722880,28]
[5,17,70,4,29,733539,733680,-141]
[5,17,71,5,30,744170,744120,50]
[5,17,72,6,29,754801,754920,-119]
[5,17,73,7,30,765432,765360,72]
[5,17,74,8,29,776063,776160,-97]
[5,17,75,9,30,786694,786600,94]
[5,17,76,10,29,797325,797400,-75]
[5,17,77,11,30,807956,807840,116]
[5,17,78,12,29,818587,818640,-53]
[5,17,79,13,30,829218,829080,138]
[5,17,80,14,29,839849,839880,-31]
[5,17,81,15,30,850480,850320,160]
[5,17,82,16,29,861111,861120,-9]
[5,17,83,17,30,871742,871560,182]
[6,15,84,1,30,882373,882360,13]
[6,15,85,2,29,893004,893160,-156]
[6,15,86,3,30,903635,903600,35]
[6,15,87,4,29,914266,914400,-134]
[6,15,88,5,30,924897,924840,57]
[6,15,89,6,29,935528,935640,-112]
[6,15,90,7,30,946159,946080,79]
[6,15,91,8,29,956790,956880,-90]
[6,15,92,9,30,967421,967320,101]
[6,15,93,10,29,978052,978120,-68]
[6,15,94,11,30,988683,988560,123]
[6,15,95,12,29,999314,999360,-46]
[6,15,96,13,30,1009945,1009800,145]
[6,15,97,14,29,1020576,1020600,-24]
[6,15,98,15,30,1031207,1031040,167]
[7,17,99,1,30,1041838,1041840,-2]
[7,17,100,2,29,1052469,1052640,-171]
[7,17,101,3,30,1063100,1063080,20]
[7,17,102,4,29,1073731,1073880,-149]
[7,17,103,5,30,1084362,1084320,42]
[7,17,104,6,29,1094993,1095120,-127]
[7,17,105,7,30,1105624,1105560,64]
[7,17,106,8,29,1116255,1116360,-105]
[7,17,107,9,30,1126886,1126800,86]
[7,17,108,10,29,1137517,1137600,-83]
[7,17,109,11,30,1148148,1148040,108]
[7,17,110,12,29,1158779,1158840,-61]
[7,17,111,13,30,1169410,1169280,130]
[7,17,112,14,29,1180041,1180080,-39]
[7,17,113,15,30,1190672,1190520,152]
[7,17,114,16,29,1201303,1201320,-17]
[7,17,115,17,30,1211934,1211760,174]
[8,17,116,1,30,1222565,1222560,5]
[8,17,117,2,29,1233196,1233360,-164]
[8,17,118,3,30,1243827,1243800,27]
[8,17,119,4,29,1254458,1254600,-142]
[8,17,120,5,30,1265089,1265040,49]
[8,17,121,6,29,1275720,1275840,-120]
[8,17,122,7,30,1286351,1286280,71]
[8,17,123,8,29,1296982,1297080,-98]
[8,17,124,9,30,1307613,1307520,93]
[8,17,125,10,29,1318244,1318320,-76]
[8,17,126,11,30,1328875,1328760,115]
[8,17,127,12,29,1339506,1339560,-54]
[8,17,128,13,30,1350137,1350000,137]
[8,17,129,14,29,1360768,1360800,{"$f":"F149-G149","v":-32}]
[{"$f":"IF(D150=1,IF(A149=Yerms,1,A149+1),A149)","v":8},{"$f":"IF(MOD(A150,3)=0,15,17)","v":17},130,{"$f":"IF(D149=B149,1,D149+1)","v":15},{"$f":"IF(MOD(D150,2)=1,30,29)","v":30},1371399,{"$f":"G149+E149*PPD","v":1371240},159]
[8,17,{"$f":"C150+1","v":131},16,29,{"$f":"F150+PPM","v":1382030},1382040,-10]
[8,17,132,17,30,1392661,1392480,181]
[9,15,133,1,30,1403292,1403280,12]
[9,15,134,2,29,1413923,1414080,-157]
[9,15,135,3,30,1424554,1424520,34]
[9,15,136,4,29,1435185,1435320,-135]
[9,15,137,5,30,1445816,1445760,56]
[9,15,138,6,29,1456447,1456560,-113]
[9,15,139,7,30,1467078,1467000,78]
[9,15,140,8,29,1477709,1477800,-91]
[9,15,141,9,30,1488340,1488240,100]
[9,15,142,10,29,1498971,1499040,-69]
[9,15,143,11,30,1509602,1509480,122]
[9,15,144,12,29,1520233,1520280,-47]
[9,15,145,13,30,1530864,1530720,144]
[9,15,146,14,29,1541495,1541520,-25]
[9,15,147,15,30,1552126,1551960,166]
[10,17,148,1,30,1562757,1562760,-3]
[10,17,149,2,29,1573388,1573560,-172]
[10,17,150,3,30,1584019,1584000,19]
[10,17,151,4,29,1594650,1594800,-150]
[10,17,152,5,30,1605281,1605240,41]
[10,17,153,6,29,1615912,1616040,-128]
[10,17,154,7,30,1626543,1626480,63]
[10,17,155,8,29,1637174,1637280,-106]
[10,17,156,9,30,1647805,1647720,85]
[10,17,157,10,29,1658436,1658520,-84]
[10,17,158,11,30,1669067,1668960,107]
[10,17,159,12,29,1679698,1679760,-62]
[10,17,160,13,30,1690329,1690200,129]
[10,17,161,14,29,1700960,1701000,-40]
[10,17,162,15,30,1711591,1711440,151]
[10,17,163,16,29,1722222,1722240,-18]
[10,17,164,17,30,1732853,1732680,173]
[11,17,165,1,30,1743484,1743480,4]
[11,17,166,2,29,1754115,1754280,-165]
[11,17,167,3,30,1764746,1764720,26]
[11,17,168,4,29,1775377,1775520,-143]
[11,17,169,5,30,1786008,1785960,48]
[11,17,170,6,29,1796639,1796760,-121]
[11,17,171,7,30,1807270,1807200,70]
[11,17,172,8,29,1817901,1818000,-99]
[11,17,173,9,30,1828532,1828440,92]
[11,17,174,10,29,1839163,1839240,-77]
[11,17,175,11,30,1849794,1849680,114]
[11,17,176,12,29,1860425,1860480,-55]
[11,17,177,13,30,1871056,1870920,136]
[11,17,178,14,29,1881687,1881720,-33]
[11,17,179,15,30,1892318,1892160,158]
[11,17,180,16,29,1902949,1902960,-11]
[11,17,181,17,30,1913580,1913400,180]
[12,15,182,1,30,1924211,1924200,11]
[12,15,183,2,29,1934842,1935000,-158]
[12,15,184,3,30,1945473,1945440,33]
[12,15,185,4,29,1956104,1956240,-136]
[12,15,186,5,30,1966735,1966680,55]
[12,15,187,6,29,1977366,1977480,-114]
[12,15,188,7,30,1987997,1987920,77]
[12,15,189,8,29,1998628,1998720,-92]
[12,15,190,9,30,2009259,2009160,99]
[12,15,191,10,29,2019890,2019960,-70]
[12,15,192,11,30,2030521,2030400,121]
[12,15,193,12,29,2041152,2041200,{"$f":"F213-G213","v":-48}]
[{"$f":"IF(D214=1,IF(A213=Yerms,1,A213+1),A213)","v":12},{"$f":"IF(MOD(A214,3)=0,15,17)","v":15},194,{"$f":"IF(D213=B213,1,D213+1)","v":13},{"$f":"IF(MOD(D214,2)=1,30,29)","v":30},2051783,{"$f":"G213+E213*PPD","v":2051640},143]
[12,15,{"$f":"C214+1","v":195},14,29,{"$f":"F214+PPM","v":2062414},2062440,-26]
[12,15,196,15,30,2073045,2072880,165]
[13,17,197,1,30,2083676,2083680,-4]
[13,17,198,2,29,2094307,2094480,-173]
[13,17,199,3,30,2104938,2104920,18]
[13,17,200,4,29,2115569,2115720,-151]
[13,17,201,5,30,2126200,2126160,40]
[13,17,202,6,29,2136831,2136960,-129]
[13,17,203,7,30,2147462,2147400,62]
[13,17,204,8,29,2158093,2158200,-107]
[13,17,205,9,30,2168724,2168640,84]
[13,17,206,10,29,2179355,2179440,-85]
[13,17,207,11,30,2189986,2189880,106]
[13,17,208,12,29,2200617,2200680,-63]
[13,17,209,13,30,2211248,2211120,128]
[13,17,210,14,29,2221879,2221920,-41]
[13,17,211,15,30,2232510,2232360,150]
[13,17,212,16,29,2243141,2243160,-19]
[13,17,213,17,30,2253772,2253600,172]
[14,17,214,1,30,2264403,2264400,3]
[14,17,215,2,29,2275034,2275200,-166]
[14,17,216,3,30,2285665,2285640,25]
[14,17,217,4,29,2296296,2296440,-144]
[14,17,218,5,30,2306927,2306880,47]
[14,17,219,6,29,2317558,2317680,-122]
[14,17,220,7,30,2328189,2328120,69]
[14,17,221,8,29,2338820,2338920,-100]
[14,17,222,9,30,2349451,2349360,91]
[14,17,223,10,29,2360082,2360160,-78]
[14,17,224,11,30,2370713,2370600,113]
[14,17,225,12,29,2381344,2381400,-56]
[14,17,226,13,30,2391975,2391840,135]
[14,17,227,14,29,2402606,2402640,-34]
[14,17,228,15,30,2413237,2413080,157]
[14,17,229,16,29,2423868,2423880,-12]
[14,17,230,17,30,2434499,2434320,179]
[15,15,231,1,30,2445130,2445120,10]
[15,15,232,2,29,2455761,2455920,-159]
[15,15,233,3,30,2466392,2466360,32]
[15,15,234,4,29,2477023,2477160,-137]
[15,15,235,5,30,2487654,2487600,54]
[15,15,236,6,29,2498285,2498400,-115]
[15,15,237,7,30,2508916,2508840,76]
[15,15,238,8,29,2519547,2519640,-93]
[15,15,239,9,30,2530178,2530080,98]
[15,15,240,10,29,2540809,2540880,-71]
[15,15,241,11,30,2551440,2551320,120]
[15,15,242,12,29,2562071,2562120,-49]
[15,15,243,13,30,2572702,2572560,142]
[15,15,244,14,29,2583333,2583360,-27]
[15,15,245,15,30,2593964,2593800,164]
[16,17,246,1,30,2604595,2604600,-5]
[16,17,247,2,29,2615226,2615400,-174]
[16,17,248,3,30,2625857,2625840,17]
[16,17,249,4,29,2636488,2636640,-152]
[16,17,250,5,30,2647119,2647080,39]
[16,17,251,6,29,2657750,2657880,-130]
[16,17,252,7,30,2668381,2668320,61]
[16,17,253,8,29,2679012,2679120,-108]
[16,17,254,9,30,2689643,2689560,83]
[16,17,255,10,29,2700274,2700360,-86]
[16,17,256,11,30,2710905,2710800,105]
[16,17,257,12,29,2721536,2721600,{"$f":"F277-G277","v":-64}]
[{"$f":"IF(D278=1,IF(A277=Yerms,1,A277+1),A277)","v":16},{"$f":"IF(MOD(A278,3)=0,15,17)","v":17},258,{"$f":"IF(D277=B277,1,D277+1)","v":13},{"$f":"IF(MOD(D278,2)=1,30,29)","v":30},2732167,{"$f":"G277+E277*PPD","v":2732040},127]
[16,17,{"$f":"C278+1","v":259},14,29,{"$f":"F278+PPM","v":2742798},2742840,-42]
[16,17,260,15,30,2753429,2753280,149]
[16,17,261,16,29,2764060,2764080,-20]
[16,17,262,17,30,2774691,2774520,171]
[17,17,263,1,30,2785322,2785320,2]
[17,17,264,2,29,2795953,2796120,-167]
[17,17,265,3,30,2806584,2806560,24]
[17,17,266,4,29,2817215,2817360,-145]
[17,17,267,5,30,2827846,2827800,46]
[17,17,268,6,29,2838477,2838600,-123]
[17,17,269,7,30,2849108,2849040,68]
[17,17,270,8,29,2859739,2859840,-101]
[17,17,271,9,30,2870370,2870280,90]
[17,17,272,10,29,2881001,2881080,-79]
[17,17,273,11,30,2891632,2891520,112]
[17,17,274,12,29,2902263,2902320,-57]
[17,17,275,13,30,2912894,2912760,134]
[17,17,276,14,29,2923525,2923560,-35]
[17,17,277,15,30,2934156,2934000,156]
[17,17,278,16,29,2944787,2944800,-13]
[17,17,279,17,30,2955418,2955240,178]
[18,15,280,1,30,2966049,2966040,9]
[18,15,281,2,29,2976680,2976840,-160]
[18,15,282,3,30,2987311,2987280,31]
[18,15,283,4,29,2997942,2998080,-138]
[18,15,284,5,30,3008573,3008520,53]
[18,15,285,6,29,3019204,3019320,-116]
[18,15,286,7,30,3029835,3029760,75]
[18,15,287,8,29,3040466,3040560,-94]
[18,15,288,9,30,3051097,3051000,97]
[18,15,289,10,29,3061728,3061800,-72]
[18,15,290,11,30,3072359,3072240,119]
[18,15,291,12,29,3082990,3083040,-50]
[18,15,292,13,30,3093621,3093480,141]
[18,15,293,14,29,3104252,3104280,-28]
[18,15,294,15,30,3114883,3114720,163]
[19,17,295,1,30,3125514,3125520,-6]
[19,17,296,2,29,3136145,3136320,-175]
[19,17,297,3,30,3146776,3146760,16]
[19,17,298,4,29,3157407,3157560,-153]
[19,17,299,5,30,3168038,3168000,38]
[19,17,300,6,29,3178669,3178800,-131]
[19,17,301,7,30,3189300,3189240,60]
[19,17,302,8,29,3199931,3200040,-109]
[19,17,303,9,30,3210562,3210480,82]
[19,17,304,10,29,3221193,3221280,-87]
[19,17,305,11,30,3231824,3231720,104]
[19,17,306,12,29,3242455,3242520,-65]
[19,17,307,13,30,3253086,3252960,126]
[19,17,308,14,29,3263717,3263760,-43]
[19,17,309,15,30,3274348,3274200,148]
[19,17,310,16,29,3284979,3285000,-21]
[19,17,311,17,30,3295610,3295440,170]
[20,17,312,1,30,3306241,3306240,1]
[20,17,313,2,29,3316872,3317040,-168]
[20,17,314,3,30,3327503,3327480,23]
[20,17,315,4,29,3338134,3338280,-146]
[20,17,316,5,30,3348765,3348720,45]
[20,17,317,6,29,3359396,3359520,-124]
[20,17,318,7,30,3370027,3369960,67]
[20,17,319,8,29,3380658,3380760,-102]
[20,17,320,9,30,3391289,3391200,89]
[20,17,321,10,29,3401920,3402000,{"$f":"F341-G341","v":-80}]
[{"$f":"IF(D342=1,IF(A341=Yerms,1,A341+1),A341)","v":20},{"$f":"IF(MOD(A342,3)=0,15,17)","v":17},322,{"$f":"IF(D341=B341,1,D341+1)","v":11},{"$f":"IF(MOD(D342,2)=1,30,29)","v":30},3412551,{"$f":"G341+E341*PPD","v":3412440},111]
[20,17,{"$f":"C342+1","v":323},12,29,{"$f":"F342+PPM","v":3423182},3423240,-58]
[20,17,324,13,30,3433813,3433680,133]
[20,17,325,14,29,3444444,3444480,-36]
[20,17,326,15,30,3455075,3454920,155]
[20,17,327,16,29,3465706,3465720,-14]
[20,17,328,17,30,3476337,3476160,177]
[21,15,329,1,30,3486968,3486960,8]
[21,15,330,2,29,3497599,3497760,-161]
[21,15,331,3,30,3508230,3508200,30]
[21,15,332,4,29,3518861,3519000,-139]
[21,15,333,5,30,3529492,3529440,52]
[21,15,334,6,29,3540123,3540240,-117]
[21,15,335,7,30,3550754,3550680,74]
[21,15,336,8,29,3561385,3561480,-95]
[21,15,337,9,30,3572016,3571920,96]
[21,15,338,10,29,3582647,3582720,-73]
[21,15,339,11,30,3593278,3593160,118]
[21,15,340,12,29,3603909,3603960,-51]
[21,15,341,13,30,3614540,3614400,140]
[21,15,342,14,29,3625171,3625200,-29]
[21,15,343,15,30,3635802,3635640,162]
[22,17,344,1,30,3646433,3646440,-7]
[22,17,345,2,29,3657064,3657240,-176]
[22,17,346,3,30,3667695,3667680,15]
[22,17,347,4,29,3678326,3678480,-154]
[22,17,348,5,30,3688957,3688920,37]
[22,17,349,6,29,3699588,3699720,-132]
[22,17,350,7,30,3710219,3710160,59]
[22,17,351,8,29,3720850,3720960,-110]
[22,17,352,9,30,3731481,3731400,81]
[22,17,353,10,29,3742112,3742200,-88]
[22,17,354,11,30,3752743,3752640,103]
[22,17,355,12,29,3763374,3763440,-66]
[22,17,356,13,30,3774005,3773880,125]
[22,17,357,14,29,3784636,3784680,-44]
[22,17,358,15,30,3795267,3795120,147]
[22,17,359,16,29,3805898,3805920,-22]
[22,17,360,17,30,3816529,3816360,169]
[1,17,361,1,30,3827160,3827160,0]
[1,17,{"$f":"C381+1","v":362},2,29,{"$f":"F381+PPM","v":3837791},3837960,-169]
[1,17,363,3,30,3848422,3848400,22]
[1,17,364,4,29,3859053,3859200,-147]
[1,17,365,5,30,3869684,3869640,44]
[1,17,366,6,29,3880315,3880440,-125]
[1,17,367,7,30,3890946,3890880,66]
[1,17,368,8,29,3901577,3901680,-103]
[1,17,369,9,30,3912208,3912120,88]
[1,17,370,10,29,3922839,3922920,-81]
[1,17,371,11,30,3933470,3933360,110]
[1,17,372,12,29,3944101,3944160,-59]
[1,17,373,13,30,3954732,3954600,132]
[1,17,{"$f":"C393+1","v":374},14,29,{"$f":"F393+PPM","v":3965363},3965400,-37]
[1,17,{"$f":"C394+1","v":375},15,30,3975994,3975840,154]
[1,17,{"$f":"C395+1","v":376},16,29,3986625,3986640,-15]
[1,17,{"$f":"C396+1","v":377},17,30,3997256,3997080,176]
[{"$f":"IF(D398=1,IF(A397=Yerms,1,A397+1),A397)","v":2},17,{"$f":"C397+1","v":378},{"$f":"IF(D397=B397,1,D397+1)","v":1},30,4007887,{"$f":"G397+E397*PPD","v":4007880},{"$f":"F398-G398","v":7}]
[2,17,379,2,29,4018518,4018680,-162]
[2,17,380,3,30,4029149,4029120,29]
[2,17,381,4,29,4039780,4039920,-140]
[2,17,382,5,30,4050411,4050360,51]
[2,17,383,6,29,4061042,4061160,-118]
[2,17,384,7,30,4071673,4071600,73]
[2,17,385,8,29,4082304,4082400,-96]
[2,{"$f":"IF(MOD(A406,3)=0,15,17)","v":17},386,9,{"$f":"IF(MOD(D406,2)=1,30,29)","v":30},4092935,4092840,95]
[2,17,387,10,29,4103566,4103640,-74]
[2,17,388,11,30,4114197,4114080,117]
[2,17,389,12,29,4124828,4124880,-52]
[2,17,390,13,30,4135459,4135320,139]
[2,17,391,14,29,4146090,4146120,-30]
[2,17,392,15,30,4156721,4156560,161]
[2,17,393,16,29,4167352,4167360,-8]
[2,17,394,17,30,4177983,4177800,183]
[3,15,395,1,30,4188614,4188600,14]
[3,15,396,2,29,4199245,4199400,-155]
[3,15,397,3,30,4209876,4209840,36]
[3,15,398,4,29,4220507,4220640,-133]
[3,15,399,5,30,4231138,4231080,58]
[3,15,400,6,29,4241769,4241880,-111]
[3,15,401,7,30,4252400,4252320,80]
[3,15,402,8,29,4263031,4263120,-89]
[3,15,403,9,30,4273662,4273560,102]
[3,15,404,10,29,4284293,4284360,-67]
[3,15,405,11,30,4294924,4294800,124]
[3,15,406,12,29,4305555,4305600,-45]
[3,15,407,13,30,4316186,4316040,146]
[3,15,408,14,29,4326817,4326840,-23]
[3,15,409,15,30,4337448,4337280,168]
[4,17,410,1,30,4348079,4348080,-1]
[4,17,411,2,29,4358710,4358880,-170]
[4,17,412,3,30,4369341,4369320,21]
[4,17,413,4,29,4379972,4380120,-148]
[4,17,414,5,30,4390603,4390560,43]
[4,17,415,6,29,4401234,4401360,-126]
[4,17,416,7,30,4411865,4411800,65]
[4,17,417,8,29,4422496,4422600,-104]
[4,17,418,9,30,4433127,4433040,87]
[4,17,419,10,29,4443758,4443840,-82]
[4,17,420,11,30,4454389,4454280,109]
[4,17,421,12,29,4465020,4465080,-60]
[4,17,422,13,30,4475651,4475520,131]
[4,17,423,14,29,4486282,4486320,-38]
[4,17,424,15,30,4496913,4496760,153]
[4,17,425,16,29,4507544,4507560,-16]
[4,17,426,17,30,4518175,4518000,175]
[5,17,427,1,30,4528806,4528800,6]
[5,17,428,2,29,4539437,4539600,-163]
[5,17,429,3,30,4550068,4550040,28]
[5,17,430,4,29,4560699,4560840,-141]
[5,17,431,5,30,4571330,4571280,50]
[5,17,432,6,29,4581961,4582080,-119]
[5,17,433,7,30,4592592,4592520,72]
[5,17,434,8,29,4603223,4603320,-97]
[5,17,435,9,30,4613854,4613760,94]
[5,17,436,10,29,4624485,4624560,-75]
[5,17,437,11,30,4635116,4635000,116]
[5,17,438,12,29,{"$f":"F457+PPM","v":4645747},4645800,-53]
[5,17,439,13,30,4656378,4656240,138]
[5,17,440,14,29,4667009,4667040,-31]
[5,17,441,15,30,4677640,4677480,160]
[{"$f":"IF(D462=1,IF(A461=Yerms,1,A461+1),A461)","v":5},17,{"$f":"C461+1","v":442},{"$f":"IF(D461=B461,1,D461+1)","v":16},29,4688271,{"$f":"G461+E461*PPD","v":4688280},{"$f":"F462-G462","v":-9}]
[5,17,443,17,30,4698902,4698720,182]
[6,15,444,1,30,4709533,4709520,13]
[6,15,445,2,29,4720164,4720320,-156]
[6,15,446,3,30,4730795,4730760,35]
[6,15,447,4,29,4741426,4741560,-134]
[6,15,448,5,30,4752057,4752000,57]
[6,15,449,6,29,4762688,4762800,-112]
[6,{"$f":"IF(MOD(A470,3)=0,15,17)","v":15},450,7,{"$f":"IF(MOD(D470,2)=1,30,29)","v":30},4773319,4773240,79]
[6,15,451,8,29,4783950,4784040,-90]
[6,15,452,9,30,4794581,4794480,101]
[6,15,453,10,29,4805212,4805280,-68]
[6,15,454,11,30,4815843,4815720,123]
[6,15,455,12,29,4826474,4826520,-46]
[6,15,456,13,30,4837105,4836960,145]
[6,15,457,14,29,4847736,4847760,-24]
[6,15,458,15,30,4858367,4858200,167]
[7,17,459,1,30,4868998,4869000,-2]
[7,17,460,2,29,4879629,4879800,-171]
[7,17,461,3,30,4890260,4890240,20]
[7,17,462,4,29,4900891,4901040,-149]
[7,17,463,5,30,4911522,4911480,42]
[7,17,464,6,29,4922153,4922280,-127]
[7,17,465,7,30,4932784,4932720,64]
[7,17,466,8,29,4943415,4943520,-105]
[7,17,467,9,30,4954046,4953960,86]
[7,17,468,10,29,4964677,4964760,-83]
[7,17,469,11,30,4975308,4975200,108]
[7,17,470,12,29,4985939,4986000,-61]
[7,17,471,13,30,4996570,4996440,130]
[7,17,472,14,29,5007201,5007240,-39]
[7,17,473,15,30,5017832,5017680,152]
[7,17,474,16,29,5028463,5028480,-17]
[7,17,475,17,30,5039094,5038920,174]
[8,17,476,1,30,5049725,5049720,5]
[8,17,477,2,29,5060356,5060520,-164]
[8,17,478,3,30,5070987,5070960,27]
[8,17,479,4,29,5081618,5081760,-142]
[8,17,480,5,30,5092249,5092200,49]
[8,17,481,6,29,5102880,5103000,-120]
[8,17,482,7,30,5113511,5113440,71]
[8,17,483,8,29,5124142,5124240,-98]
[8,17,484,9,30,5134773,5134680,93]
[8,17,485,10,29,5145404,5145480,-76]
[8,17,486,11,30,5156035,5155920,115]
[8,17,487,12,29,5166666,5166720,-54]
[8,17,488,13,30,5177297,5177160,137]
[8,17,489,14,29,5187928,5187960,-32]
[8,17,490,15,30,5198559,5198400,159]
[8,17,491,16,29,5209190,5209200,-10]
[8,17,492,17,30,5219821,5219640,181]
[9,15,493,1,30,5230452,5230440,12]
[9,15,494,2,29,5241083,5241240,-157]
[9,15,495,3,30,5251714,5251680,34]
[9,15,496,4,29,5262345,5262480,-135]
[9,15,497,5,30,5272976,5272920,56]
[9,15,498,6,29,5283607,5283720,-113]
[9,15,499,7,30,5294238,5294160,78]
[9,15,500,8,29,5304869,5304960,-91]
[9,15,501,9,30,5315500,5315400,100]
[9,15,502,10,29,{"$f":"F521+PPM","v":5326131},5326200,-69]
[9,15,503,11,30,5336762,5336640,122]
[9,15,504,12,29,5347393,5347440,-47]
[9,15,505,13,30,5358024,5357880,144]
[{"$f":"IF(D526=1,IF(A525=Yerms,1,A525+1),A525)","v":9},15,{"$f":"C525+1","v":506},{"$f":"IF(D525=B525,1,D525+1)","v":14},29,5368655,{"$f":"G525+E525*PPD","v":5368680},{"$f":"F526-G526","v":-25}]
[9,15,507,15,30,5379286,5379120,166]
[10,17,508,1,30,5389917,5389920,-3]
[10,17,509,2,29,5400548,5400720,-172]
[10,17,510,3,30,5411179,5411160,19]
[10,17,511,4,29,5421810,5421960,-150]
[10,17,512,5,30,5432441,5432400,41]
[10,17,513,6,29,5443072,5443200,-128]
[10,{"$f":"IF(MOD(A534,3)=0,15,17)","v":17},514,7,{"$f":"IF(MOD(D534,2)=1,30,29)","v":30},5453703,5453640,63]
[10,17,515,8,29,5464334,5464440,-106]
[10,17,516,9,30,5474965,5474880,85]
[10,17,517,10,29,5485596,5485680,-84]
[10,17,518,11,30,5496227,5496120,107]
[10,17,519,12,29,5506858,5506920,-62]
[10,17,520,13,30,5517489,5517360,129]
[10,17,521,14,29,5528120,5528160,-40]
[10,17,522,15,30,5538751,5538600,151]
[10,17,523,16,29,5549382,5549400,-18]
[10,17,524,17,30,5560013,5559840,173]
[11,17,525,1,30,5570644,5570640,4]
[11,17,526,2,29,5581275,5581440,-165]
[11,17,527,3,30,5591906,5591880,26]
[11,17,528,4,29,5602537,5602680,-143]
[11,17,529,5,30,5613168,5613120,48]
[11,17,530,6,29,5623799,5623920,-121]
[11,17,531,7,30,5634430,5634360,70]
[11,17,532,8,29,5645061,5645160,-99]
[11,17,533,9,30,5655692,5655600,92]
[11,17,534,10,29,5666323,5666400,-77]
[11,17,535,11,30,5676954,5676840,114]
[11,17,536,12,29,5687585,5687640,-55]
[11,17,537,13,30,5698216,5698080,136]
[11,17,538,14,29,5708847,5708880,-33]
[11,17,539,15,30,5719478,5719320,158]
[11,17,540,16,29,5730109,5730120,-11]
[11,17,541,17,30,5740740,5740560,180]
[12,15,542,1,30,5751371,5751360,11]
[12,15,543,2,29,5762002,5762160,-158]
[12,15,544,3,30,5772633,5772600,33]
[12,15,545,4,29,5783264,5783400,-136]
[12,15,546,5,30,5793895,5793840,55]
[12,15,547,6,29,5804526,5804640,-114]
[12,15,548,7,30,5815157,5815080,77]
[12,15,549,8,29,5825788,5825880,-92]
[12,15,550,9,30,5836419,5836320,99]
[12,15,551,10,29,5847050,5847120,-70]
[12,15,552,11,30,5857681,5857560,121]
[12,15,553,12,29,5868312,5868360,-48]
[12,15,554,13,30,5878943,5878800,143]
[12,15,555,14,29,5889574,5889600,-26]
[12,15,556,15,30,5900205,5900040,165]
[13,17,557,1,30,5910836,5910840,-4]
[13,17,558,2,29,5921467,5921640,-173]
[13,17,559,3,30,5932098,5932080,18]
[13,17,560,4,29,5942729,5942880,-151]
[13,17,561,5,30,5953360,5953320,40]
[13,17,562,6,29,5963991,5964120,-129]
[13,17,563,7,30,5974622,5974560,62]
[13,17,564,8,29,5985253,5985360,-107]
[13,17,565,9,30,5995884,5995800,84]
[13,17,566,10,29,{"$f":"F585+PPM","v":6006515},6006600,-85]
[13,17,567,11,30,6017146,6017040,106]
[13,17,568,12,29,6027777,6027840,-63]
[13,17,569,13,30,6038408,6038280,128]
[{"$f":"IF(D590=1,IF(A589=Yerms,1,A589+1),A589)","v":13},17,{"$f":"C589+1","v":570},{"$f":"IF(D589=B589,1,D589+1)","v":14},29,6049039,{"$f":"G589+E589*PPD","v":6049080},{"$f":"F590-G590","v":-41}]
[13,17,571,15,30,6059670,6059520,150]
[13,17,572,16,29,6070301,6070320,-19]
[13,17,573,17,30,6080932,6080760,172]
[14,17,574,1,30,6091563,6091560,3]
[14,17,575,2,29,6102194,6102360,-166]
[14,17,576,3,30,6112825,6112800,25]
[14,17,577,4,29,6123456,6123600,-144]
[14,{"$f":"IF(MOD(A598,3)=0,15,17)","v":17},578,5,{"$f":"IF(MOD(D598,2)=1,30,29)","v":30},6134087,6134040,47]
[14,17,579,6,29,6144718,6144840,-122]
[14,17,580,7,30,6155349,6155280,69]
[14,17,581,8,29,6165980,6166080,-100]
[14,17,582,9,30,6176611,6176520,91]
[14,17,583,10,29,6187242,6187320,-78]
[14,17,584,11,30,6197873,6197760,113]
[14,17,585,12,29,6208504,6208560,-56]
[14,17,586,13,30,6219135,6219000,135]
[14,17,587,14,29,6229766,6229800,-34]
[14,17,588,15,30,6240397,6240240,157]
[14,17,589,16,29,6251028,6251040,-12]
[14,17,590,17,30,6261659,6261480,179]
[15,15,591,1,30,6272290,6272280,10]
[15,15,592,2,29,6282921,6283080,-159]
[15,15,593,3,30,6293552,6293520,32]
[15,15,594,4,29,6304183,6304320,-137]
[15,15,595,5,30,6314814,6314760,54]
[15,15,596,6,29,6325445,6325560,-115]
[15,15,597,7,30,6336076,6336000,76]
[15,15,598,8,29,6346707,6346800,-93]
[15,15,599,9,30,6357338,6357240,98]
[15,15,600,10,29,6367969,6368040,-71]
[15,15,601,11,30,6378600,6378480,120]
[15,15,602,12,29,6389231,6389280,-49]
[15,15,603,13,30,6399862,6399720,142]
[15,15,604,14,29,6410493,6410520,-27]
[15,15,605,15,30,6421124,6420960,164]
[16,17,606,1,30,6431755,6431760,-5]
[16,17,607,2,29,6442386,6442560,-174]
[16,17,608,3,30,6453017,6453000,17]
[16,17,609,4,29,6463648,6463800,-152]
[16,17,610,5,30,6474279,6474240,39]
[16,17,611,6,29,6484910,6485040,-130]
[16,17,612,7,30,6495541,6495480,61]
[16,17,613,8,29,6506172,6506280,-108]
[16,17,614,9,30,6516803,6516720,83]
[16,17,615,10,29,6527434,6527520,-86]
[16,17,616,11,30,6538065,6537960,105]
[16,17,617,12,29,6548696,6548760,-64]
[16,17,618,13,30,6559327,6559200,127]
[16,17,619,14,29,6569958,6570000,-42]
[16,17,620,15,30,6580589,6580440,149]
[16,17,621,16,29,6591220,6591240,-20]
[16,17,622,17,30,6601851,6601680,171]
[17,17,623,1,30,6612482,6612480,2]
[17,17,624,2,29,6623113,6623280,-167]
[17,17,625,3,30,6633744,6633720,24]
[17,17,626,4,29,6644375,6644520,-145]
[17,17,627,5,30,6655006,6654960,46]
[17,17,628,6,29,6665637,6665760,-123]
[17,17,629,7,30,6676268,6676200,68]
[17,17,630,8,29,{"$f":"F649+PPM","v":6686899},6687000,-101]
[17,17,631,9,30,6697530,6697440,90]
[17,17,632,10,29,6708161,6708240,-79]
[17,17,633,11,30,6718792,6718680,112]
[{"$f":"IF(D654=1,IF(A653=Yerms,1,A653+1),A653)","v":17},17,{"$f":"C653+1","v":634},{"$f":"IF(D653=B653,1,D653+1)","v":12},29,6729423,{"$f":"G653+E653*PPD","v":6729480},{"$f":"F654-G654","v":-57}]
[17,17,635,13,30,6740054,6739920,134]
[17,17,636,14,29,6750685,6750720,-35]
[17,17,637,15,30,6761316,6761160,156]
[17,17,638,16,29,6771947,6771960,-13]
[17,17,639,17,30,6782578,6782400,178]
[18,15,640,1,30,6793209,6793200,9]
[18,15,641,2,29,6803840,6804000,-160]
[18,{"$f":"IF(MOD(A662,3)=0,15,17)","v":15},642,3,{"$f":"IF(MOD(D662,2)=1,30,29)","v":30},6814471,6814440,31]
[18,15,643,4,29,6825102,6825240,-138]
[18,15,644,5,30,6835733,6835680,53]
[18,15,645,6,29,6846364,6846480,-116]
[18,15,646,7,30,6856995,6856920,75]
[18,15,647,8,29,6867626,6867720,-94]
[18,15,648,9,30,6878257,6878160,97]
[18,15,649,10,29,6888888,6888960,-72]
[18,15,650,11,30,6899519,6899400,119]
[18,15,651,12,29,6910150,6910200,-50]
[18,15,652,13,30,6920781,6920640,141]
[18,15,653,14,29,6931412,6931440,-28]
[18,15,654,15,30,6942043,6941880,163]
[19,17,655,1,30,6952674,6952680,-6]
[19,17,656,2,29,6963305,6963480,-175]
[19,17,657,3,30,6973936,6973920,16]
[19,17,658,4,29,6984567,6984720,-153]
[19,17,659,5,30,6995198,6995160,38]
[19,17,660,6,29,7005829,7005960,-131]
[19,17,661,7,30,7016460,7016400,60]
[19,17,662,8,29,7027091,7027200,-109]
[19,17,663,9,30,7037722,7037640,82]
[19,17,664,10,29,7048353,7048440,-87]
[19,17,665,11,30,7058984,7058880,104]
[19,17,666,12,29,7069615,7069680,-65]
[19,17,667,13,30,7080246,7080120,126]
[19,17,668,14,29,7090877,7090920,-43]
[19,17,669,15,30,7101508,7101360,148]
[19,17,670,16,29,7112139,7112160,-21]
[19,17,671,17,30,7122770,7122600,170]
[20,17,672,1,30,7133401,7133400,1]
[20,17,673,2,29,7144032,7144200,-168]
[20,17,674,3,30,7154663,7154640,23]
[20,17,675,4,29,7165294,7165440,-146]
[20,17,676,5,30,7175925,7175880,45]
[20,17,677,6,29,7186556,7186680,-124]
[20,17,678,7,30,7197187,7197120,67]
[20,17,679,8,29,7207818,7207920,-102]
[20,17,680,9,30,7218449,7218360,89]
[20,17,681,10,29,7229080,7229160,-80]
[20,17,682,11,30,7239711,7239600,111]
[20,17,683,12,29,7250342,7250400,-58]
[20,17,684,13,30,7260973,7260840,133]
[20,17,685,14,29,7271604,7271640,-36]
[20,17,686,15,30,7282235,7282080,155]
[20,17,687,16,29,7292866,7292880,-14]
[20,17,688,17,30,7303497,7303320,177]
[21,15,689,1,30,7314128,7314120,8]
[21,15,690,2,29,7324759,7324920,-161]
[21,15,691,3,30,7335390,7335360,30]
[21,15,692,4,29,7346021,7346160,-139]
[21,15,693,5,30,7356652,7356600,52]
[21,15,694,6,29,{"$f":"F713+PPM","v":7367283},7367400,-117]
[21,15,695,7,30,7377914,7377840,74]
[21,15,696,8,29,7388545,7388640,-95]
[21,15,697,9,30,7399176,7399080,96]
[{"$f":"IF(D718=1,IF(A717=Yerms,1,A717+1),A717)","v":21},15,{"$f":"C717+1","v":698},{"$f":"IF(D717=B717,1,D717+1)","v":10},29,7409807,{"$f":"G717+E717*PPD","v":7409880},{"$f":"F718-G718","v":-73}]
[21,15,699,11,30,7420438,7420320,118]
[21,15,700,12,29,7431069,7431120,-51]
[21,15,701,13,30,7441700,7441560,140]
[21,15,702,14,29,7452331,7452360,-29]
[21,15,703,15,30,7462962,7462800,162]
[22,17,704,1,30,7473593,7473600,-7]
[22,17,705,2,29,7484224,7484400,-176]
[22,{"$f":"IF(MOD(A726,3)=0,15,17)","v":17},706,3,{"$f":"IF(MOD(D726,2)=1,30,29)","v":30},7494855,7494840,15]
[22,17,707,4,29,7505486,7505640,-154]
[22,17,708,5,30,7516117,7516080,37]
[22,17,709,6,29,7526748,7526880,-132]
[22,17,710,7,30,7537379,7537320,59]
[22,17,711,8,29,7548010,7548120,-110]
[22,17,712,9,30,7558641,7558560,81]
[22,17,713,10,29,7569272,7569360,-88]
[22,17,714,11,30,7579903,7579800,103]
[22,17,715,12,29,7590534,7590600,-66]
[22,17,716,13,30,7601165,7601040,125]
[22,17,717,14,29,7611796,7611840,-44]
[22,17,718,15,30,7622427,7622280,147]
[22,17,719,16,29,7633058,7633080,-22]
[22,17,720,17,30,7643689,7643520,169]
[1,17,721,1,30,7654320,7654320,0]
[1,17,722,2,29,7664951,7665120,-169]
[1,17,723,3,30,7675582,7675560,22]
[1,17,724,4,29,7686213,7686360,-147]
[1,17,725,5,30,7696844,7696800,44]
[1,17,726,6,29,7707475,7707600,-125]
[1,17,727,7,30,7718106,7718040,66]
[1,17,728,8,29,7728737,7728840,-103]
[1,17,729,9,30,7739368,7739280,88]
[1,17,730,10,29,7749999,7750080,-81]
[1,17,731,11,30,7760630,7760520,110]
[1,17,732,12,29,7771261,7771320,-59]
[1,17,733,13,30,7781892,7781760,132]
[1,17,734,14,29,7792523,7792560,-37]
[1,17,735,15,30,7803154,7803000,154]
[1,17,736,16,29,7813785,7813800,-15]
[1,17,737,17,30,7824416,7824240,176]

{"sheet":"Yerms","index":2,"n_rows":46,"n_cols":7,"rows_kept":46}
["Month in Cycle","Yerm","New Yerm Moment","Elapsed","Difference","Top","Yerm Start"]
[{"$f":"StartMonth","v":1},1,{"$f":"(A2-1)*PPM","v":0},{"$f":"LOOKUP(A2,Data!C$21:C$757,Data!G$21:G$757)","v":0},{"$f":"IF(AND(StartMonth>15,MOD(B2,3)=0),NA(),C2-D2)","v":0},550,{"$f":"A2-StartMonth+1","v":1}]
[{"$f":"A2+IF(MOD(B2,3)=0,15,17)","v":18},{"$f":"MOD(B2,Yerms)+1","v":2},{"$f":"(A3-1)*PPM","v":180727},{"$f":"LOOKUP(A3,Data!C$21:C$757,Data!G$21:G$757)","v":180720},7,{"$f":"F2","v":550},18]
[{"$f":"A3+IF(MOD(B3,3)=0,15,17)","v":35},{"$f":"MOD(B3,Yerms)+1","v":3},{"$f":"(A4-1)*PPM","v":361454},{"$f":"LOOKUP(A4,Data!C$21:C$757,Data!G$21:G$757)","v":361440},14,{"$f":"F3","v":550},35]
[50,4,520919,{"$f":"LOOKUP(A5,Data!C$21:C$757,Data!G$21:G$757)","v":520920},-1,550,50]
[67,5,701646,{"$f":"LOOKUP(A6,Data!C$21:C$757,Data!G$21:G$757)","v":701640},6,550,67]
[84,6,882373,{"$f":"LOOKUP(A7,Data!C$21:C$757,Data!G$21:G$757)","v":882360},13,550,84]
[99,7,1041838,{"$f":"LOOKUP(A8,Data!C$21:C$757,Data!G$21:G$757)","v":1041840},-2,550,99]
[116,8,1222565,{"$f":"LOOKUP(A9,Data!C$21:C$757,Data!G$21:G$757)","v":1222560},5,550,116]
[133,9,1403292,{"$f":"LOOKUP(A10,Data!C$21:C$757,Data!G$21:G$757)","v":1403280},12,550,133]
[148,10,1562757,{"$f":"LOOKUP(A11,Data!C$21:C$757,Data!G$21:G$757)","v":1562760},-3,550,148]
[165,11,1743484,{"$f":"LOOKUP(A12,Data!C$21:C$757,Data!G$21:G$757)","v":1743480},4,550,165]
[182,12,1924211,{"$f":"LOOKUP(A13,Data!C$21:C$757,Data!G$21:G$757)","v":1924200},11,550,182]
[197,13,2083676,{"$f":"LOOKUP(A14,Data!C$21:C$757,Data!G$21:G$757)","v":2083680},-4,550,197]
[214,14,2264403,{"$f":"LOOKUP(A15,Data!C$21:C$757,Data!G$21:G$757)","v":2264400},3,550,214]
[231,15,2445130,{"$f":"LOOKUP(A16,Data!C$21:C$757,Data!G$21:G$757)","v":2445120},10,550,231]
[246,16,2604595,{"$f":"LOOKUP(A17,Data!C$21:C$757,Data!G$21:G$757)","v":2604600},-5,550,246]
[263,17,2785322,{"$f":"LOOKUP(A18,Data!C$21:C$757,Data!G$21:G$757)","v":2785320},2,550,263]
[280,18,2966049,{"$f":"LOOKUP(A19,Data!C$21:C$757,Data!G$21:G$757)","v":2966040},9,550,280]
[295,19,3125514,{"$f":"LOOKUP(A20,Data!C$21:C$757,Data!G$21:G$757)","v":3125520},-6,550,295]
[312,20,3306241,{"$f":"LOOKUP(A21,Data!C$21:C$757,Data!G$21:G$757)","v":3306240},1,550,312]
[329,21,3486968,{"$f":"LOOKUP(A22,Data!C$21:C$757,Data!G$21:G$757)","v":3486960},8,550,329]
[344,22,3646433,{"$f":"LOOKUP(A23,Data!C$21:C$757,Data!G$21:G$757)","v":3646440},-7,550,344]
[{"$f":"A23+IF(MOD(B23,3)=0,15,17)","v":361},{"$f":"MOD(B23,Yerms)+1","v":1},{"$f":"(A24-1)*PPM","v":3827160},{"$f":"LOOKUP(A24,Data!C$21:C$757,Data!G$21:G$757)","v":3827160},0,{"$f":"F23","v":550},{"$f":"A24-StartMonth+1","v":361}]
[378,2,4007887,{"$f":"LOOKUP(A25,Data!C$21:C$757,Data!G$21:G$757)","v":4007880},7,550,378]
[395,3,4188614,{"$f":"LOOKUP(A26,Data!C$21:C$757,Data!G$21:G$757)","v":4188600},14,550,395]
[410,4,4348079,{"$f":"LOOKUP(A27,Data!C$21:C$757,Data!G$21:G$757)","v":4348080},-1,550,410]
[427,5,4528806,{"$f":"LOOKUP(A28,Data!C$21:C$757,Data!G$21:G$757)","v":4528800},6,550,427]
[444,6,4709533,{"$f":"LOOKUP(A29,Data!C$21:C$757,Data!G$21:G$757)","v":4709520},13,550,444]
[459,7,4868998,{"$f":"LOOKUP(A30,Data!C$21:C$757,Data!G$21:G$757)","v":4869000},-2,550,459]
[476,8,5049725,{"$f":"LOOKUP(A31,Data!C$21:C$757,Data!G$21:G$757)","v":5049720},5,550,476]
[493,9,5230452,{"$f":"LOOKUP(A32,Data!C$21:C$757,Data!G$21:G$757)","v":5230440},12,550,493]
[508,10,5389917,{"$f":"LOOKUP(A33,Data!C$21:C$757,Data!G$21:G$757)","v":5389920},-3,550,508]
[525,11,5570644,{"$f":"LOOKUP(A34,Data!C$21:C$757,Data!G$21:G$757)","v":5570640},{"$f":"IF(AND(StartMonth>15,MOD(B34,3)=0),NA(),C34-D34)","v":4},550,525]
[542,12,5751371,{"$f":"LOOKUP(A35,Data!C$21:C$757,Data!G$21:G$757)","v":5751360},11,550,542]
[557,13,5910836,{"$f":"LOOKUP(A36,Data!C$21:C$757,Data!G$21:G$757)","v":5910840},-4,550,557]
[574,14,6091563,{"$f":"LOOKUP(A37,Data!C$21:C$757,Data!G$21:G$757)","v":6091560},3,550,574]
[591,15,6272290,{"$f":"LOOKUP(A38,Data!C$21:C$757,Data!G$21:G$757)","v":6272280},10,550,591]
[606,16,6431755,{"$f":"LOOKUP(A39,Data!C$21:C$757,Data!G$21:G$757)","v":6431760},-5,550,606]
[623,17,6612482,{"$f":"LOOKUP(A40,Data!C$21:C$757,Data!G$21:G$757)","v":6612480},2,550,623]
[640,18,6793209,{"$f":"LOOKUP(A41,Data!C$21:C$757,Data!G$21:G$757)","v":6793200},9,550,640]
[655,19,6952674,{"$f":"LOOKUP(A42,Data!C$21:C$757,Data!G$21:G$757)","v":6952680},-6,550,655]
[672,20,7133401,{"$f":"LOOKUP(A43,Data!C$21:C$757,Data!G$21:G$757)","v":7133400},1,550,672]
[689,21,7314128,{"$f":"LOOKUP(A44,Data!C$21:C$757,Data!G$21:G$757)","v":7314120},8,550,689]
[704,22,7473593,{"$f":"LOOKUP(A45,Data!C$21:C$757,Data!G$21:G$757)","v":7473600},-7,550,704]
[721,1,7654320,{"$f":"LOOKUP(A46,Data!C$21:C$757,Data!G$21:G$757)","v":7654320},0,550,721]

{"sheet":"Rules","index":3,"n_rows":11,"n_cols":3,"rows_kept":11}
["odd-numbered months have 30 days, even numbered months have 29 days"]
["yerms have 17 months (9 full, 8 deficient) or 15 months (8 full, 7 deficient)"]
["length of 17-month yerm =",{"$f":"(9*30)+(8*29)","v":502},"days"]
["length of 15-month yerm =",{"$f":"(8*30)+(7*29)","v":443},"days"]
["yerms are numbered from yerm #1"]
["if yerm# is divisible by 3 then it has 15 months, otherwise it has 17 months"]
["repeating pattern = 17+17+15 = ",{"$f":"17+17+15","v":49},"months"]
["which is repeated",{"$f":"INT(MPC/B7)","v":7},"times"]
["to make a subtotal of",{"$f":"3*B8","v":21},"yerms"]
["full cycle has",{"$f":"Yerms","v":22},"yerms"]
[{"$f":"\"The last yerm #\"&Yerms&\" has 17 months.\"","v":"The last yerm #22 has 17 months."}]

{"sheet":"Zoom","index":4,"n_rows":7,"n_cols":6,"rows_kept":7}
[0,"= Current Zoom Level"]
["Level","Months","MajorTick","MinorTick","Shift","Connect"]
[{"$f":"ROW()-3","v":0},720,49,7,null,false]
[1,392,49,7,{"$f":"B5","v":196},false]
[2,196,14,2,{"$f":"B6","v":98},false]
[3,98,7,1,49,true]
[4,49,2,1,49,true]

{"sheet":"Labels","index":5,"n_rows":26,"n_cols":3,"rows_kept":26}
["Month","Hours",{"$f":"\"Span \"&B2-B26&\"h\"","v":"Span 72h"}]
[721,36]
[{"$f":"A2","v":721},{"$f":"B2-3","v":33}]
[{"$f":"A3","v":721},{"$f":"B3-3","v":30}]
[{"$f":"A4","v":721},27]
[{"$f":"A5","v":721},24]
[721,21]
[721,18]
[721,15]
[721,12]
[721,9]
[721,6]
[721,3]
[721,0]
[721,-3]
[721,-6]
[721,-9]
[721,-12]
[721,-15]
[721,-18]
[721,-21]
[721,-24]
[721,-27]
[721,-30]
[721,-33]
[721,-36]