{"text_format":"3","workbook":"xlsx","n_sheets":7,"sheets":["Chart","Data","Years","Years2","Rules","Zoom","Labels"],"not_rendered":{"charts":1,"macros":1,"defined_names":16},"read":"whole","date_system":"1900"}

{"sheet":"Chart","index":0,"n_rows":38,"n_cols":17,"rows_kept":38}
["Lunar Cycle Jitter:  McKenna-Meyer Goddess Calendar"]
["http://www.fractal-timewave.com/mmgc/mmgc.htm"]
[{"$f":"\"Each lunar cycle contains \"&MPC&\" months (\"&FMPC&\" full, \"&DMPC&\" deficient) = \"&DPC&\" days = \"&reducefraction(DPC,7,FALSE,FALSE,TRUE)&\" weeks.\"","v":"Each lunar cycle contains 3055 months (1621 full, 1434 deficient) = 90216 days = 12888 weeks."}]
["Lunar years have 13 lunar months, even-numbered months have 29 days,"]
["odd-numbered months have 30 days, except that one day is removed from the last month"]
["of year numbers divisible by 10 or 235.  Each calendar cycle contains 2 lunar cycles = 470 lunar years."]
["Common year FDFDFDFDFDFDF=384 days, leap FDFDFDFDFDFDD=383 days."]
[{"$f":"\"Mean month = \"&\"29+\"&reducefraction(FMPC,MPC,FALSE,FALSE,TRUE)&\" days = 29d 12h 44m \"&reducefraction(240*(360*FMPC-191*MPC),MPC,FALSE,FALSE,TRUE)&\" seconds or about 29\"&MID(FMPC/MPC,2,20)&\" days = 29d 12h 44m \"&ROUND(240*(360*FMPC-191*MPC)/MPC,6)&\" seconds.\"","v":"Mean month = 29+1621/3055 days = 29d 12h 44m 4+196/611 seconds or about 29.530605564648118 days = 29d 12h 44m 4.320786 seconds."}]
[{"$f":"\"Duration per ''Part'' = 1/\"&MPC&\" day = \"&reducefraction(24,MPC,FALSE,FALSE,TRUE)&\" hour = \"&reducefraction(1440,MPC,FALSE,FALSE,TRUE)&\" minutes = \"&reducefraction(86400,MPC,FALSE,FALSE,TRUE)&\" seconds;  one hour = \"&reducefraction(MPC,24,FALSE,FALSE,TRUE)&\" parts.\"","v":"Duration per ''Part'' = 1/3055 day = 24/3055 hour = 288/611 minutes = 28+172/611 seconds;  one hour = 127+7/24 parts."}]
[]
[]
[{"$nulls":16},false]
{"$rows_empty":9}
[{"$nulls":16},13]
[{"$nulls":16},"Selected"]
[{"$nulls":16},"Month"]
[{"$nulls":16},"in Year"]
[{"$nulls":16},"(1 to 13)"]
{"$rows_empty":7}
[{"$nulls":16},2]
[{"$nulls":16},"Selected"]
[{"$nulls":16},"Month 2"]
[{"$nulls":16},"in Year"]
[{"$nulls":16},"(1 to 13)"]

{"sheet":"Data","index":1,"n_rows":6143,"n_cols":8,"rows_kept":6143}
["Lunar Cycle Jitter Evaluator"]
["by Dr. Irv Bromberg, University of Toronto, Canada"]
["http://individual.utoronto.ca/intervalmath/jitter/index.html",null,null,"Jitter","(parts)"]
[{"$nulls":3},{"$f":"MAX(H:H)","v":2617},"maximum",{"$f":"reducefraction(JitterMax*MPC,MPC,FALSE,FALSE,FALSE)","v":"2617"}]
["Months per Cycle (Parts per Day):",3055,"months (parts)",{"$f":"MIN(H:H)","v":-5672},"minimum",{"$f":"reducefraction(JitterMin*MPC,MPC,FALSE,FALSE,FALSE)","v":"–(5672)"}]
["30-day Months per Cycle:",1621,"months",{"$f":"D4-D5","v":8289},"range",{"$f":"reducefraction(JitterRange*MPC,MPC,FALSE,FALSE,FALSE)","v":"8289"}]
["29-day Months per Cycle:",{"$f":"MPC-FMPC","v":1434},"months",{"$f":"\"Jitter range = \"&F6&\" parts = \"&reducefraction(F6*24,MPC,FALSE,FALSE,FALSE)&\" hours\"","v":"Jitter range = 8289 parts = 65 + 361 / 3055 hours"}]
["Days per Cycle (Parts per Month):",{"$f":"29*MPC+FMPC","v":90216},"days (parts)"]
["Yerms per Cycle:",{"$f":"2*DPC-59*MPC","v":187},"yerms","Limits for Chart:"]
["Mean Month:",{"$f":"\"29 + \"&reducefraction(FMPC,MPC,FALSE,FALSE,FALSE)","v":"29 + 1621 / 3055"},"days","x","y","Hours"]
["Mean Month >29d:",{"$f":"FMPC/MPC","v":{"v":0.5306055646481178,"d":"0.530605564648118"}},"days",{"$f":"A21","v":1},{"$f":"JitterMax","v":2617},{"$f":"E11*24/MPC","v":20.559083469721767}]
["Mean Month >29d 12h 44m:",{"$f":"reducefraction(240*(360*FMPC-191*MPC),MPC,FALSE,FALSE,TRUE)","v":"4+196/611"},"seconds",{"$f":"D11+MPC*2","v":6111},{"$f":"E11","v":2617},{"$f":"E12*24/MPC","v":20.559083469721767}]
["… or approximately:",{"$f":"240*(360*FMPC-191*MPC)/MPC","v":4.3207855973813425},"seconds"]
[{"$nulls":3},{"$f":"D11","v":1},0]
[{"$nulls":3},{"$f":"D12","v":6111},0]
[]
[{"$nulls":3},{"$f":"A21","v":1},{"$f":"JitterMin","v":-5672},{"$f":"E17*24/MPC","v":-44.55908346972177}]
["Duration per Part:",{"$f":"reducefraction(1440,MPC,FALSE,FALSE,FALSE)","v":"288 / 611"},"minutes",{"$f":"D12","v":6111},{"$f":"E17","v":-5672},{"$f":"E18*24/MPC","v":-44.55908346972177}]
[]
["Month in Cycle","Lunar Year","Month in Year","Short Month?","Month Length","New Month Moment","Elapsed","Difference"]
[1,1,1,{"$f":"AND(OR(MOD(B21,235)=0,MOD(B21,10)=0),C21=13)","v":false},{"$f":"IF(MOD(C21,2)=1,30,29)-IF(D21,1,0)","v":30},0,0,{"$f":"F21-G21","v":0}]
[{"$f":"A21+1","v":2},{"$f":"IF(C22=1,B21+1,B21)","v":1},{"$f":"IF(C21=13,1,C21+1)","v":2},{"$f":"AND(OR(MOD(B22,235)=0,MOD(B22,10)=0),C22=13)","v":false},{"$f":"IF(MOD(C22,2)=1,30,29)-IF(D22,1,0)","v":29},{"$f":"F21+PPM","v":90216},{"$f":"G21+E21*PPD","v":91650},-1434]
[{"$f":"A22+1","v":3},1,{"$f":"IF(C22=13,1,C22+1)","v":3},false,30,{"$f":"F22+PPM","v":180432},180245,187]
[4,1,4,false,29,270648,271895,-1247]
[5,1,5,false,30,360864,360490,374]
[6,1,6,false,29,451080,452140,-1060]
[7,1,7,false,30,541296,540735,561]
[8,1,8,false,29,631512,632385,-873]
[9,1,9,false,30,721728,720980,748]
[10,1,10,false,29,811944,812630,-686]
[11,1,11,false,30,902160,901225,935]
[12,1,12,false,29,992376,992875,-499]
[13,1,13,false,30,1082592,1081470,1122]
[14,2,1,false,30,1172808,1173120,-312]
[15,2,2,false,29,1263024,1264770,-1746]
[16,2,3,false,30,1353240,1353365,-125]
[17,2,4,false,29,1443456,1445015,-1559]
[18,2,5,false,30,1533672,1533610,62]
[19,2,6,false,29,1623888,1625260,-1372]
[20,2,7,false,30,1714104,1713855,249]
[21,2,8,false,29,1804320,1805505,-1185]
[22,2,9,false,30,1894536,1894100,436]
[23,2,10,false,29,1984752,1985750,-998]
[24,2,11,false,30,2074968,2074345,623]
[25,2,12,false,29,2165184,2165995,-811]
[26,2,13,false,30,2255400,2254590,810]
[27,3,1,false,30,2345616,2346240,-624]
[28,3,2,false,29,2435832,2437890,-2058]
[29,3,3,false,30,2526048,2526485,-437]
[30,3,4,false,29,2616264,2618135,-1871]
[31,3,5,false,30,2706480,2706730,-250]
[32,3,6,false,29,2796696,2798380,-1684]
[33,3,7,false,30,2886912,2886975,-63]
[34,3,8,false,29,2977128,2978625,-1497]
[35,3,9,false,30,3067344,3067220,124]
[{"$f":"A55+1","v":36},3,10,false,29,3157560,3158870,-1310]
[37,3,11,false,30,3247776,3247465,311]
[38,3,12,false,29,3337992,3339115,-1123]
[39,3,13,false,30,3428208,3427710,498]
[40,4,1,false,30,3518424,3519360,-936]
[41,4,2,false,29,3608640,3611010,-2370]
[42,4,3,false,30,3698856,3699605,-749]
[43,4,4,false,29,3789072,3791255,-2183]
[44,4,5,false,30,3879288,3879850,-562]
[45,4,6,false,29,3969504,3971500,-1996]
[46,4,7,false,30,4059720,4060095,-375]
[47,4,8,false,29,4149936,4151745,-1809]
[48,4,9,false,30,4240152,4240340,-188]
[49,4,10,false,29,4330368,4331990,-1622]
[50,4,11,false,30,4420584,4420585,-1]
[51,4,12,false,29,4510800,4512235,-1435]
[52,4,13,false,30,4601016,4600830,186]
[53,5,1,false,30,4691232,4692480,-1248]
[54,5,2,false,29,4781448,4784130,-2682]
[55,5,3,false,30,4871664,4872725,-1061]
[56,5,4,false,29,4961880,4964375,-2495]
[57,5,5,false,30,5052096,5052970,-874]
[58,5,6,false,29,5142312,5144620,-2308]
[59,5,7,false,30,5232528,5233215,-687]
[60,5,8,false,29,5322744,5324865,-2121]
[61,5,9,false,30,5412960,5413460,-500]
[62,5,10,false,29,5503176,5505110,-1934]
[63,5,11,false,30,5593392,5593705,-313]
[64,5,12,false,29,5683608,5685355,-1747]
[65,5,13,false,30,5773824,5773950,{"$f":"F85-G85","v":-126}]
[66,{"$f":"IF(C86=1,B85+1,B85)","v":6},1,{"$f":"AND(OR(MOD(B86,235)=0,MOD(B86,10)=0),C86=13)","v":false},{"$f":"IF(MOD(C86,2)=1,30,29)-IF(D86,1,0)","v":30},5864040,{"$f":"G85+E85*PPD","v":5865600},-1560]
[67,6,{"$f":"IF(C86=13,1,C86+1)","v":2},false,29,{"$f":"F86+PPM","v":5954256},5957250,-2994]
[68,6,3,false,30,6044472,6045845,-1373]
[69,6,4,false,29,6134688,6137495,-2807]
[70,6,5,false,30,6224904,6226090,-1186]
[71,6,6,false,29,6315120,6317740,-2620]
[72,6,7,false,30,6405336,6406335,-999]
[73,6,8,false,29,6495552,6497985,-2433]
[74,6,9,false,30,6585768,6586580,-812]
[75,6,10,false,29,6675984,6678230,-2246]
[76,6,11,false,30,6766200,6766825,-625]
[77,6,12,false,29,6856416,6858475,-2059]
[78,6,13,false,30,6946632,6947070,-438]
[79,7,1,false,30,7036848,7038720,-1872]
[80,7,2,false,29,7127064,7130370,-3306]
[81,7,3,false,30,7217280,7218965,-1685]
[82,7,4,false,29,7307496,7310615,-3119]
[83,7,5,false,30,7397712,7399210,-1498]
[84,7,6,false,29,7487928,7490860,-2932]
[85,7,7,false,30,7578144,7579455,-1311]
[86,7,8,false,29,7668360,7671105,-2745]
[87,7,9,false,30,7758576,7759700,-1124]
[88,7,10,false,29,7848792,7851350,-2558]
[89,7,11,false,30,7939008,7939945,-937]
[90,7,12,false,29,8029224,8031595,-2371]
[91,7,13,false,30,8119440,8120190,-750]
[92,8,1,false,30,8209656,8211840,-2184]
[93,8,2,false,29,8299872,8303490,-3618]
[94,8,3,false,30,8390088,8392085,-1997]
[95,8,4,false,29,8480304,8483735,-3431]
[96,8,5,false,30,8570520,8572330,-1810]
[97,8,6,false,29,8660736,8663980,-3244]
[98,8,7,false,30,8750952,8752575,-1623]
[99,8,8,false,29,8841168,8844225,-3057]
[{"$f":"A119+1","v":100},8,9,false,30,8931384,8932820,-1436]
[101,8,10,false,29,9021600,9024470,-2870]
[102,8,11,false,30,9111816,9113065,-1249]
[103,8,12,false,29,9202032,9204715,-2683]
[104,8,13,false,30,9292248,9293310,-1062]
[105,9,1,false,30,9382464,9384960,-2496]
[106,9,2,false,29,9472680,9476610,-3930]
[107,9,3,false,30,9562896,9565205,-2309]
[108,9,4,false,29,9653112,9656855,-3743]
[109,9,5,false,30,9743328,9745450,-2122]
[110,9,6,false,29,9833544,9837100,-3556]
[111,9,7,false,30,9923760,9925695,-1935]
[112,9,8,false,29,10013976,10017345,-3369]
[113,9,9,false,30,10104192,10105940,-1748]
[114,9,10,false,29,10194408,10197590,-3182]
[115,9,11,false,30,10284624,10286185,-1561]
[116,9,12,false,29,10374840,10377835,-2995]
[117,9,13,false,30,10465056,10466430,-1374]
[118,10,1,false,30,10555272,10558080,-2808]
[119,10,2,false,29,10645488,10649730,-4242]
[120,10,3,false,30,10735704,10738325,-2621]
[121,10,4,false,29,10825920,10829975,-4055]
[122,10,5,false,30,10916136,10918570,-2434]
[123,10,6,false,29,11006352,11010220,-3868]
[124,10,7,false,30,11096568,11098815,-2247]
[125,10,8,false,29,11186784,11190465,-3681]
[126,10,9,false,30,11277000,11279060,-2060]
[127,10,10,false,29,11367216,11370710,-3494]
[128,10,11,false,30,11457432,11459305,-1873]
[129,10,12,false,29,11547648,11550955,{"$f":"F149-G149","v":-3307}]
[130,{"$f":"IF(C150=1,B149+1,B149)","v":10},13,{"$f":"AND(OR(MOD(B150,235)=0,MOD(B150,10)=0),C150=13)","v":true},{"$f":"IF(MOD(C150,2)=1,30,29)-IF(D150,1,0)","v":29},11637864,{"$f":"G149+E149*PPD","v":11639550},-1686]
[131,11,{"$f":"IF(C150=13,1,C150+1)","v":1},false,30,{"$f":"F150+PPM","v":11728080},11728145,-65]
[132,11,2,false,29,11818296,11819795,-1499]
[133,11,3,false,30,11908512,11908390,122]
[134,11,4,false,29,11998728,12000040,-1312]
[135,11,5,false,30,12088944,12088635,309]
[136,11,6,false,29,12179160,12180285,-1125]
[137,11,7,false,30,12269376,12268880,496]
[138,11,8,false,29,12359592,12360530,-938]
[139,11,9,false,30,12449808,12449125,683]
[140,11,10,false,29,12540024,12540775,-751]
[141,11,11,false,30,12630240,12629370,870]
[142,11,12,false,29,12720456,12721020,-564]
[143,11,13,false,30,12810672,12809615,1057]
[144,12,1,false,30,12900888,12901265,-377]
[145,12,2,false,29,12991104,12992915,-1811]
[146,12,3,false,30,13081320,13081510,-190]
[147,12,4,false,29,13171536,13173160,-1624]
[148,12,5,false,30,13261752,13261755,-3]
[149,12,6,false,29,13351968,13353405,-1437]
[150,12,7,false,30,13442184,13442000,184]
[151,12,8,false,29,13532400,13533650,-1250]
[152,12,9,false,30,13622616,13622245,371]
[153,12,10,false,29,13712832,13713895,-1063]
[154,12,11,false,30,13803048,13802490,558]
[155,12,12,false,29,13893264,13894140,-876]
[156,12,13,false,30,13983480,13982735,745]
[157,13,1,false,30,14073696,14074385,-689]
[158,13,2,false,29,14163912,14166035,-2123]
[159,13,3,false,30,14254128,14254630,-502]
[160,13,4,false,29,14344344,14346280,-1936]
[161,13,5,false,30,14434560,14434875,-315]
[162,13,6,false,29,14524776,14526525,-1749]
[163,13,7,false,30,14614992,14615120,-128]
[{"$f":"A183+1","v":164},13,8,false,29,14705208,14706770,-1562]
[165,13,9,false,30,14795424,14795365,59]
[166,13,10,false,29,14885640,14887015,-1375]
[167,13,11,false,30,14975856,14975610,246]
[168,13,12,false,29,15066072,15067260,-1188]
[169,13,13,false,30,15156288,15155855,433]
[170,14,1,false,30,15246504,15247505,-1001]
[171,14,2,false,29,15336720,15339155,-2435]
[172,14,3,false,30,15426936,15427750,-814]
[173,14,4,false,29,15517152,15519400,-2248]
[174,14,5,false,30,15607368,15607995,-627]
[175,14,6,false,29,15697584,15699645,-2061]
[176,14,7,false,30,15787800,15788240,-440]
[177,14,8,false,29,15878016,15879890,-1874]
[178,14,9,false,30,15968232,15968485,-253]
[179,14,10,false,29,16058448,16060135,-1687]
[180,14,11,false,30,16148664,16148730,-66]
[181,14,12,false,29,16238880,16240380,-1500]
[182,14,13,false,30,16329096,16328975,121]
[183,15,1,false,30,16419312,16420625,-1313]
[184,15,2,false,29,16509528,16512275,-2747]
[185,15,3,false,30,16599744,16600870,-1126]
[186,15,4,false,29,16689960,16692520,-2560]
[187,15,5,false,30,16780176,16781115,-939]
[188,15,6,false,29,16870392,16872765,-2373]
[189,15,7,false,30,16960608,16961360,-752]
[190,15,8,false,29,17050824,17053010,-2186]
[191,15,9,false,30,17141040,17141605,-565]
[192,15,10,false,29,17231256,17233255,-1999]
[193,15,11,false,30,17321472,17321850,{"$f":"F213-G213","v":-378}]
[194,{"$f":"IF(C214=1,B213+1,B213)","v":15},12,{"$f":"AND(OR(MOD(B214,235)=0,MOD(B214,10)=0),C214=13)","v":false},{"$f":"IF(MOD(C214,2)=1,30,29)-IF(D214,1,0)","v":29},17411688,{"$f":"G213+E213*PPD","v":17413500},-1812]
[195,15,{"$f":"IF(C214=13,1,C214+1)","v":13},false,30,{"$f":"F214+PPM","v":17501904},17502095,-191]
[196,16,1,false,30,17592120,17593745,-1625]
[197,16,2,false,29,17682336,17685395,-3059]
[198,16,3,false,30,17772552,17773990,-1438]
[199,16,4,false,29,17862768,17865640,-2872]
[200,16,5,false,30,17952984,17954235,-1251]
[201,16,6,false,29,18043200,18045885,-2685]
[202,16,7,false,30,18133416,18134480,-1064]
[203,16,8,false,29,18223632,18226130,-2498]
[204,16,9,false,30,18313848,18314725,-877]
[205,16,10,false,29,18404064,18406375,-2311]
[206,16,11,false,30,18494280,18494970,-690]
[207,16,12,false,29,18584496,18586620,-2124]
[208,16,13,false,30,18674712,18675215,-503]
[209,17,1,false,30,18764928,18766865,-1937]
[210,17,2,false,29,18855144,18858515,-3371]
[211,17,3,false,30,18945360,18947110,-1750]
[212,17,4,false,29,19035576,19038760,-3184]
[213,17,5,false,30,19125792,19127355,-1563]
[214,17,6,false,29,19216008,19219005,-2997]
[215,17,7,false,30,19306224,19307600,-1376]
[216,17,8,false,29,19396440,19399250,-2810]
[217,17,9,false,30,19486656,19487845,-1189]
[218,17,10,false,29,19576872,19579495,-2623]
[219,17,11,false,30,19667088,19668090,-1002]
[220,17,12,false,29,19757304,19759740,-2436]
[221,17,13,false,30,19847520,19848335,-815]
[222,18,1,false,30,19937736,19939985,-2249]
[223,18,2,false,29,20027952,20031635,-3683]
[224,18,3,false,30,20118168,20120230,-2062]
[225,18,4,false,29,20208384,20211880,-3496]
[226,18,5,false,30,20298600,20300475,-1875]
[227,18,6,false,29,20388816,20392125,-3309]
[{"$f":"A247+1","v":228},18,7,false,30,20479032,20480720,-1688]
[229,18,8,false,29,20569248,20572370,-3122]
[230,18,9,false,30,20659464,20660965,-1501]
[231,18,10,false,29,20749680,20752615,-2935]
[232,18,11,false,30,20839896,20841210,-1314]
[233,18,12,false,29,20930112,20932860,-2748]
[234,18,13,false,30,21020328,21021455,-1127]
[235,19,1,false,30,21110544,21113105,-2561]
[236,19,2,false,29,21200760,21204755,-3995]
[237,19,3,false,30,21290976,21293350,-2374]
[238,19,4,false,29,21381192,21385000,-3808]
[239,19,5,false,30,21471408,21473595,-2187]
[240,19,6,false,29,21561624,21565245,-3621]
[241,19,7,false,30,21651840,21653840,-2000]
[242,19,8,false,29,21742056,21745490,-3434]
[243,19,9,false,30,21832272,21834085,-1813]
[244,19,10,false,29,21922488,21925735,-3247]
[245,19,11,false,30,22012704,22014330,-1626]
[246,19,12,false,29,22102920,22105980,-3060]
[247,19,13,false,30,22193136,22194575,-1439]
[248,20,1,false,30,22283352,22286225,-2873]
[249,20,2,false,29,22373568,22377875,-4307]
[250,20,3,false,30,22463784,22466470,-2686]
[251,20,4,false,29,22554000,22558120,-4120]
[252,20,5,false,30,22644216,22646715,-2499]
[253,20,6,false,29,22734432,22738365,-3933]
[254,20,7,false,30,22824648,22826960,-2312]
[255,20,8,false,29,22914864,22918610,-3746]
[256,20,9,false,30,23005080,23007205,-2125]
[257,20,10,false,29,23095296,23098855,{"$f":"F277-G277","v":-3559}]
[258,{"$f":"IF(C278=1,B277+1,B277)","v":20},11,{"$f":"AND(OR(MOD(B278,235)=0,MOD(B278,10)=0),C278=13)","v":false},{"$f":"IF(MOD(C278,2)=1,30,29)-IF(D278,1,0)","v":30},23185512,{"$f":"G277+E277*PPD","v":23187450},-1938]
[259,20,{"$f":"IF(C278=13,1,C278+1)","v":12},false,29,{"$f":"F278+PPM","v":23275728},23279100,-3372]
[260,20,13,true,29,23365944,23367695,-1751]
[261,21,1,false,30,23456160,23456290,-130]
[262,21,2,false,29,23546376,23547940,-1564]
[263,21,3,false,30,23636592,23636535,57]
[264,21,4,false,29,23726808,23728185,-1377]
[265,21,5,false,30,23817024,23816780,244]
[266,21,6,false,29,23907240,23908430,-1190]
[267,21,7,false,30,23997456,23997025,431]
[268,21,8,false,29,24087672,24088675,-1003]
[269,21,9,false,30,24177888,24177270,618]
[270,21,10,false,29,24268104,24268920,-816]
[271,21,11,false,30,24358320,24357515,805]
[272,21,12,false,29,24448536,24449165,-629]
[273,21,13,false,30,24538752,24537760,992]
[274,22,1,false,30,24628968,24629410,-442]
[275,22,2,false,29,24719184,24721060,-1876]
[276,22,3,false,30,24809400,24809655,-255]
[277,22,4,false,29,24899616,24901305,-1689]
[278,22,5,false,30,24989832,24989900,-68]
[279,22,6,false,29,25080048,25081550,-1502]
[280,22,7,false,30,25170264,25170145,119]
[281,22,8,false,29,25260480,25261795,-1315]
[282,22,9,false,30,25350696,25350390,306]
[283,22,10,false,29,25440912,25442040,-1128]
[284,22,11,false,30,25531128,25530635,493]
[285,22,12,false,29,25621344,25622285,-941]
[286,22,13,false,30,25711560,25710880,680]
[287,23,1,false,30,25801776,25802530,-754]
[288,23,2,false,29,25891992,25894180,-2188]
[289,23,3,false,30,25982208,25982775,-567]
[290,23,4,false,29,26072424,26074425,-2001]
[291,23,5,false,30,26162640,26163020,-380]
[{"$f":"A311+1","v":292},23,6,false,29,26252856,26254670,-1814]
[293,23,7,false,30,26343072,26343265,-193]
[294,23,8,false,29,26433288,26434915,-1627]
[295,23,9,false,30,26523504,26523510,-6]
[296,23,10,false,29,26613720,26615160,-1440]
[297,23,11,false,30,26703936,26703755,181]
[298,23,12,false,29,26794152,26795405,-1253]
[299,23,13,false,30,26884368,26884000,368]
[300,24,1,false,30,26974584,26975650,-1066]
[301,24,2,false,29,27064800,27067300,-2500]
[302,24,3,false,30,27155016,27155895,-879]
[303,24,4,false,29,27245232,27247545,-2313]
[304,24,5,false,30,27335448,27336140,-692]
[305,24,6,false,29,27425664,27427790,-2126]
[306,24,7,false,30,27515880,27516385,-505]
[307,24,8,false,29,27606096,27608035,-1939]
[308,24,9,false,30,27696312,27696630,-318]
[309,24,10,false,29,27786528,27788280,-1752]
[310,24,11,false,30,27876744,27876875,-131]
[311,24,12,false,29,27966960,27968525,-1565]
[312,24,13,false,30,28057176,28057120,56]
[313,25,1,false,30,28147392,28148770,-1378]
[314,25,2,false,29,28237608,28240420,-2812]
[315,25,3,false,30,28327824,28329015,-1191]
[316,25,4,false,29,28418040,28420665,-2625]
[317,25,5,false,30,28508256,28509260,-1004]
[318,25,6,false,29,28598472,28600910,-2438]
[319,25,7,false,30,28688688,28689505,-817]
[320,25,8,false,29,28778904,28781155,-2251]
[321,25,9,false,30,28869120,28869750,{"$f":"F341-G341","v":-630}]
[322,{"$f":"IF(C342=1,B341+1,B341)","v":25},10,{"$f":"AND(OR(MOD(B342,235)=0,MOD(B342,10)=0),C342=13)","v":false},{"$f":"IF(MOD(C342,2)=1,30,29)-IF(D342,1,0)","v":29},28959336,{"$f":"G341+E341*PPD","v":28961400},-2064]
[323,25,{"$f":"IF(C342=13,1,C342+1)","v":11},false,30,{"$f":"F342+PPM","v":29049552},29049995,-443]
[324,25,12,false,29,29139768,29141645,-1877]
[325,25,13,false,30,29229984,29230240,-256]
[326,26,1,false,30,29320200,29321890,-1690]
[327,26,2,false,29,29410416,29413540,-3124]
[328,26,3,false,30,29500632,29502135,-1503]
[329,26,4,false,29,29590848,29593785,-2937]
[330,26,5,false,30,29681064,29682380,-1316]
[331,26,6,false,29,29771280,29774030,-2750]
[332,26,7,false,30,29861496,29862625,-1129]
[333,26,8,false,29,29951712,29954275,-2563]
[334,26,9,false,30,30041928,30042870,-942]
[335,26,10,false,29,30132144,30134520,-2376]
[336,26,11,false,30,30222360,30223115,-755]
[337,26,12,false,29,30312576,30314765,-2189]
[338,26,13,false,30,30402792,30403360,-568]
[339,27,1,false,30,30493008,30495010,-2002]
[340,27,2,false,29,30583224,30586660,-3436]
[341,27,3,false,30,30673440,30675255,-1815]
[342,27,4,false,29,30763656,30766905,-3249]
[343,27,5,false,30,30853872,30855500,-1628]
[344,27,6,false,29,30944088,30947150,-3062]
[345,27,7,false,30,31034304,31035745,-1441]
[346,27,8,false,29,31124520,31127395,-2875]
[347,27,9,false,30,31214736,31215990,-1254]
[348,27,10,false,29,31304952,31307640,-2688]
[349,27,11,false,30,31395168,31396235,-1067]
[350,27,12,false,29,31485384,31487885,-2501]
[351,27,13,false,30,31575600,31576480,-880]
[352,28,1,false,30,31665816,31668130,-2314]
[353,28,2,false,29,31756032,31759780,-3748]
[354,28,3,false,30,31846248,31848375,-2127]
[355,28,4,false,29,31936464,31940025,-3561]
[{"$f":"A375+1","v":356},28,5,false,30,32026680,32028620,-1940]
[357,28,6,false,29,32116896,32120270,-3374]
[358,28,7,false,30,32207112,32208865,-1753]
[359,28,8,false,29,32297328,32300515,-3187]
[360,28,9,false,30,32387544,32389110,-1566]
[361,28,10,false,29,32477760,32480760,-3000]
[{"$f":"A381+1","v":362},28,11,false,30,32567976,32569355,-1379]
[363,28,12,false,29,32658192,32661005,-2813]
[364,28,13,false,30,32748408,32749600,-1192]
[365,29,1,false,30,32838624,32841250,-2626]
[366,29,2,false,29,32928840,32932900,-4060]
[367,29,3,false,30,33019056,33021495,-2439]
[368,29,4,false,29,33109272,33113145,-3873]
[369,29,5,false,30,33199488,33201740,-2252]
[370,29,6,false,29,33289704,33293390,-3686]
[371,29,7,false,30,33379920,33381985,-2065]
[372,29,8,false,29,33470136,33473635,-3499]
[373,29,9,false,30,33560352,33562230,-1878]
[374,29,10,false,29,33650568,33653880,-3312]
[375,29,11,false,30,33740784,33742475,-1691]
[376,29,12,false,29,33831000,33834125,-3125]
[377,29,13,false,30,33921216,33922720,-1504]
[378,30,1,false,30,34011432,34014370,-2938]
[379,30,2,false,29,34101648,34106020,-4372]
[380,30,3,false,30,34191864,34194615,-2751]
[381,30,4,false,29,34282080,34286265,-4185]
[382,30,5,false,30,34372296,34374860,-2564]
[383,30,6,false,29,34462512,34466510,-3998]
[384,30,7,false,30,34552728,34555105,-2377]
[385,30,8,false,29,34642944,34646755,{"$f":"F405-G405","v":-3811}]
[386,{"$f":"IF(C406=1,B405+1,B405)","v":30},9,{"$f":"AND(OR(MOD(B406,235)=0,MOD(B406,10)=0),C406=13)","v":false},{"$f":"IF(MOD(C406,2)=1,30,29)-IF(D406,1,0)","v":30},34733160,{"$f":"G405+E405*PPD","v":34735350},-2190]
[387,30,{"$f":"IF(C406=13,1,C406+1)","v":10},false,29,{"$f":"F406+PPM","v":34823376},34827000,-3624]
[388,30,11,false,30,34913592,34915595,-2003]
[389,30,12,false,29,35003808,35007245,-3437]
[390,30,13,true,29,35094024,35095840,-1816]
[391,31,1,false,30,35184240,35184435,-195]
[392,31,2,false,29,35274456,35276085,-1629]
[393,31,3,false,30,35364672,35364680,-8]
[394,31,4,false,29,35454888,35456330,-1442]
[395,31,5,false,30,35545104,35544925,179]
[396,31,6,false,29,35635320,35636575,-1255]
[397,31,7,false,30,35725536,35725170,366]
[398,31,8,false,29,35815752,35816820,-1068]
[399,31,9,false,30,35905968,35905415,553]
[400,31,10,false,29,35996184,35997065,-881]
[401,31,11,false,30,36086400,36085660,740]
[402,31,12,false,29,36176616,36177310,-694]
[403,31,13,false,30,36266832,36265905,927]
[404,32,1,false,30,36357048,36357555,-507]
[405,32,2,false,29,36447264,36449205,-1941]
[406,32,3,false,30,36537480,36537800,-320]
[407,32,4,false,29,36627696,36629450,-1754]
[408,32,5,false,30,36717912,36718045,-133]
[409,32,6,false,29,36808128,36809695,-1567]
[410,32,7,false,30,36898344,36898290,54]
[411,32,8,false,29,36988560,36989940,-1380]
[412,32,9,false,30,37078776,37078535,241]
[413,32,10,false,29,37168992,37170185,-1193]
[414,32,11,false,30,37259208,37258780,428]
[415,32,12,false,29,37349424,37350430,-1006]
[416,32,13,false,30,37439640,37439025,615]
[417,33,1,false,30,37529856,37530675,-819]
[418,33,2,false,29,37620072,37622325,-2253]
[419,33,3,false,30,37710288,37710920,-632]
[420,33,4,false,29,37800504,37802570,-2066]
[421,33,5,false,30,37890720,37891165,-445]
[422,33,6,false,29,37980936,37982815,-1879]
[423,33,7,false,30,38071152,38071410,-258]
[424,33,8,false,29,38161368,38163060,-1692]
[425,33,9,false,30,38251584,38251655,-71]
[{"$f":"A445+1","v":426},33,10,false,29,38341800,38343305,-1505]
[427,33,11,false,30,38432016,38431900,116]
[428,33,12,false,29,38522232,38523550,-1318]
[429,33,13,false,30,38612448,38612145,303]
[430,34,1,false,30,38702664,38703795,-1131]
[431,34,2,false,29,38792880,38795445,-2565]
[432,34,3,false,30,38883096,38884040,-944]
[433,34,4,false,29,38973312,38975690,-2378]
[434,34,5,false,30,39063528,39064285,-757]
[435,34,6,false,29,39153744,39155935,-2191]
[436,34,7,false,30,39243960,39244530,-570]
[437,34,8,false,29,39334176,39336180,-2004]
[438,34,9,false,30,39424392,39424775,-383]
[439,34,10,false,29,39514608,39516425,-1817]
[440,34,11,false,30,39604824,39605020,-196]
[441,34,12,false,29,39695040,39696670,-1630]
[442,34,13,false,30,39785256,39785265,-9]
[443,35,1,false,30,39875472,39876915,-1443]
[444,35,2,false,29,39965688,39968565,-2877]
[445,35,3,false,30,40055904,40057160,-1256]
[446,35,4,false,29,40146120,40148810,-2690]
[447,35,5,false,30,40236336,40237405,-1069]
[448,35,6,false,29,40326552,40329055,-2503]
[449,35,7,false,30,40416768,40417650,{"$f":"F469-G469","v":-882}]
[450,{"$f":"IF(C470=1,B469+1,B469)","v":35},8,{"$f":"AND(OR(MOD(B470,235)=0,MOD(B470,10)=0),C470=13)","v":false},{"$f":"IF(MOD(C470,2)=1,30,29)-IF(D470,1,0)","v":29},40506984,{"$f":"G469+E469*PPD","v":40509300},-2316]
[451,35,{"$f":"IF(C470=13,1,C470+1)","v":9},false,30,{"$f":"F470+PPM","v":40597200},40597895,-695]
[452,35,10,false,29,40687416,40689545,-2129]
[453,35,11,false,30,40777632,40778140,-508]
[454,35,12,false,29,40867848,40869790,-1942]
[455,35,13,false,30,40958064,40958385,-321]
[456,36,1,false,30,41048280,41050035,-1755]
[457,36,2,false,29,41138496,41141685,-3189]
[458,36,3,false,30,41228712,41230280,-1568]
[459,36,4,false,29,41318928,41321930,-3002]
[460,36,5,false,30,41409144,41410525,-1381]
[461,36,6,false,29,41499360,41502175,-2815]
[462,36,7,false,30,41589576,41590770,-1194]
[463,36,8,false,29,41679792,41682420,-2628]
[464,36,9,false,30,41770008,41771015,-1007]
[465,36,10,false,29,41860224,41862665,-2441]
[466,36,11,false,30,41950440,41951260,-820]
[467,36,12,false,29,42040656,42042910,-2254]
[468,36,13,false,30,42130872,42131505,-633]
[469,37,1,false,30,42221088,42223155,-2067]
[470,37,2,false,29,42311304,42314805,-3501]
[471,37,3,false,30,42401520,42403400,-1880]
[472,37,4,false,29,42491736,42495050,-3314]
[473,37,5,false,30,42581952,42583645,-1693]
[474,37,6,false,29,42672168,42675295,-3127]
[475,37,7,false,30,42762384,42763890,-1506]
[476,37,8,false,29,42852600,42855540,-2940]
[477,37,9,false,30,42942816,42944135,-1319]
[478,37,10,false,29,43033032,43035785,-2753]
[479,37,11,false,30,43123248,43124380,-1132]
[480,37,12,false,29,43213464,43216030,-2566]
[481,37,13,false,30,43303680,43304625,-945]
[482,38,1,false,30,43393896,43396275,-2379]
[483,38,2,false,29,43484112,43487925,-3813]
[484,38,3,false,30,43574328,43576520,-2192]
[485,38,4,false,29,43664544,43668170,-3626]
[486,38,5,false,30,43754760,43756765,-2005]
[487,38,6,false,29,43844976,43848415,-3439]
[488,38,7,false,30,43935192,43937010,-1818]
[489,38,8,false,29,44025408,44028660,-3252]
[{"$f":"A509+1","v":490},38,9,false,30,44115624,44117255,-1631]
[491,38,10,false,29,44205840,44208905,-3065]
[492,38,11,false,30,44296056,44297500,-1444]
[493,38,12,false,29,44386272,44389150,-2878]
[494,38,13,false,30,44476488,44477745,-1257]
[495,39,1,false,30,44566704,44569395,-2691]
[496,39,2,false,29,44656920,44661045,-4125]
[497,39,3,false,30,44747136,44749640,-2504]
[498,39,4,false,29,44837352,44841290,-3938]
[499,39,5,false,30,44927568,44929885,-2317]
[500,39,6,false,29,45017784,45021535,-3751]
[501,39,7,false,30,45108000,45110130,-2130]
[502,39,8,false,29,45198216,45201780,-3564]
[503,39,9,false,30,45288432,45290375,-1943]
[504,39,10,false,29,45378648,45382025,-3377]
[505,39,11,false,30,45468864,45470620,-1756]
[506,39,12,false,29,45559080,45562270,-3190]
[507,39,13,false,30,45649296,45650865,-1569]
[508,40,1,false,30,45739512,45742515,-3003]
[509,40,2,false,29,45829728,45834165,-4437]
[510,40,3,false,30,45919944,45922760,-2816]
[511,40,4,false,29,46010160,46014410,-4250]
[512,40,5,false,30,46100376,46103005,-2629]
[513,40,6,false,29,46190592,46194655,{"$f":"F533-G533","v":-4063}]
[514,{"$f":"IF(C534=1,B533+1,B533)","v":40},7,{"$f":"AND(OR(MOD(B534,235)=0,MOD(B534,10)=0),C534=13)","v":false},{"$f":"IF(MOD(C534,2)=1,30,29)-IF(D534,1,0)","v":30},46280808,{"$f":"G533+E533*PPD","v":46283250},-2442]
[515,40,{"$f":"IF(C534=13,1,C534+1)","v":8},false,29,{"$f":"F534+PPM","v":46371024},46374900,-3876]
[516,40,9,false,30,46461240,46463495,-2255]
[517,40,10,false,29,46551456,46555145,-3689]
[518,40,11,false,30,46641672,46643740,-2068]
[519,40,12,false,29,46731888,46735390,-3502]
[520,40,13,true,29,46822104,46823985,-1881]
[521,41,1,false,30,46912320,46912580,-260]
[522,41,2,false,29,47002536,47004230,-1694]
[523,41,3,false,30,47092752,47092825,-73]
[524,41,4,false,29,47182968,47184475,-1507]
[525,41,5,false,30,47273184,47273070,114]
[526,41,6,false,29,47363400,47364720,-1320]
[527,41,7,false,30,47453616,47453315,301]
[528,41,8,false,29,47543832,47544965,-1133]
[529,41,9,false,30,47634048,47633560,488]
[530,41,10,false,29,47724264,47725210,-946]
[531,41,11,false,30,47814480,47813805,675]
[532,41,12,false,29,47904696,47905455,-759]
[533,41,13,false,30,47994912,47994050,862]
[534,42,1,false,30,48085128,48085700,-572]
[535,42,2,false,29,48175344,48177350,-2006]
[536,42,3,false,30,48265560,48265945,-385]
[537,42,4,false,29,48355776,48357595,-1819]
[538,42,5,false,30,48445992,48446190,-198]
[539,42,6,false,29,48536208,48537840,-1632]
[540,42,7,false,30,48626424,48626435,-11]
[541,42,8,false,29,48716640,48718085,-1445]
[542,42,9,false,30,48806856,48806680,176]
[543,42,10,false,29,48897072,48898330,-1258]
[544,42,11,false,30,48987288,48986925,363]
[545,42,12,false,29,49077504,49078575,-1071]
[546,42,13,false,30,49167720,49167170,550]
[547,43,1,false,30,49257936,49258820,-884]
[548,43,2,false,29,49348152,49350470,-2318]
[549,43,3,false,30,49438368,49439065,-697]
[550,43,4,false,29,49528584,49530715,-2131]
[551,43,5,false,30,49618800,49619310,-510]
[552,43,6,false,29,49709016,49710960,-1944]
[553,43,7,false,30,49799232,49799555,-323]
[{"$f":"A573+1","v":554},43,8,false,29,49889448,49891205,-1757]
[555,43,9,false,30,49979664,49979800,-136]
[556,43,10,false,29,50069880,50071450,-1570]
[557,43,11,false,30,50160096,50160045,51]
[558,43,12,false,29,50250312,50251695,-1383]
[559,43,13,false,30,50340528,50340290,238]
[560,44,1,false,30,50430744,50431940,-1196]
[561,44,2,false,29,50520960,50523590,-2630]
[562,44,3,false,30,50611176,50612185,-1009]
[563,44,4,false,29,50701392,50703835,-2443]
[564,44,5,false,30,50791608,50792430,-822]
[565,44,6,false,29,50881824,50884080,-2256]
[566,44,7,false,30,50972040,50972675,-635]
[567,44,8,false,29,51062256,51064325,-2069]
[568,44,9,false,30,51152472,51152920,-448]
[569,44,10,false,29,51242688,51244570,-1882]
[570,44,11,false,30,51332904,51333165,-261]
[571,44,12,false,29,51423120,51424815,-1695]
[572,44,13,false,30,51513336,51513410,-74]
[573,45,1,false,30,51603552,51605060,-1508]
[574,45,2,false,29,51693768,51696710,-2942]
[575,45,3,false,30,51783984,51785305,-1321]
[576,45,4,false,29,51874200,51876955,-2755]
[577,45,5,false,30,51964416,51965550,{"$f":"F597-G597","v":-1134}]
[578,{"$f":"IF(C598=1,B597+1,B597)","v":45},6,{"$f":"AND(OR(MOD(B598,235)=0,MOD(B598,10)=0),C598=13)","v":false},{"$f":"IF(MOD(C598,2)=1,30,29)-IF(D598,1,0)","v":29},52054632,{"$f":"G597+E597*PPD","v":52057200},-2568]
[579,45,{"$f":"IF(C598=13,1,C598+1)","v":7},false,30,{"$f":"F598+PPM","v":52144848},52145795,-947]
[580,45,8,false,29,52235064,52237445,-2381]
[581,45,9,false,30,52325280,52326040,-760]
[582,45,10,false,29,52415496,52417690,-2194]
[583,45,11,false,30,52505712,52506285,-573]
[584,45,12,false,29,52595928,52597935,-2007]
[585,45,13,false,30,52686144,52686530,-386]
[586,46,1,false,30,52776360,52778180,-1820]
[587,46,2,false,29,52866576,52869830,-3254]
[588,46,3,false,30,52956792,52958425,-1633]
[589,46,4,false,29,53047008,53050075,-3067]
[590,46,5,false,30,53137224,53138670,-1446]
[591,46,6,false,29,53227440,53230320,-2880]
[592,46,7,false,30,53317656,53318915,-1259]
[593,46,8,false,29,53407872,53410565,-2693]
[594,46,9,false,30,53498088,53499160,-1072]
[595,46,10,false,29,53588304,53590810,-2506]
[596,46,11,false,30,53678520,53679405,-885]
[597,46,12,false,29,53768736,53771055,-2319]
[598,46,13,false,30,53858952,53859650,-698]
[599,47,1,false,30,53949168,53951300,-2132]
[600,47,2,false,29,54039384,54042950,-3566]
[601,47,3,false,30,54129600,54131545,-1945]
[602,47,4,false,29,54219816,54223195,-3379]
[603,47,5,false,30,54310032,54311790,-1758]
[604,47,6,false,29,54400248,54403440,-3192]
[605,47,7,false,30,54490464,54492035,-1571]
[606,47,8,false,29,54580680,54583685,-3005]
[607,47,9,false,30,54670896,54672280,-1384]
[608,47,10,false,29,54761112,54763930,-2818]
[609,47,11,false,30,54851328,54852525,-1197]
[610,47,12,false,29,54941544,54944175,-2631]
[611,47,13,false,30,55031760,55032770,-1010]
[612,48,1,false,30,55121976,55124420,-2444]
[613,48,2,false,29,55212192,55216070,-3878]
[614,48,3,false,30,55302408,55304665,-2257]
[615,48,4,false,29,55392624,55396315,-3691]
[616,48,5,false,30,55482840,55484910,-2070]
[617,48,6,false,29,55573056,55576560,-3504]
[{"$f":"A637+1","v":618},48,7,false,30,55663272,55665155,-1883]
[619,48,8,false,29,55753488,55756805,-3317]
[620,48,9,false,30,55843704,55845400,-1696]
[621,48,10,false,29,55933920,55937050,-3130]
[622,48,11,false,30,56024136,56025645,-1509]
[623,48,12,false,29,56114352,56117295,-2943]
[624,48,13,false,30,56204568,56205890,-1322]
[625,49,1,false,30,56294784,56297540,-2756]
[626,49,2,false,29,56385000,56389190,-4190]
[627,49,3,false,30,56475216,56477785,-2569]
[628,49,4,false,29,56565432,56569435,-4003]
[629,49,5,false,30,56655648,56658030,-2382]
[630,49,6,false,29,56745864,56749680,-3816]
[631,49,7,false,30,56836080,56838275,-2195]
[632,49,8,false,29,56926296,56929925,-3629]
[633,49,9,false,30,57016512,57018520,-2008]
[634,49,10,false,29,57106728,57110170,-3442]
[635,49,11,false,30,57196944,57198765,-1821]
[636,49,12,false,29,57287160,57290415,-3255]
[637,49,13,false,30,57377376,57379010,-1634]
[638,50,1,false,30,57467592,57470660,-3068]
[639,50,2,false,29,57557808,57562310,-4502]
[640,50,3,false,30,57648024,57650905,-2881]
[641,50,4,false,29,57738240,57742555,{"$f":"F661-G661","v":-4315}]
[642,{"$f":"IF(C662=1,B661+1,B661)","v":50},5,{"$f":"AND(OR(MOD(B662,235)=0,MOD(B662,10)=0),C662=13)","v":false},{"$f":"IF(MOD(C662,2)=1,30,29)-IF(D662,1,0)","v":30},57828456,{"$f":"G661+E661*PPD","v":57831150},-2694]
[643,50,{"$f":"IF(C662=13,1,C662+1)","v":6},false,29,{"$f":"F662+PPM","v":57918672},57922800,-4128]
[644,50,7,false,30,58008888,58011395,-2507]
[645,50,8,false,29,58099104,58103045,-3941]
[646,50,9,false,30,58189320,58191640,-2320]
[647,50,10,false,29,58279536,58283290,-3754]
[648,50,11,false,30,58369752,58371885,-2133]
[649,50,12,false,29,58459968,58463535,-3567]
[650,50,13,true,29,58550184,58552130,-1946]
[651,51,1,false,30,58640400,58640725,-325]
[652,51,2,false,29,58730616,58732375,-1759]
[653,51,3,false,30,58820832,58820970,-138]
[654,51,4,false,29,58911048,58912620,-1572]
[655,51,5,false,30,59001264,59001215,49]
[656,51,6,false,29,59091480,59092865,-1385]
[657,51,7,false,30,59181696,59181460,236]
[658,51,8,false,29,59271912,59273110,-1198]
[659,51,9,false,30,59362128,59361705,423]
[660,51,10,false,29,59452344,59453355,-1011]
[661,51,11,false,30,59542560,59541950,610]
[662,51,12,false,29,59632776,59633600,-824]
[663,51,13,false,30,59722992,59722195,797]
[664,52,1,false,30,59813208,59813845,-637]
[665,52,2,false,29,59903424,59905495,-2071]
[666,52,3,false,30,59993640,59994090,-450]
[667,52,4,false,29,60083856,60085740,-1884]
[668,52,5,false,30,60174072,60174335,-263]
[669,52,6,false,29,60264288,60265985,-1697]
[670,52,7,false,30,60354504,60354580,-76]
[671,52,8,false,29,60444720,60446230,-1510]
[672,52,9,false,30,60534936,60534825,111]
[673,52,10,false,29,60625152,60626475,-1323]
[674,52,11,false,30,60715368,60715070,298]
[675,52,12,false,29,60805584,60806720,-1136]
[676,52,13,false,30,60895800,60895315,485]
[677,53,1,false,30,60986016,60986965,-949]
[678,53,2,false,29,61076232,61078615,-2383]
[679,53,3,false,30,61166448,61167210,-762]
[680,53,4,false,29,61256664,61258860,-2196]
[681,53,5,false,30,61346880,61347455,-575]
[{"$f":"A701+1","v":682},53,6,false,29,61437096,61439105,-2009]
[683,53,7,false,30,61527312,61527700,-388]
[684,53,8,false,29,61617528,61619350,-1822]
[685,53,9,false,30,61707744,61707945,-201]
[686,53,10,false,29,61797960,61799595,-1635]
[687,53,11,false,30,61888176,61888190,-14]
[688,53,12,false,29,61978392,61979840,-1448]
[689,53,13,false,30,62068608,62068435,173]
[690,54,1,false,30,62158824,62160085,-1261]
[691,54,2,false,29,62249040,62251735,-2695]
[692,54,3,false,30,62339256,62340330,-1074]
[693,54,4,false,29,62429472,62431980,-2508]
[694,54,5,false,30,62519688,62520575,-887]
[695,54,6,false,29,62609904,62612225,-2321]
[696,54,7,false,30,62700120,62700820,-700]
[697,54,8,false,29,62790336,62792470,-2134]
[698,54,9,false,30,62880552,62881065,-513]
[699,54,10,false,29,62970768,62972715,-1947]
[700,54,11,false,30,63060984,63061310,-326]
[701,54,12,false,29,63151200,63152960,-1760]
[702,54,13,false,30,63241416,63241555,-139]
[703,55,1,false,30,63331632,63333205,-1573]
[704,55,2,false,29,63421848,63424855,-3007]
[705,55,3,false,30,63512064,63513450,{"$f":"F725-G725","v":-1386}]
[706,{"$f":"IF(C726=1,B725+1,B725)","v":55},4,{"$f":"AND(OR(MOD(B726,235)=0,MOD(B726,10)=0),C726=13)","v":false},{"$f":"IF(MOD(C726,2)=1,30,29)-IF(D726,1,0)","v":29},63602280,{"$f":"G725+E725*PPD","v":63605100},-2820]
[707,55,{"$f":"IF(C726=13,1,C726+1)","v":5},false,30,{"$f":"F726+PPM","v":63692496},63693695,-1199]
[708,55,6,false,29,63782712,63785345,-2633]
[709,55,7,false,30,63872928,63873940,-1012]
[710,55,8,false,29,63963144,63965590,-2446]
[711,55,9,false,30,64053360,64054185,-825]
[712,55,10,false,29,64143576,64145835,-2259]
[713,55,11,false,30,64233792,64234430,-638]
[714,55,12,false,29,64324008,64326080,-2072]
[715,55,13,false,30,64414224,64414675,-451]
[716,56,1,false,30,64504440,64506325,-1885]
[717,56,2,false,29,64594656,64597975,-3319]
[718,56,3,false,30,64684872,64686570,-1698]
[719,56,4,false,29,64775088,64778220,-3132]
[720,56,5,false,30,64865304,64866815,-1511]
[721,56,6,false,29,64955520,64958465,-2945]
[722,56,7,false,30,65045736,65047060,-1324]
[723,56,8,false,29,65135952,65138710,-2758]
[724,56,9,false,30,65226168,65227305,-1137]
[725,56,10,false,29,65316384,65318955,-2571]
[726,56,11,false,30,65406600,65407550,-950]
[727,56,12,false,29,65496816,65499200,-2384]
[728,56,13,false,30,65587032,65587795,-763]
[729,57,1,false,30,65677248,65679445,-2197]
[730,57,2,false,29,65767464,65771095,-3631]
[731,57,3,false,30,65857680,65859690,-2010]
[732,57,4,false,29,65947896,65951340,-3444]
[733,57,5,false,30,66038112,66039935,-1823]
[734,57,6,false,29,66128328,66131585,-3257]
[735,57,7,false,30,66218544,66220180,-1636]
[736,57,8,false,29,66308760,66311830,-3070]
[737,57,9,false,30,66398976,66400425,-1449]
[738,57,10,false,29,66489192,66492075,-2883]
[739,57,11,false,30,66579408,66580670,-1262]
[740,57,12,false,29,66669624,66672320,-2696]
[741,57,13,false,30,66759840,66760915,-1075]
[742,58,1,false,30,66850056,66852565,-2509]
[743,58,2,false,29,66940272,66944215,-3943]
[744,58,3,false,30,67030488,67032810,-2322]
[745,58,4,false,29,67120704,67124460,-3756]
[{"$f":"A765+1","v":746},58,5,false,30,67210920,67213055,-2135]
[747,58,6,false,29,67301136,67304705,-3569]
[748,58,7,false,30,67391352,67393300,-1948]
[749,58,8,false,29,67481568,67484950,-3382]
[750,58,9,false,30,67571784,67573545,-1761]
[751,58,10,false,29,67662000,67665195,-3195]
[752,58,11,false,30,67752216,67753790,-1574]
[753,58,12,false,29,67842432,67845440,-3008]
[754,58,13,false,30,67932648,67934035,-1387]
[755,59,1,false,30,68022864,68025685,-2821]
[756,59,2,false,29,68113080,68117335,-4255]
[757,59,3,false,30,68203296,68205930,-2634]
[758,59,4,false,29,68293512,68297580,-4068]
[759,59,5,false,30,68383728,68386175,-2447]
[760,59,6,false,29,68473944,68477825,-3881]
[761,59,7,false,30,68564160,68566420,-2260]
[762,59,8,false,29,68654376,68658070,-3694]
[763,59,9,false,30,68744592,68746665,-2073]
[764,59,10,false,29,68834808,68838315,-3507]
[765,59,11,false,30,68925024,68926910,-1886]
[766,59,12,false,29,69015240,69018560,-3320]
[767,59,13,false,30,69105456,69107155,-1699]
[768,60,1,false,30,69195672,69198805,-3133]
[769,60,2,false,29,69285888,69290455,{"$f":"F789-G789","v":-4567}]
[770,{"$f":"IF(C790=1,B789+1,B789)","v":60},3,{"$f":"AND(OR(MOD(B790,235)=0,MOD(B790,10)=0),C790=13)","v":false},{"$f":"IF(MOD(C790,2)=1,30,29)-IF(D790,1,0)","v":30},69376104,{"$f":"G789+E789*PPD","v":69379050},-2946]
[771,60,{"$f":"IF(C790=13,1,C790+1)","v":4},false,29,{"$f":"F790+PPM","v":69466320},69470700,-4380]
[772,60,5,false,30,69556536,69559295,-2759]
[773,60,6,false,29,69646752,69650945,-4193]
[774,60,7,false,30,69736968,69739540,-2572]
[775,60,8,false,29,69827184,69831190,-4006]
[776,60,9,false,30,69917400,69919785,-2385]
[777,60,10,false,29,70007616,70011435,-3819]
[778,60,11,false,30,70097832,70100030,-2198]
[779,60,12,false,29,70188048,70191680,-3632]
[780,60,13,true,29,70278264,70280275,-2011]
[781,61,1,false,30,70368480,70368870,-390]
[782,61,2,false,29,70458696,70460520,-1824]
[783,61,3,false,30,70548912,70549115,-203]
[784,61,4,false,29,70639128,70640765,-1637]
[785,61,5,false,30,70729344,70729360,-16]
[786,61,6,false,29,70819560,70821010,-1450]
[787,61,7,false,30,70909776,70909605,171]
[788,61,8,false,29,70999992,71001255,-1263]
[789,61,9,false,30,71090208,71089850,358]
[790,61,10,false,29,71180424,71181500,-1076]
[791,61,11,false,30,71270640,71270095,545]
[792,61,12,false,29,71360856,71361745,-889]
[793,61,13,false,30,71451072,71450340,732]
[794,62,1,false,30,71541288,71541990,-702]
[795,62,2,false,29,71631504,71633640,-2136]
[796,62,3,false,30,71721720,71722235,-515]
[797,62,4,false,29,71811936,71813885,-1949]
[798,62,5,false,30,71902152,71902480,-328]
[799,62,6,false,29,71992368,71994130,-1762]
[800,62,7,false,30,72082584,72082725,-141]
[801,62,8,false,29,72172800,72174375,-1575]
[802,62,9,false,30,72263016,72262970,46]
[803,62,10,false,29,72353232,72354620,-1388]
[804,62,11,false,30,72443448,72443215,233]
[805,62,12,false,29,72533664,72534865,-1201]
[806,62,13,false,30,72623880,72623460,420]
[807,63,1,false,30,72714096,72715110,-1014]
[808,63,2,false,29,72804312,72806760,-2448]
[809,63,3,false,30,72894528,72895355,-827]
[{"$f":"A829+1","v":810},63,4,false,29,72984744,72987005,-2261]
[811,63,5,false,30,73074960,73075600,-640]
[812,63,6,false,29,73165176,73167250,-2074]
[813,63,7,false,30,73255392,73255845,-453]
[814,63,8,false,29,73345608,73347495,-1887]
[815,63,9,false,30,73435824,73436090,-266]
[816,63,10,false,29,73526040,73527740,-1700]
[817,63,11,false,30,73616256,73616335,-79]
[818,63,12,false,29,73706472,73707985,-1513]
[819,63,13,false,30,73796688,73796580,108]
[820,64,1,false,30,73886904,73888230,-1326]
[821,64,2,false,29,73977120,73979880,-2760]
[822,64,3,false,30,74067336,74068475,-1139]
[823,64,4,false,29,74157552,74160125,-2573]
[824,64,5,false,30,74247768,74248720,-952]
[825,64,6,false,29,74337984,74340370,-2386]
[826,64,7,false,30,74428200,74428965,-765]
[827,64,8,false,29,74518416,74520615,-2199]
[828,64,9,false,30,74608632,74609210,-578]
[829,64,10,false,29,74698848,74700860,-2012]
[830,64,11,false,30,74789064,74789455,-391]
[831,64,12,false,29,74879280,74881105,-1825]
[832,64,13,false,30,74969496,74969700,-204]
[833,65,1,false,30,75059712,75061350,{"$f":"F853-G853","v":-1638}]
[834,{"$f":"IF(C854=1,B853+1,B853)","v":65},2,{"$f":"AND(OR(MOD(B854,235)=0,MOD(B854,10)=0),C854=13)","v":false},{"$f":"IF(MOD(C854,2)=1,30,29)-IF(D854,1,0)","v":29},75149928,{"$f":"G853+E853*PPD","v":75153000},-3072]
[835,65,{"$f":"IF(C854=13,1,C854+1)","v":3},false,30,{"$f":"F854+PPM","v":75240144},75241595,-1451]
[836,65,4,false,29,75330360,75333245,-2885]
[837,65,5,false,30,75420576,75421840,-1264]
[838,65,6,false,29,75510792,75513490,-2698]
[839,65,7,false,30,75601008,75602085,-1077]
[840,65,8,false,29,75691224,75693735,-2511]
[841,65,9,false,30,75781440,75782330,-890]
[842,65,10,false,29,75871656,75873980,-2324]
[843,65,11,false,30,75961872,75962575,-703]
[844,65,12,false,29,76052088,76054225,-2137]
[845,65,13,false,30,76142304,76142820,-516]
[846,66,1,false,30,76232520,76234470,-1950]
[847,66,2,false,29,76322736,76326120,-3384]
[848,66,3,false,30,76412952,76414715,-1763]
[849,66,4,false,29,76503168,76506365,-3197]
[850,66,5,false,30,76593384,76594960,-1576]
[851,66,6,false,29,76683600,76686610,-3010]
[{"$f":"A871+1","v":852},66,7,false,30,76773816,76775205,-1389]
[853,66,8,false,29,76864032,76866855,-2823]
[854,66,9,false,30,76954248,76955450,-1202]
[855,66,10,false,29,77044464,77047100,-2636]
[856,66,11,false,30,77134680,77135695,-1015]
[857,66,12,false,29,77224896,77227345,-2449]
[858,66,13,false,30,77315112,77315940,-828]
[859,67,1,false,30,77405328,77407590,-2262]
[860,67,2,false,29,77495544,77499240,-3696]
[861,67,3,false,30,77585760,77587835,-2075]
[862,67,4,false,29,77675976,77679485,-3509]
[863,67,5,false,30,77766192,77768080,-1888]
[864,67,6,false,29,77856408,77859730,-3322]
[865,67,7,false,30,77946624,77948325,-1701]
[866,67,8,false,29,78036840,78039975,-3135]
[867,67,9,false,30,78127056,78128570,-1514]
[868,67,10,false,29,78217272,78220220,-2948]
[869,67,11,false,30,78307488,78308815,-1327]
[870,67,12,false,29,78397704,78400465,-2761]
[871,67,13,false,30,78487920,78489060,-1140]
[872,68,1,false,30,78578136,78580710,-2574]
[873,68,2,false,29,78668352,78672360,-4008]
[874,68,3,false,30,78758568,78760955,-2387]
[875,68,4,false,29,78848784,78852605,-3821]
[876,68,5,false,30,78939000,78941200,-2200]
[877,68,6,false,29,79029216,79032850,-3634]
[878,68,7,false,30,79119432,79121445,-2013]
[879,68,8,false,29,79209648,79213095,-3447]
[880,68,9,false,30,79299864,79301690,-1826]
[881,68,10,false,29,79390080,79393340,-3260]
[882,68,11,false,30,79480296,79481935,-1639]
[883,68,12,false,29,79570512,79573585,-3073]
[884,68,13,false,30,79660728,79662180,-1452]
[885,69,1,false,30,79750944,79753830,-2886]
[886,69,2,false,29,79841160,79845480,-4320]
[887,69,3,false,30,79931376,79934075,-2699]
[888,69,4,false,29,80021592,80025725,-4133]
[889,69,5,false,30,80111808,80114320,-2512]
[890,69,6,false,29,80202024,80205970,-3946]
[891,69,7,false,30,80292240,80294565,-2325]
[892,69,8,false,29,80382456,80386215,-3759]
[893,69,9,false,30,80472672,80474810,-2138]
[894,69,10,false,29,80562888,80566460,-3572]
[895,69,11,false,30,80653104,80655055,-1951]
[896,69,12,false,29,80743320,80746705,-3385]
[897,69,13,false,30,80833536,80835300,{"$f":"F917-G917","v":-1764}]
[898,{"$f":"IF(C918=1,B917+1,B917)","v":70},1,{"$f":"AND(OR(MOD(B918,235)=0,MOD(B918,10)=0),C918=13)","v":false},{"$f":"IF(MOD(C918,2)=1,30,29)-IF(D918,1,0)","v":30},80923752,{"$f":"G917+E917*PPD","v":80926950},-3198]
[899,70,{"$f":"IF(C918=13,1,C918+1)","v":2},false,29,{"$f":"F918+PPM","v":81013968},81018600,-4632]
[900,70,3,false,30,81104184,81107195,-3011]
[901,70,4,false,29,81194400,81198845,-4445]
[902,70,5,false,30,81284616,81287440,-2824]
[903,70,6,false,29,81374832,81379090,-4258]
[904,70,7,false,30,81465048,81467685,-2637]
[905,70,8,false,29,81555264,81559335,-4071]
[906,70,9,false,30,81645480,81647930,-2450]
[907,70,10,false,29,81735696,81739580,-3884]
[908,70,11,false,30,81825912,81828175,-2263]
[909,70,12,false,29,81916128,81919825,-3697]
[910,70,13,true,29,82006344,82008420,-2076]
[911,71,1,false,30,82096560,82097015,-455]
[912,71,2,false,29,82186776,82188665,-1889]
[913,71,3,false,30,82276992,82277260,-268]
[914,71,4,false,29,82367208,82368910,-1702]
[915,71,5,false,30,82457424,82457505,-81]
[{"$f":"A935+1","v":916},71,6,false,29,82547640,82549155,-1515]
[917,71,7,false,30,82637856,82637750,106]
[918,71,8,false,29,82728072,82729400,-1328]
[919,71,9,false,30,82818288,82817995,293]
[920,71,10,false,29,82908504,82909645,-1141]
[921,71,11,false,30,82998720,82998240,480]
[922,71,12,false,29,83088936,83089890,-954]
[923,71,13,false,30,83179152,83178485,667]
[924,72,1,false,30,83269368,83270135,-767]
[925,72,2,false,29,83359584,83361785,-2201]
[926,72,3,false,30,83449800,83450380,-580]
[927,72,4,false,29,83540016,83542030,-2014]
[928,72,5,false,30,83630232,83630625,-393]
[929,72,6,false,29,83720448,83722275,-1827]
[930,72,7,false,30,83810664,83810870,-206]
[931,72,8,false,29,83900880,83902520,-1640]
[932,72,9,false,30,83991096,83991115,-19]
[933,72,10,false,29,84081312,84082765,-1453]
[934,72,11,false,30,84171528,84171360,168]
[935,72,12,false,29,84261744,84263010,-1266]
[936,72,13,false,30,84351960,84351605,355]
[937,73,1,false,30,84442176,84443255,-1079]
[938,73,2,false,29,84532392,84534905,-2513]
[939,73,3,false,30,84622608,84623500,-892]
[940,73,4,false,29,84712824,84715150,-2326]
[941,73,5,false,30,84803040,84803745,-705]
[942,73,6,false,29,84893256,84895395,-2139]
[943,73,7,false,30,84983472,84983990,-518]
[944,73,8,false,29,85073688,85075640,-1952]
[945,73,9,false,30,85163904,85164235,-331]
[946,73,10,false,29,85254120,85255885,-1765]
[947,73,11,false,30,85344336,85344480,-144]
[948,73,12,false,29,85434552,85436130,-1578]
[949,73,13,false,30,85524768,85524725,43]
[950,74,1,false,30,85614984,85616375,-1391]
[951,74,2,false,29,85705200,85708025,-2825]
[952,74,3,false,30,85795416,85796620,-1204]
[953,74,4,false,29,85885632,85888270,-2638]
[954,74,5,false,30,85975848,85976865,-1017]
[955,74,6,false,29,86066064,86068515,-2451]
[956,74,7,false,30,86156280,86157110,-830]
[957,74,8,false,29,86246496,86248760,-2264]
[958,74,9,false,30,86336712,86337355,-643]
[959,74,10,false,29,86426928,86429005,-2077]
[960,74,11,false,30,86517144,86517600,-456]
[961,74,12,false,29,86607360,86609250,{"$f":"F981-G981","v":-1890}]
[962,{"$f":"IF(C982=1,B981+1,B981)","v":74},13,{"$f":"AND(OR(MOD(B982,235)=0,MOD(B982,10)=0),C982=13)","v":false},{"$f":"IF(MOD(C982,2)=1,30,29)-IF(D982,1,0)","v":30},86697576,{"$f":"G981+E981*PPD","v":86697845},-269]
[963,75,{"$f":"IF(C982=13,1,C982+1)","v":1},false,30,{"$f":"F982+PPM","v":86787792},86789495,-1703]
[964,75,2,false,29,86878008,86881145,-3137]
[965,75,3,false,30,86968224,86969740,-1516]
[966,75,4,false,29,87058440,87061390,-2950]
[967,75,5,false,30,87148656,87149985,-1329]
[968,75,6,false,29,87238872,87241635,-2763]
[969,75,7,false,30,87329088,87330230,-1142]
[970,75,8,false,29,87419304,87421880,-2576]
[971,75,9,false,30,87509520,87510475,-955]
[972,75,10,false,29,87599736,87602125,-2389]
[973,75,11,false,30,87689952,87690720,-768]
[974,75,12,false,29,87780168,87782370,-2202]
[975,75,13,false,30,87870384,87870965,-581]
[976,76,1,false,30,87960600,87962615,-2015]
[977,76,2,false,29,88050816,88054265,-3449]
[978,76,3,false,30,88141032,88142860,-1828]
[979,76,4,false,29,88231248,88234510,-3262]
[{"$f":"A999+1","v":980},76,5,false,30,88321464,88323105,-1641]
[{"$f":"A1000+1","v":981},76,6,false,29,88411680,88414755,-3075]
[982,76,7,false,30,88501896,88503350,-1454]
[983,76,8,false,29,88592112,88595000,-2888]
[984,76,9,false,30,88682328,88683595,-1267]
[985,76,10,false,29,88772544,88775245,-2701]
[986,76,11,false,30,88862760,88863840,-1080]
[987,76,12,false,29,88952976,88955490,-2514]
[988,76,13,false,30,89043192,89044085,-893]
[989,77,1,false,30,89133408,89135735,-2327]
[990,77,2,false,29,89223624,89227385,-3761]
[991,77,3,false,30,89313840,89315980,-2140]
[992,77,4,false,29,89404056,89407630,-3574]
[993,77,5,false,30,89494272,89496225,-1953]
[994,77,6,false,29,89584488,89587875,-3387]
[995,77,7,false,30,89674704,89676470,-1766]
[996,77,8,false,29,89764920,89768120,-3200]
[997,77,9,false,30,89855136,89856715,-1579]
[998,77,10,false,29,89945352,89948365,-3013]
[999,77,11,false,30,90035568,90036960,-1392]
[1000,77,12,false,29,90125784,90128610,-2826]
[1001,77,13,false,30,90216000,90217205,-1205]
[1002,78,1,false,30,90306216,90308855,-2639]
[1003,78,2,false,29,90396432,90400505,-4073]
[1004,78,3,false,30,90486648,90489100,-2452]
[1005,78,4,false,29,90576864,90580750,-3886]
[1006,78,5,false,30,90667080,90669345,-2265]
[1007,78,6,false,29,90757296,90760995,-3699]
[1008,78,7,false,30,90847512,90849590,-2078]
[1009,78,8,false,29,90937728,90941240,-3512]
[1010,78,9,false,30,91027944,91029835,-1891]
[1011,78,10,false,29,91118160,91121485,-3325]
[1012,78,11,false,30,91208376,91210080,-1704]
[1013,78,12,false,29,91298592,91301730,-3138]
[1014,78,13,false,30,91388808,91390325,-1517]
[1015,79,1,false,30,91479024,91481975,-2951]
[1016,79,2,false,29,91569240,91573625,-4385]
[1017,79,3,false,30,91659456,91662220,-2764]
[1018,79,4,false,29,91749672,91753870,-4198]
[1019,79,5,false,30,91839888,91842465,-2577]
[1020,79,6,false,29,91930104,91934115,-4011]
[1021,79,7,false,30,92020320,92022710,-2390]
[1022,79,8,false,29,92110536,92114360,-3824]
[1023,79,9,false,30,92200752,92202955,-2203]
[1024,79,10,false,29,92290968,92294605,-3637]
[1025,79,11,false,30,92381184,92383200,{"$f":"F1045-G1045","v":-2016}]
[1026,{"$f":"IF(C1046=1,B1045+1,B1045)","v":79},12,{"$f":"AND(OR(MOD(B1046,235)=0,MOD(B1046,10)=0),C1046=13)","v":false},{"$f":"IF(MOD(C1046,2)=1,30,29)-IF(D1046,1,0)","v":29},92471400,{"$f":"G1045+E1045*PPD","v":92474850},-3450]
[1027,79,{"$f":"IF(C1046=13,1,C1046+1)","v":13},false,30,{"$f":"F1046+PPM","v":92561616},92563445,-1829]
[1028,80,1,false,30,92651832,92655095,-3263]
[1029,80,2,false,29,92742048,92746745,-4697]
[1030,80,3,false,30,92832264,92835340,-3076]
[1031,80,4,false,29,92922480,92926990,-4510]
[1032,80,5,false,30,93012696,93015585,-2889]
[1033,80,6,false,29,93102912,93107235,-4323]
[1034,80,7,false,30,93193128,93195830,-2702]
[1035,80,8,false,29,93283344,93287480,-4136]
[1036,80,9,false,30,93373560,93376075,-2515]
[1037,80,10,false,29,93463776,93467725,-3949]
[1038,80,11,false,30,93553992,93556320,-2328]
[1039,80,12,false,29,93644208,93647970,-3762]
[1040,80,13,true,29,93734424,93736565,-2141]
[1041,81,1,false,30,93824640,93825160,-520]
[1042,81,2,false,29,93914856,93916810,-1954]
[1043,81,3,false,30,94005072,94005405,-333]
[1044,81,4,false,29,94095288,94097055,-1767]
[{"$f":"A1064+1","v":1045},81,5,false,30,94185504,94185650,-146]
[1046,81,6,false,29,94275720,94277300,-1580]
[1047,81,7,false,30,94365936,94365895,41]
[1048,81,8,false,29,94456152,94457545,-1393]
[1049,81,9,false,30,94546368,94546140,228]
[1050,81,10,false,29,94636584,94637790,-1206]
[1051,81,11,false,30,94726800,94726385,415]
[1052,81,12,false,29,94817016,94818035,-1019]
[1053,81,13,false,30,94907232,94906630,602]
[1054,82,1,false,30,94997448,94998280,-832]
[1055,82,2,false,29,95087664,95089930,-2266]
[1056,82,3,false,30,95177880,95178525,-645]
[1057,82,4,false,29,95268096,95270175,-2079]
[1058,82,5,false,30,95358312,95358770,-458]
[1059,82,6,false,29,95448528,95450420,-1892]
[1060,82,7,false,30,95538744,95539015,-271]
[1061,82,8,false,29,95628960,95630665,-1705]
[1062,82,9,false,30,95719176,95719260,-84]
[1063,82,10,false,29,95809392,95810910,-1518]
[1064,82,11,false,30,95899608,95899505,103]
[1065,82,12,false,29,95989824,95991155,-1331]
[1066,82,13,false,30,96080040,96079750,290]
[1067,83,1,false,30,96170256,96171400,-1144]
[1068,83,2,false,29,96260472,96263050,-2578]
[1069,83,3,false,30,96350688,96351645,-957]
[1070,83,4,false,29,96440904,96443295,-2391]
[1071,83,5,false,30,96531120,96531890,-770]
[1072,83,6,false,29,96621336,96623540,-2204]
[1073,83,7,false,30,96711552,96712135,-583]
[1074,83,8,false,29,96801768,96803785,-2017]
[1075,83,9,false,30,96891984,96892380,-396]
[1076,83,10,false,29,96982200,96984030,-1830]
[1077,83,11,false,30,97072416,97072625,-209]
[1078,83,12,false,29,97162632,97164275,-1643]
[1079,83,13,false,30,97252848,97252870,-22]
[1080,84,1,false,30,97343064,97344520,-1456]
[1081,84,2,false,29,97433280,97436170,-2890]
[1082,84,3,false,30,97523496,97524765,-1269]
[1083,84,4,false,29,97613712,97616415,-2703]
[1084,84,5,false,30,97703928,97705010,-1082]
[1085,84,6,false,29,97794144,97796660,-2516]
[1086,84,7,false,30,97884360,97885255,-895]
[1087,84,8,false,29,97974576,97976905,-2329]
[1088,84,9,false,30,98064792,98065500,-708]
[1089,84,10,false,29,98155008,98157150,{"$f":"F1109-G1109","v":-2142}]
[1090,{"$f":"IF(C1110=1,B1109+1,B1109)","v":84},11,{"$f":"AND(OR(MOD(B1110,235)=0,MOD(B1110,10)=0),C1110=13)","v":false},{"$f":"IF(MOD(C1110,2)=1,30,29)-IF(D1110,1,0)","v":30},98245224,{"$f":"G1109+E1109*PPD","v":98245745},-521]
[1091,84,{"$f":"IF(C1110=13,1,C1110+1)","v":12},false,29,{"$f":"F1110+PPM","v":98335440},98337395,-1955]
[1092,84,13,false,30,98425656,98425990,-334]
[1093,85,1,false,30,98515872,98517640,-1768]
[1094,85,2,false,29,98606088,98609290,-3202]
[1095,85,3,false,30,98696304,98697885,-1581]
[1096,85,4,false,29,98786520,98789535,-3015]
[1097,85,5,false,30,98876736,98878130,-1394]
[1098,85,6,false,29,98966952,98969780,-2828]
[1099,85,7,false,30,99057168,99058375,-1207]
[1100,85,8,false,29,99147384,99150025,-2641]
[1101,85,9,false,30,99237600,99238620,-1020]
[1102,85,10,false,29,99327816,99330270,-2454]
[1103,85,11,false,30,99418032,99418865,-833]
[1104,85,12,false,29,99508248,99510515,-2267]
[1105,85,13,false,30,99598464,99599110,-646]
[1106,86,1,false,30,99688680,99690760,-2080]
[1107,86,2,false,29,99778896,99782410,-3514]
[1108,86,3,false,30,99869112,99871005,-1893]
[{"$f":"A1128+1","v":1109},86,4,false,29,99959328,99962655,-3327]
[1110,86,5,false,30,100049544,100051250,-1706]
[1111,86,6,false,29,100139760,100142900,-3140]
[1112,86,7,false,30,100229976,100231495,-1519]
[1113,86,8,false,29,100320192,100323145,-2953]
[1114,86,9,false,30,100410408,100411740,-1332]
[1115,86,10,false,29,100500624,100503390,-2766]
[1116,86,11,false,30,100590840,100591985,-1145]
[1117,86,12,false,29,100681056,100683635,-2579]
[1118,86,13,false,30,100771272,100772230,-958]
[1119,87,1,false,30,100861488,100863880,-2392]
[1120,87,2,false,29,100951704,100955530,-3826]
[1121,87,3,false,30,101041920,101044125,-2205]
[1122,87,4,false,29,101132136,101135775,-3639]
[1123,87,5,false,30,101222352,101224370,-2018]
[1124,87,6,false,29,101312568,101316020,-3452]
[1125,87,7,false,30,101402784,101404615,-1831]
[1126,87,8,false,29,101493000,101496265,-3265]
[1127,87,9,false,30,101583216,101584860,-1644]
[1128,87,10,false,29,101673432,101676510,-3078]
[1129,87,11,false,30,101763648,101765105,-1457]
[1130,87,12,false,29,101853864,101856755,-2891]
[1131,87,13,false,30,101944080,101945350,-1270]
[1132,88,1,false,30,102034296,102037000,-2704]
[1133,88,2,false,29,102124512,102128650,-4138]
[1134,88,3,false,30,102214728,102217245,-2517]
[1135,88,4,false,29,102304944,102308895,-3951]
[1136,88,5,false,30,102395160,102397490,-2330]
[1137,88,6,false,29,102485376,102489140,-3764]
[1138,88,7,false,30,102575592,102577735,-2143]
[1139,88,8,false,29,102665808,102669385,-3577]
[1140,88,9,false,30,102756024,102757980,-1956]
[1141,88,10,false,29,102846240,102849630,-3390]
[1142,88,11,false,30,102936456,102938225,-1769]
[1143,88,12,false,29,103026672,103029875,-3203]
[1144,88,13,false,30,103116888,103118470,-1582]
[1145,89,1,false,30,103207104,103210120,-3016]
[1146,89,2,false,29,103297320,103301770,-4450]
[1147,89,3,false,30,103387536,103390365,-2829]
[1148,89,4,false,29,103477752,103482015,-4263]
[1149,89,5,false,30,103567968,103570610,-2642]
[1150,89,6,false,29,103658184,103662260,-4076]
[1151,89,7,false,30,103748400,103750855,-2455]
[1152,89,8,false,29,103838616,103842505,-3889]
[1153,89,9,false,30,103928832,103931100,{"$f":"F1173-G1173","v":-2268}]
[1154,{"$f":"IF(C1174=1,B1173+1,B1173)","v":89},10,{"$f":"AND(OR(MOD(B1174,235)=0,MOD(B1174,10)=0),C1174=13)","v":false},{"$f":"IF(MOD(C1174,2)=1,30,29)-IF(D1174,1,0)","v":29},104019048,{"$f":"G1173+E1173*PPD","v":104022750},-3702]
[1155,89,{"$f":"IF(C1174=13,1,C1174+1)","v":11},false,30,{"$f":"F1174+PPM","v":104109264},104111345,-2081]
[1156,89,12,false,29,104199480,104202995,-3515]
[1157,89,13,false,30,104289696,104291590,-1894]
[1158,90,1,false,30,104379912,104383240,-3328]
[1159,90,2,false,29,104470128,104474890,-4762]
[1160,90,3,false,30,104560344,104563485,-3141]
[1161,90,4,false,29,104650560,104655135,-4575]
[1162,90,5,false,30,104740776,104743730,-2954]
[1163,90,6,false,29,104830992,104835380,-4388]
[1164,90,7,false,30,104921208,104923975,-2767]
[1165,90,8,false,29,105011424,105015625,-4201]
[1166,90,9,false,30,105101640,105104220,-2580]
[1167,90,10,false,29,105191856,105195870,-4014]
[1168,90,11,false,30,105282072,105284465,-2393]
[1169,90,12,false,29,105372288,105376115,-3827]
[1170,90,13,true,29,105462504,105464710,-2206]
[1171,91,1,false,30,105552720,105553305,-585]
[1172,91,2,false,29,105642936,105644955,-2019]
[{"$f":"A1192+1","v":1173},91,3,false,30,105733152,105733550,-398]
[1174,91,4,false,29,105823368,105825200,-1832]
[1175,91,5,false,30,105913584,105913795,-211]
[1176,91,6,false,29,106003800,106005445,-1645]
[1177,91,7,false,30,106094016,106094040,-24]
[1178,91,8,false,29,106184232,106185690,-1458]
[1179,91,9,false,30,106274448,106274285,163]
[1180,91,10,false,29,106364664,106365935,-1271]
[1181,91,11,false,30,106454880,106454530,350]
[1182,91,12,false,29,106545096,106546180,-1084]
[1183,91,13,false,30,106635312,106634775,537]
[1184,92,1,false,30,106725528,106726425,-897]
[1185,92,2,false,29,106815744,106818075,-2331]
[1186,92,3,false,30,106905960,106906670,-710]
[1187,92,4,false,29,106996176,106998320,-2144]
[1188,92,5,false,30,107086392,107086915,-523]
[1189,92,6,false,29,107176608,107178565,-1957]
[1190,92,7,false,30,107266824,107267160,-336]
[1191,92,8,false,29,107357040,107358810,-1770]
[1192,92,9,false,30,107447256,107447405,-149]
[1193,92,10,false,29,107537472,107539055,-1583]
[1194,92,11,false,30,107627688,107627650,38]
[1195,92,12,false,29,107717904,107719300,-1396]
[1196,92,13,false,30,107808120,107807895,225]
[1197,93,1,false,30,107898336,107899545,-1209]
[1198,93,2,false,29,107988552,107991195,-2643]
[1199,93,3,false,30,108078768,108079790,-1022]
[1200,93,4,false,29,108168984,108171440,-2456]
[1201,93,5,false,30,108259200,108260035,-835]
[1202,93,6,false,29,108349416,108351685,-2269]
[1203,93,7,false,30,108439632,108440280,-648]
[1204,93,8,false,29,108529848,108531930,-2082]
[1205,93,9,false,30,108620064,108620525,-461]
[1206,93,10,false,29,108710280,108712175,-1895]
[1207,93,11,false,30,108800496,108800770,-274]
[1208,93,12,false,29,108890712,108892420,-1708]
[1209,93,13,false,30,108980928,108981015,-87]
[1210,94,1,false,30,109071144,109072665,-1521]
[1211,94,2,false,29,109161360,109164315,-2955]
[1212,94,3,false,30,109251576,109252910,-1334]
[1213,94,4,false,29,109341792,109344560,-2768]
[1214,94,5,false,30,109432008,109433155,-1147]
[1215,94,6,false,29,109522224,109524805,-2581]
[1216,94,7,false,30,109612440,109613400,-960]
[1217,94,8,false,29,109702656,109705050,{"$f":"F1237-G1237","v":-2394}]
[1218,{"$f":"IF(C1238=1,B1237+1,B1237)","v":94},9,{"$f":"AND(OR(MOD(B1238,235)=0,MOD(B1238,10)=0),C1238=13)","v":false},{"$f":"IF(MOD(C1238,2)=1,30,29)-IF(D1238,1,0)","v":30},109792872,{"$f":"G1237+E1237*PPD","v":109793645},-773]
[1219,94,{"$f":"IF(C1238=13,1,C1238+1)","v":10},false,29,{"$f":"F1238+PPM","v":109883088},109885295,-2207]
[1220,94,11,false,30,109973304,109973890,-586]
[1221,94,12,false,29,110063520,110065540,-2020]
[1222,94,13,false,30,110153736,110154135,-399]
[1223,95,1,false,30,110243952,110245785,-1833]
[1224,95,2,false,29,110334168,110337435,-3267]
[1225,95,3,false,30,110424384,110426030,-1646]
[1226,95,4,false,29,110514600,110517680,-3080]
[1227,95,5,false,30,110604816,110606275,-1459]
[1228,95,6,false,29,110695032,110697925,-2893]
[1229,95,7,false,30,110785248,110786520,-1272]
[1230,95,8,false,29,110875464,110878170,-2706]
[1231,95,9,false,30,110965680,110966765,-1085]
[1232,95,10,false,29,111055896,111058415,-2519]
[1233,95,11,false,30,111146112,111147010,-898]
[1234,95,12,false,29,111236328,111238660,-2332]
[1235,95,13,false,30,111326544,111327255,-711]
[1236,96,1,false,30,111416760,111418905,-2145]
[{"$f":"A1256+1","v":1237},96,2,false,29,111506976,111510555,-3579]
[1238,96,3,false,30,111597192,111599150,-1958]
[1239,96,4,false,29,111687408,111690800,-3392]
[1240,96,5,false,30,111777624,111779395,-1771]
[1241,96,6,false,29,111867840,111871045,-3205]
[1242,96,7,false,30,111958056,111959640,-1584]
[1243,96,8,false,29,112048272,112051290,-3018]
[1244,96,9,false,30,112138488,112139885,-1397]
[1245,96,10,false,29,112228704,112231535,-2831]
[1246,96,11,false,30,112318920,112320130,-1210]
[1247,96,12,false,29,112409136,112411780,-2644]
[1248,96,13,false,30,112499352,112500375,-1023]
[1249,97,1,false,30,112589568,112592025,-2457]
[1250,97,2,false,29,112679784,112683675,-3891]
[1251,97,3,false,30,112770000,112772270,-2270]
[1252,97,4,false,29,112860216,112863920,-3704]
[1253,97,5,false,30,112950432,112952515,-2083]
[1254,97,6,false,29,113040648,113044165,-3517]
[1255,97,7,false,30,113130864,113132760,-1896]
[1256,97,8,false,29,113221080,113224410,-3330]
[1257,97,9,false,30,113311296,113313005,-1709]
[1258,97,10,false,29,113401512,113404655,-3143]
[1259,97,11,false,30,113491728,113493250,-1522]
[1260,97,12,false,29,113581944,113584900,-2956]
[1261,97,13,false,30,113672160,113673495,-1335]
[1262,98,1,false,30,113762376,113765145,-2769]
[1263,98,2,false,29,113852592,113856795,-4203]
[1264,98,3,false,30,113942808,113945390,-2582]
[1265,98,4,false,29,114033024,114037040,-4016]
[1266,98,5,false,30,114123240,114125635,-2395]
[1267,98,6,false,29,114213456,114217285,-3829]
[1268,98,7,false,30,114303672,114305880,-2208]
[1269,98,8,false,29,114393888,114397530,-3642]
[1270,98,9,false,30,114484104,114486125,-2021]
[1271,98,10,false,29,114574320,114577775,-3455]
[1272,98,11,false,30,114664536,114666370,-1834]
[1273,98,12,false,29,114754752,114758020,-3268]
[1274,98,13,false,30,114844968,114846615,-1647]
[1275,99,1,false,30,114935184,114938265,-3081]
[1276,99,2,false,29,115025400,115029915,-4515]
[1277,99,3,false,30,115115616,115118510,-2894]
[1278,99,4,false,29,115205832,115210160,-4328]
[1279,99,5,false,30,115296048,115298755,-2707]
[1280,99,6,false,29,115386264,115390405,-4141]
[1281,99,7,false,30,115476480,115479000,{"$f":"F1301-G1301","v":-2520}]
[1282,{"$f":"IF(C1302=1,B1301+1,B1301)","v":99},8,{"$f":"AND(OR(MOD(B1302,235)=0,MOD(B1302,10)=0),C1302=13)","v":false},{"$f":"IF(MOD(C1302,2)=1,30,29)-IF(D1302,1,0)","v":29},115566696,{"$f":"G1301+E1301*PPD","v":115570650},-3954]
[1283,99,{"$f":"IF(C1302=13,1,C1302+1)","v":9},false,30,{"$f":"F1302+PPM","v":115656912},115659245,-2333]
[1284,99,10,false,29,115747128,115750895,-3767]
[1285,99,11,false,30,115837344,115839490,-2146]
[1286,99,12,false,29,115927560,115931140,-3580]
[1287,99,13,false,30,116017776,116019735,-1959]
[1288,100,1,false,30,116107992,116111385,-3393]
[1289,100,2,false,29,116198208,116203035,-4827]
[1290,100,3,false,30,116288424,116291630,-3206]
[1291,100,4,false,29,116378640,116383280,-4640]
[1292,100,5,false,30,116468856,116471875,-3019]
[1293,100,6,false,29,116559072,116563525,-4453]
[1294,100,7,false,30,116649288,116652120,-2832]
[1295,100,8,false,29,116739504,116743770,-4266]
[1296,100,9,false,30,116829720,116832365,-2645]
[1297,100,10,false,29,116919936,116924015,-4079]
[1298,100,11,false,30,117010152,117012610,-2458]
[1299,100,12,false,29,117100368,117104260,-3892]
[1300,100,13,true,29,117190584,117192855,-2271]
[{"$f":"A1320+1","v":1301},101,1,false,30,117280800,117281450,-650]
[1302,101,2,false,29,117371016,117373100,-2084]
[1303,101,3,false,30,117461232,117461695,-463]
[1304,101,4,false,29,117551448,117553345,-1897]
[1305,101,5,false,30,117641664,117641940,-276]
[1306,101,6,false,29,117731880,117733590,-1710]
[1307,101,7,false,30,117822096,117822185,-89]
[1308,101,8,false,29,117912312,117913835,-1523]
[1309,101,9,false,30,118002528,118002430,98]
[1310,101,10,false,29,118092744,118094080,-1336]
[1311,101,11,false,30,118182960,118182675,285]
[1312,101,12,false,29,118273176,118274325,-1149]
[1313,101,13,false,30,118363392,118362920,472]
[1314,102,1,false,30,118453608,118454570,-962]
[1315,102,2,false,29,118543824,118546220,-2396]
[1316,102,3,false,30,118634040,118634815,-775]
[1317,102,4,false,29,118724256,118726465,-2209]
[1318,102,5,false,30,118814472,118815060,-588]
[1319,102,6,false,29,118904688,118906710,-2022]
[1320,102,7,false,30,118994904,118995305,-401]
[1321,102,8,false,29,119085120,119086955,-1835]
[1322,102,9,false,30,119175336,119175550,-214]
[1323,102,10,false,29,119265552,119267200,-1648]
[1324,102,11,false,30,119355768,119355795,-27]
[1325,102,12,false,29,119445984,119447445,-1461]
[1326,102,13,false,30,119536200,119536040,160]
[1327,103,1,false,30,119626416,119627690,-1274]
[1328,103,2,false,29,119716632,119719340,-2708]
[1329,103,3,false,30,119806848,119807935,-1087]
[1330,103,4,false,29,119897064,119899585,-2521]
[1331,103,5,false,30,119987280,119988180,-900]
[1332,103,6,false,29,120077496,120079830,-2334]
[1333,103,7,false,30,120167712,120168425,-713]
[1334,103,8,false,29,120257928,120260075,-2147]
[1335,103,9,false,30,120348144,120348670,-526]
[1336,103,10,false,29,120438360,120440320,-1960]
[1337,103,11,false,30,120528576,120528915,-339]
[1338,103,12,false,29,120618792,120620565,-1773]
[1339,103,13,false,30,120709008,120709160,-152]
[1340,104,1,false,30,120799224,120800810,-1586]
[1341,104,2,false,29,120889440,120892460,-3020]
[1342,104,3,false,30,120979656,120981055,-1399]
[1343,104,4,false,29,121069872,121072705,-2833]
[1344,104,5,false,30,121160088,121161300,-1212]
[1345,104,6,false,29,121250304,121252950,{"$f":"F1365-G1365","v":-2646}]
[1346,{"$f":"IF(C1366=1,B1365+1,B1365)","v":104},7,{"$f":"AND(OR(MOD(B1366,235)=0,MOD(B1366,10)=0),C1366=13)","v":false},{"$f":"IF(MOD(C1366,2)=1,30,29)-IF(D1366,1,0)","v":30},121340520,{"$f":"G1365+E1365*PPD","v":121341545},-1025]
[1347,104,{"$f":"IF(C1366=13,1,C1366+1)","v":8},false,29,{"$f":"F1366+PPM","v":121430736},121433195,-2459]
[1348,104,9,false,30,121520952,121521790,-838]
[1349,104,10,false,29,121611168,121613440,-2272]
[1350,104,11,false,30,121701384,121702035,-651]
[1351,104,12,false,29,121791600,121793685,-2085]
[1352,104,13,false,30,121881816,121882280,-464]
[1353,105,1,false,30,121972032,121973930,-1898]
[1354,105,2,false,29,122062248,122065580,-3332]
[1355,105,3,false,30,122152464,122154175,-1711]
[1356,105,4,false,29,122242680,122245825,-3145]
[1357,105,5,false,30,122332896,122334420,-1524]
[1358,105,6,false,29,122423112,122426070,-2958]
[1359,105,7,false,30,122513328,122514665,-1337]
[1360,105,8,false,29,122603544,122606315,-2771]
[1361,105,9,false,30,122693760,122694910,-1150]
[1362,105,10,false,29,122783976,122786560,-2584]
[1363,105,11,false,30,122874192,122875155,-963]
[1364,105,12,false,29,122964408,122966805,-2397]
[{"$f":"A1384+1","v":1365},105,13,false,30,123054624,123055400,-776]
[1366,106,1,false,30,123144840,123147050,-2210]
[1367,106,2,false,29,123235056,123238700,-3644]
[1368,106,3,false,30,123325272,123327295,-2023]
[1369,106,4,false,29,123415488,123418945,-3457]
[1370,106,5,false,30,123505704,123507540,-1836]
[1371,106,6,false,29,123595920,123599190,-3270]
[1372,106,7,false,30,123686136,123687785,-1649]
[1373,106,8,false,29,123776352,123779435,-3083]
[1374,106,9,false,30,123866568,123868030,-1462]
[1375,106,10,false,29,123956784,123959680,-2896]
[1376,106,11,false,30,124047000,124048275,-1275]
[1377,106,12,false,29,124137216,124139925,-2709]
[1378,106,13,false,30,124227432,124228520,-1088]
[1379,107,1,false,30,124317648,124320170,-2522]
[1380,107,2,false,29,124407864,124411820,-3956]
[1381,107,3,false,30,124498080,124500415,-2335]
[1382,107,4,false,29,124588296,124592065,-3769]
[1383,107,5,false,30,124678512,124680660,-2148]
[1384,107,6,false,29,124768728,124772310,-3582]
[1385,107,7,false,30,124858944,124860905,-1961]
[1386,107,8,false,29,124949160,124952555,-3395]
[1387,107,9,false,30,125039376,125041150,-1774]
[1388,107,10,false,29,125129592,125132800,-3208]
[1389,107,11,false,30,125219808,125221395,-1587]
[1390,107,12,false,29,125310024,125313045,-3021]
[1391,107,13,false,30,125400240,125401640,-1400]
[1392,108,1,false,30,125490456,125493290,-2834]
[1393,108,2,false,29,125580672,125584940,-4268]
[1394,108,3,false,30,125670888,125673535,-2647]
[1395,108,4,false,29,125761104,125765185,-4081]
[1396,108,5,false,30,125851320,125853780,-2460]
[1397,108,6,false,29,125941536,125945430,-3894]
[1398,108,7,false,30,126031752,126034025,-2273]
[1399,108,8,false,29,126121968,126125675,-3707]
[1400,108,9,false,30,126212184,126214270,-2086]
[1401,108,10,false,29,126302400,126305920,-3520]
[1402,108,11,false,30,126392616,126394515,-1899]
[1403,108,12,false,29,126482832,126486165,-3333]
[1404,108,13,false,30,126573048,126574760,-1712]
[1405,109,1,false,30,126663264,126666410,-3146]
[1406,109,2,false,29,126753480,126758060,-4580]
[1407,109,3,false,30,126843696,126846655,-2959]
[1408,109,4,false,29,126933912,126938305,-4393]
[1409,109,5,false,30,127024128,127026900,{"$f":"F1429-G1429","v":-2772}]
[1410,{"$f":"IF(C1430=1,B1429+1,B1429)","v":109},6,{"$f":"AND(OR(MOD(B1430,235)=0,MOD(B1430,10)=0),C1430=13)","v":false},{"$f":"IF(MOD(C1430,2)=1,30,29)-IF(D1430,1,0)","v":29},127114344,{"$f":"G1429+E1429*PPD","v":127118550},-4206]
[1411,109,{"$f":"IF(C1430=13,1,C1430+1)","v":7},false,30,{"$f":"F1430+PPM","v":127204560},127207145,-2585]
[1412,109,8,false,29,127294776,127298795,-4019]
[1413,109,9,false,30,127384992,127387390,-2398]
[1414,109,10,false,29,127475208,127479040,-3832]
[1415,109,11,false,30,127565424,127567635,-2211]
[1416,109,12,false,29,127655640,127659285,-3645]
[1417,109,13,false,30,127745856,127747880,-2024]
[1418,110,1,false,30,127836072,127839530,-3458]
[1419,110,2,false,29,127926288,127931180,-4892]
[1420,110,3,false,30,128016504,128019775,-3271]
[1421,110,4,false,29,128106720,128111425,-4705]
[1422,110,5,false,30,128196936,128200020,-3084]
[1423,110,6,false,29,128287152,128291670,-4518]
[1424,110,7,false,30,128377368,128380265,-2897]
[1425,110,8,false,29,128467584,128471915,-4331]
[1426,110,9,false,30,128557800,128560510,-2710]
[1427,110,10,false,29,128648016,128652160,-4144]
[1428,110,11,false,30,128738232,128740755,-2523]
[{"$f":"A1448+1","v":1429},110,12,false,29,128828448,128832405,-3957]
[1430,110,13,true,29,128918664,128921000,-2336]
[1431,111,1,false,30,129008880,129009595,-715]
[1432,111,2,false,29,129099096,129101245,-2149]
[1433,111,3,false,30,129189312,129189840,-528]
[1434,111,4,false,29,129279528,129281490,-1962]
[1435,111,5,false,30,129369744,129370085,-341]
[1436,111,6,false,29,129459960,129461735,-1775]
[1437,111,7,false,30,129550176,129550330,-154]
[1438,111,8,false,29,129640392,129641980,-1588]
[1439,111,9,false,30,129730608,129730575,33]
[1440,111,10,false,29,129820824,129822225,-1401]
[1441,111,11,false,30,129911040,129910820,220]
[1442,111,12,false,29,130001256,130002470,-1214]
[1443,111,13,false,30,130091472,130091065,407]
[1444,112,1,false,30,130181688,130182715,-1027]
[1445,112,2,false,29,130271904,130274365,-2461]
[1446,112,3,false,30,130362120,130362960,-840]
[1447,112,4,false,29,130452336,130454610,-2274]
[1448,112,5,false,30,130542552,130543205,-653]
[1449,112,6,false,29,130632768,130634855,-2087]
[1450,112,7,false,30,130722984,130723450,-466]
[1451,112,8,false,29,130813200,130815100,-1900]
[1452,112,9,false,30,130903416,130903695,-279]
[1453,112,10,false,29,130993632,130995345,-1713]
[1454,112,11,false,30,131083848,131083940,-92]
[1455,112,12,false,29,131174064,131175590,-1526]
[1456,112,13,false,30,131264280,131264185,95]
[1457,113,1,false,30,131354496,131355835,-1339]
[1458,113,2,false,29,131444712,131447485,-2773]
[1459,113,3,false,30,131534928,131536080,-1152]
[1460,113,4,false,29,131625144,131627730,-2586]
[1461,113,5,false,30,131715360,131716325,-965]
[1462,113,6,false,29,131805576,131807975,-2399]
[1463,113,7,false,30,131895792,131896570,-778]
[1464,113,8,false,29,131986008,131988220,-2212]
[1465,113,9,false,30,132076224,132076815,-591]
[1466,113,10,false,29,132166440,132168465,-2025]
[1467,113,11,false,30,132256656,132257060,-404]
[1468,113,12,false,29,132346872,132348710,-1838]
[1469,113,13,false,30,132437088,132437305,-217]
[1470,114,1,false,30,132527304,132528955,-1651]
[1471,114,2,false,29,132617520,132620605,-3085]
[1472,114,3,false,30,132707736,132709200,-1464]
[1473,114,4,false,29,132797952,132800850,{"$f":"F1493-G1493","v":-2898}]
[1474,{"$f":"IF(C1494=1,B1493+1,B1493)","v":114},5,{"$f":"AND(OR(MOD(B1494,235)=0,MOD(B1494,10)=0),C1494=13)","v":false},{"$f":"IF(MOD(C1494,2)=1,30,29)-IF(D1494,1,0)","v":30},132888168,{"$f":"G1493+E1493*PPD","v":132889445},-1277]
[1475,114,{"$f":"IF(C1494=13,1,C1494+1)","v":6},false,29,{"$f":"F1494+PPM","v":132978384},132981095,-2711]
[1476,114,7,false,30,133068600,133069690,-1090]
[1477,114,8,false,29,133158816,133161340,-2524]
[1478,114,9,false,30,133249032,133249935,-903]
[1479,114,10,false,29,133339248,133341585,-2337]
[1480,114,11,false,30,133429464,133430180,-716]
[1481,114,12,false,29,133519680,133521830,-2150]
[1482,114,13,false,30,133609896,133610425,-529]
[1483,115,1,false,30,133700112,133702075,-1963]
[1484,115,2,false,29,133790328,133793725,-3397]
[1485,115,3,false,30,133880544,133882320,-1776]
[1486,115,4,false,29,133970760,133973970,-3210]
[1487,115,5,false,30,134060976,134062565,-1589]
[1488,115,6,false,29,134151192,134154215,-3023]
[1489,115,7,false,30,134241408,134242810,-1402]
[1490,115,8,false,29,134331624,134334460,-2836]
[1491,115,9,false,30,134421840,134423055,-1215]
[1492,115,10,false,29,134512056,134514705,-2649]
[{"$f":"A1512+1","v":1493},115,11,false,30,134602272,134603300,-1028]
[1494,115,12,false,29,134692488,134694950,-2462]
[1495,115,13,false,30,134782704,134783545,-841]
[1496,116,1,false,30,134872920,134875195,-2275]
[1497,116,2,false,29,134963136,134966845,-3709]
[1498,116,3,false,30,135053352,135055440,-2088]
[1499,116,4,false,29,135143568,135147090,-3522]
[1500,116,5,false,30,135233784,135235685,-1901]
[1501,116,6,false,29,135324000,135327335,-3335]
[1502,116,7,false,30,135414216,135415930,-1714]
[1503,116,8,false,29,135504432,135507580,-3148]
[1504,116,9,false,30,135594648,135596175,-1527]
[1505,116,10,false,29,135684864,135687825,-2961]
[1506,116,11,false,30,135775080,135776420,-1340]
[1507,116,12,false,29,135865296,135868070,-2774]
[1508,116,13,false,30,135955512,135956665,-1153]
[1509,117,1,false,30,136045728,136048315,-2587]
[1510,117,2,false,29,136135944,136139965,-4021]
[1511,117,3,false,30,136226160,136228560,-2400]
[1512,117,4,false,29,136316376,136320210,-3834]
[1513,117,5,false,30,136406592,136408805,-2213]
[1514,117,6,false,29,136496808,136500455,-3647]
[1515,117,7,false,30,136587024,136589050,-2026]
[1516,117,8,false,29,136677240,136680700,-3460]
[1517,117,9,false,30,136767456,136769295,-1839]
[1518,117,10,false,29,136857672,136860945,-3273]
[1519,117,11,false,30,136947888,136949540,-1652]
[1520,117,12,false,29,137038104,137041190,-3086]
[1521,117,13,false,30,137128320,137129785,-1465]
[1522,118,1,false,30,137218536,137221435,-2899]
[1523,118,2,false,29,137308752,137313085,-4333]
[1524,118,3,false,30,137398968,137401680,-2712]
[1525,118,4,false,29,137489184,137493330,-4146]
[1526,118,5,false,30,137579400,137581925,-2525]
[1527,118,6,false,29,137669616,137673575,-3959]
[1528,118,7,false,30,137759832,137762170,-2338]
[1529,118,8,false,29,137850048,137853820,-3772]
[1530,118,9,false,30,137940264,137942415,-2151]
[1531,118,10,false,29,138030480,138034065,-3585]
[1532,118,11,false,30,138120696,138122660,-1964]
[1533,118,12,false,29,138210912,138214310,-3398]
[1534,118,13,false,30,138301128,138302905,-1777]
[1535,119,1,false,30,138391344,138394555,-3211]
[1536,119,2,false,29,138481560,138486205,-4645]
[1537,119,3,false,30,138571776,138574800,{"$f":"F1557-G1557","v":-3024}]
[1538,{"$f":"IF(C1558=1,B1557+1,B1557)","v":119},4,{"$f":"AND(OR(MOD(B1558,235)=0,MOD(B1558,10)=0),C1558=13)","v":false},{"$f":"IF(MOD(C1558,2)=1,30,29)-IF(D1558,1,0)","v":29},138661992,{"$f":"G1557+E1557*PPD","v":138666450},-4458]
[1539,119,{"$f":"IF(C1558=13,1,C1558+1)","v":5},false,30,{"$f":"F1558+PPM","v":138752208},138755045,-2837]
[1540,119,6,false,29,138842424,138846695,-4271]
[1541,119,7,false,30,138932640,138935290,-2650]
[1542,119,8,false,29,139022856,139026940,-4084]
[1543,119,9,false,30,139113072,139115535,-2463]
[1544,119,10,false,29,139203288,139207185,-3897]
[1545,119,11,false,30,139293504,139295780,-2276]
[1546,119,12,false,29,139383720,139387430,-3710]
[1547,119,13,false,30,139473936,139476025,-2089]
[1548,120,1,false,30,139564152,139567675,-3523]
[1549,120,2,false,29,139654368,139659325,-4957]
[1550,120,3,false,30,139744584,139747920,-3336]
[1551,120,4,false,29,139834800,139839570,-4770]
[1552,120,5,false,30,139925016,139928165,-3149]
[1553,120,6,false,29,140015232,140019815,-4583]
[1554,120,7,false,30,140105448,140108410,-2962]
[1555,120,8,false,29,140195664,140200060,-4396]
[1556,120,9,false,30,140285880,140288655,-2775]
[{"$f":"A1576+1","v":1557},120,10,false,29,140376096,140380305,-4209]
[1558,120,11,false,30,140466312,140468900,-2588]
[1559,120,12,false,29,140556528,140560550,-4022]
[1560,120,13,true,29,140646744,140649145,-2401]
[1561,121,1,false,30,140736960,140737740,-780]
[1562,121,2,false,29,140827176,140829390,-2214]
[1563,121,3,false,30,140917392,140917985,-593]
[1564,121,4,false,29,141007608,141009635,-2027]
[1565,121,5,false,30,141097824,141098230,-406]
[1566,121,6,false,29,141188040,141189880,-1840]
[1567,121,7,false,30,141278256,141278475,-219]
[1568,121,8,false,29,141368472,141370125,-1653]
[1569,121,9,false,30,141458688,141458720,-32]
[1570,121,10,false,29,141548904,141550370,-1466]
[1571,121,11,false,30,141639120,141638965,155]
[1572,121,12,false,29,141729336,141730615,-1279]
[1573,121,13,false,30,141819552,141819210,342]
[1574,122,1,false,30,141909768,141910860,-1092]
[1575,122,2,false,29,141999984,142002510,-2526]
[1576,122,3,false,30,142090200,142091105,-905]
[1577,122,4,false,29,142180416,142182755,-2339]
[1578,122,5,false,30,142270632,142271350,-718]
[1579,122,6,false,29,142360848,142363000,-2152]
[1580,122,7,false,30,142451064,142451595,-531]
[1581,122,8,false,29,142541280,142543245,-1965]
[1582,122,9,false,30,142631496,142631840,-344]
[1583,122,10,false,29,142721712,142723490,-1778]
[1584,122,11,false,30,142811928,142812085,-157]
[1585,122,12,false,29,142902144,142903735,-1591]
[1586,122,13,false,30,142992360,142992330,30]
[1587,123,1,false,30,143082576,143083980,-1404]
[1588,123,2,false,29,143172792,143175630,-2838]
[1589,123,3,false,30,143263008,143264225,-1217]
[1590,123,4,false,29,143353224,143355875,-2651]
[1591,123,5,false,30,143443440,143444470,-1030]
[1592,123,6,false,29,143533656,143536120,-2464]
[1593,123,7,false,30,143623872,143624715,-843]
[1594,123,8,false,29,143714088,143716365,-2277]
[1595,123,9,false,30,143804304,143804960,-656]
[1596,123,10,false,29,143894520,143896610,-2090]
[1597,123,11,false,30,143984736,143985205,-469]
[1598,123,12,false,29,144074952,144076855,-1903]
[1599,123,13,false,30,144165168,144165450,-282]
[1600,124,1,false,30,144255384,144257100,-1716]
[1601,124,2,false,29,144345600,144348750,{"$f":"F1621-G1621","v":-3150}]
[1602,{"$f":"IF(C1622=1,B1621+1,B1621)","v":124},3,{"$f":"AND(OR(MOD(B1622,235)=0,MOD(B1622,10)=0),C1622=13)","v":false},{"$f":"IF(MOD(C1622,2)=1,30,29)-IF(D1622,1,0)","v":30},144435816,{"$f":"G1621+E1621*PPD","v":144437345},-1529]
[1603,124,{"$f":"IF(C1622=13,1,C1622+1)","v":4},false,29,{"$f":"F1622+PPM","v":144526032},144528995,-2963]
[1604,124,5,false,30,144616248,144617590,-1342]
[1605,124,6,false,29,144706464,144709240,-2776]
[1606,124,7,false,30,144796680,144797835,-1155]
[1607,124,8,false,29,144886896,144889485,-2589]
[1608,124,9,false,30,144977112,144978080,-968]
[1609,124,10,false,29,145067328,145069730,-2402]
[1610,124,11,false,30,145157544,145158325,-781]
[1611,124,12,false,29,145247760,145249975,-2215]
[1612,124,13,false,30,145337976,145338570,-594]
[1613,125,1,false,30,145428192,145430220,-2028]
[1614,125,2,false,29,145518408,145521870,-3462]
[1615,125,3,false,30,145608624,145610465,-1841]
[1616,125,4,false,29,145698840,145702115,-3275]
[1617,125,5,false,30,145789056,145790710,-1654]
[1618,125,6,false,29,145879272,145882360,-3088]
[1619,125,7,false,30,145969488,145970955,-1467]
[1620,125,8,false,29,146059704,146062605,-2901]
[{"$f":"A1640+1","v":1621},125,9,false,30,146149920,146151200,-1280]
[1622,125,10,false,29,146240136,146242850,-2714]
[1623,125,11,false,30,146330352,146331445,-1093]
[1624,125,12,false,29,146420568,146423095,-2527]
[1625,125,13,false,30,146510784,146511690,-906]
[1626,126,1,false,30,146601000,146603340,-2340]
[1627,126,2,false,29,146691216,146694990,-3774]
[1628,126,3,false,30,146781432,146783585,-2153]
[1629,126,4,false,29,146871648,146875235,-3587]
[1630,126,5,false,30,146961864,146963830,-1966]
[1631,126,6,false,29,147052080,147055480,-3400]
[1632,126,7,false,30,147142296,147144075,-1779]
[1633,126,8,false,29,147232512,147235725,-3213]
[1634,126,9,false,30,147322728,147324320,-1592]
[1635,126,10,false,29,147412944,147415970,-3026]
[1636,126,11,false,30,147503160,147504565,-1405]
[1637,126,12,false,29,147593376,147596215,-2839]
[1638,126,13,false,30,147683592,147684810,-1218]
[1639,127,1,false,30,147773808,147776460,-2652]
[1640,127,2,false,29,147864024,147868110,-4086]
[1641,127,3,false,30,147954240,147956705,-2465]
[1642,127,4,false,29,148044456,148048355,-3899]
[1643,127,5,false,30,148134672,148136950,-2278]
[1644,127,6,false,29,148224888,148228600,-3712]
[1645,127,7,false,30,148315104,148317195,-2091]
[1646,127,8,false,29,148405320,148408845,-3525]
[1647,127,9,false,30,148495536,148497440,-1904]
[1648,127,10,false,29,148585752,148589090,-3338]
[1649,127,11,false,30,148675968,148677685,-1717]
[1650,127,12,false,29,148766184,148769335,-3151]
[1651,127,13,false,30,148856400,148857930,-1530]
[1652,128,1,false,30,148946616,148949580,-2964]
[1653,128,2,false,29,149036832,149041230,-4398]
[1654,128,3,false,30,149127048,149129825,-2777]
[1655,128,4,false,29,149217264,149221475,-4211]
[1656,128,5,false,30,149307480,149310070,-2590]
[1657,128,6,false,29,149397696,149401720,-4024]
[1658,128,7,false,30,149487912,149490315,-2403]
[1659,128,8,false,29,149578128,149581965,-3837]
[1660,128,9,false,30,149668344,149670560,-2216]
[1661,128,10,false,29,149758560,149762210,-3650]
[1662,128,11,false,30,149848776,149850805,-2029]
[1663,128,12,false,29,149938992,149942455,-3463]
[1664,128,13,false,30,150029208,150031050,-1842]
[1665,129,1,false,30,150119424,150122700,{"$f":"F1685-G1685","v":-3276}]
[1666,{"$f":"IF(C1686=1,B1685+1,B1685)","v":129},2,{"$f":"AND(OR(MOD(B1686,235)=0,MOD(B1686,10)=0),C1686=13)","v":false},{"$f":"IF(MOD(C1686,2)=1,30,29)-IF(D1686,1,0)","v":29},150209640,{"$f":"G1685+E1685*PPD","v":150214350},-4710]
[1667,129,{"$f":"IF(C1686=13,1,C1686+1)","v":3},false,30,{"$f":"F1686+PPM","v":150299856},150302945,-3089]
[1668,129,4,false,29,150390072,150394595,-4523]
[1669,129,5,false,30,150480288,150483190,-2902]
[1670,129,6,false,29,150570504,150574840,-4336]
[1671,129,7,false,30,150660720,150663435,-2715]
[1672,129,8,false,29,150750936,150755085,-4149]
[1673,129,9,false,30,150841152,150843680,-2528]
[1674,129,10,false,29,150931368,150935330,-3962]
[1675,129,11,false,30,151021584,151023925,-2341]
[1676,129,12,false,29,151111800,151115575,-3775]
[1677,129,13,false,30,151202016,151204170,-2154]
[1678,130,1,false,30,151292232,151295820,-3588]
[1679,130,2,false,29,151382448,151387470,-5022]
[1680,130,3,false,30,151472664,151476065,-3401]
[1681,130,4,false,29,151562880,151567715,-4835]
[1682,130,5,false,30,151653096,151656310,-3214]
[1683,130,6,false,29,151743312,151747960,-4648]
[1684,130,7,false,30,151833528,151836555,-3027]
[{"$f":"A1704+1","v":1685},130,8,false,29,151923744,151928205,-4461]
[1686,130,9,false,30,152013960,152016800,-2840]
[1687,130,10,false,29,152104176,152108450,-4274]
[1688,130,11,false,30,152194392,152197045,-2653]
[1689,130,12,false,29,152284608,152288695,-4087]
[1690,130,13,true,29,152374824,152377290,-2466]
[1691,131,1,false,30,152465040,152465885,-845]
[1692,131,2,false,29,152555256,152557535,-2279]
[1693,131,3,false,30,152645472,152646130,-658]
[1694,131,4,false,29,152735688,152737780,-2092]
[1695,131,5,false,30,152825904,152826375,-471]
[1696,131,6,false,29,152916120,152918025,-1905]
[1697,131,7,false,30,153006336,153006620,-284]
[1698,131,8,false,29,153096552,153098270,-1718]
[1699,131,9,false,30,153186768,153186865,-97]
[1700,131,10,false,29,153276984,153278515,-1531]
[1701,131,11,false,30,153367200,153367110,90]
[{"$f":"A1721+1","v":1702},131,12,false,29,153457416,153458760,-1344]
[1703,131,13,false,30,153547632,153547355,277]
[1704,132,1,false,30,153637848,153639005,-1157]
[1705,132,2,false,29,153728064,153730655,-2591]
[1706,132,3,false,30,153818280,153819250,-970]
[1707,132,4,false,29,153908496,153910900,-2404]
[1708,132,5,false,30,153998712,153999495,-783]
[1709,132,6,false,29,154088928,154091145,-2217]
[1710,132,7,false,30,154179144,154179740,-596]
[1711,132,8,false,29,154269360,154271390,-2030]
[1712,132,9,false,30,154359576,154359985,-409]
[1713,132,10,false,29,154449792,154451635,-1843]
[1714,132,11,false,30,154540008,154540230,-222]
[1715,132,12,false,29,154630224,154631880,-1656]
[1716,132,13,false,30,154720440,154720475,-35]
[1717,133,1,false,30,154810656,154812125,-1469]
[1718,133,2,false,29,154900872,154903775,-2903]
[1719,133,3,false,30,154991088,154992370,-1282]
[1720,133,4,false,29,155081304,155084020,-2716]
[1721,133,5,false,30,155171520,155172615,-1095]
[1722,133,6,false,29,155261736,155264265,-2529]
[1723,133,7,false,30,155351952,155352860,-908]
[1724,133,8,false,29,155442168,155444510,-2342]
[1725,133,9,false,30,155532384,155533105,-721]
[1726,133,10,false,29,155622600,155624755,-2155]
[1727,133,11,false,30,155712816,155713350,-534]
[1728,133,12,false,29,155803032,155805000,-1968]
[1729,133,13,false,30,155893248,155893595,{"$f":"F1749-G1749","v":-347}]
[1730,{"$f":"IF(C1750=1,B1749+1,B1749)","v":134},1,{"$f":"AND(OR(MOD(B1750,235)=0,MOD(B1750,10)=0),C1750=13)","v":false},{"$f":"IF(MOD(C1750,2)=1,30,29)-IF(D1750,1,0)","v":30},155983464,{"$f":"G1749+E1749*PPD","v":155985245},-1781]
[1731,134,{"$f":"IF(C1750=13,1,C1750+1)","v":2},false,29,{"$f":"F1750+PPM","v":156073680},156076895,-3215]
[1732,134,3,false,30,156163896,156165490,-1594]
[1733,134,4,false,29,156254112,156257140,-3028]
[1734,134,5,false,30,156344328,156345735,-1407]
[1735,134,6,false,29,156434544,156437385,-2841]
[1736,134,7,false,30,156524760,156525980,-1220]
[1737,134,8,false,29,156614976,156617630,-2654]
[1738,134,9,false,30,156705192,156706225,-1033]
[1739,134,10,false,29,156795408,156797875,-2467]
[1740,134,11,false,30,156885624,156886470,-846]
[1741,134,12,false,29,156975840,156978120,-2280]
[1742,134,13,false,30,157066056,157066715,-659]
[1743,135,1,false,30,157156272,157158365,-2093]
[1744,135,2,false,29,157246488,157250015,-3527]
[1745,135,3,false,30,157336704,157338610,-1906]
[1746,135,4,false,29,157426920,157430260,-3340]
[1747,135,5,false,30,157517136,157518855,-1719]
[1748,135,6,false,29,157607352,157610505,-3153]
[1749,135,7,false,30,157697568,157699100,-1532]
[1750,135,8,false,29,157787784,157790750,-2966]
[1751,135,9,false,30,157878000,157879345,-1345]
[1752,135,10,false,29,157968216,157970995,-2779]
[1753,135,11,false,30,158058432,158059590,-1158]
[1754,135,12,false,29,158148648,158151240,-2592]
[1755,135,13,false,30,158238864,158239835,-971]
[1756,136,1,false,30,158329080,158331485,-2405]
[1757,136,2,false,29,158419296,158423135,-3839]
[1758,136,3,false,30,158509512,158511730,-2218]
[1759,136,4,false,29,158599728,158603380,-3652]
[1760,136,5,false,30,158689944,158691975,-2031]
[1761,136,6,false,29,158780160,158783625,-3465]
[1762,136,7,false,30,158870376,158872220,-1844]
[1763,136,8,false,29,158960592,158963870,-3278]
[1764,136,9,false,30,159050808,159052465,-1657]
[1765,136,10,false,29,159141024,159144115,-3091]
[{"$f":"A1785+1","v":1766},136,11,false,30,159231240,159232710,-1470]
[1767,136,12,false,29,159321456,159324360,-2904]
[1768,136,13,false,30,159411672,159412955,-1283]
[1769,137,1,false,30,159501888,159504605,-2717]
[1770,137,2,false,29,159592104,159596255,-4151]
[1771,137,3,false,30,159682320,159684850,-2530]
[1772,137,4,false,29,159772536,159776500,-3964]
[1773,137,5,false,30,159862752,159865095,-2343]
[1774,137,6,false,29,159952968,159956745,-3777]
[1775,137,7,false,30,160043184,160045340,-2156]
[1776,137,8,false,29,160133400,160136990,-3590]
[1777,137,9,false,30,160223616,160225585,-1969]
[1778,137,10,false,29,160313832,160317235,-3403]
[1779,137,11,false,30,160404048,160405830,-1782]
[1780,137,12,false,29,160494264,160497480,-3216]
[1781,137,13,false,30,160584480,160586075,-1595]
[1782,138,1,false,30,160674696,160677725,-3029]
[1783,138,2,false,29,160764912,160769375,-4463]
[1784,138,3,false,30,160855128,160857970,-2842]
[1785,138,4,false,29,160945344,160949620,-4276]
[1786,138,5,false,30,161035560,161038215,-2655]
[1787,138,6,false,29,161125776,161129865,-4089]
[1788,138,7,false,30,161215992,161218460,-2468]
[1789,138,8,false,29,161306208,161310110,-3902]
[1790,138,9,false,30,161396424,161398705,-2281]
[1791,138,10,false,29,161486640,161490355,-3715]
[1792,138,11,false,30,161576856,161578950,-2094]
[1793,138,12,false,29,161667072,161670600,{"$f":"F1813-G1813","v":-3528}]
[1794,{"$f":"IF(C1814=1,B1813+1,B1813)","v":138},13,{"$f":"AND(OR(MOD(B1814,235)=0,MOD(B1814,10)=0),C1814=13)","v":false},{"$f":"IF(MOD(C1814,2)=1,30,29)-IF(D1814,1,0)","v":30},161757288,{"$f":"G1813+E1813*PPD","v":161759195},-1907]
[1795,139,{"$f":"IF(C1814=13,1,C1814+1)","v":1},false,30,{"$f":"F1814+PPM","v":161847504},161850845,-3341]
[1796,139,2,false,29,161937720,161942495,-4775]
[1797,139,3,false,30,162027936,162031090,-3154]
[1798,139,4,false,29,162118152,162122740,-4588]
[1799,139,5,false,30,162208368,162211335,-2967]
[1800,139,6,false,29,162298584,162302985,-4401]
[1801,139,7,false,30,162388800,162391580,-2780]
[1802,139,8,false,29,162479016,162483230,-4214]
[1803,139,9,false,30,162569232,162571825,-2593]
[1804,139,10,false,29,162659448,162663475,-4027]
[1805,139,11,false,30,162749664,162752070,-2406]
[1806,139,12,false,29,162839880,162843720,-3840]
[1807,139,13,false,30,162930096,162932315,-2219]
[1808,140,1,false,30,163020312,163023965,-3653]
[1809,140,2,false,29,163110528,163115615,-5087]
[1810,140,3,false,30,163200744,163204210,-3466]
[1811,140,4,false,29,163290960,163295860,-4900]
[1812,140,5,false,30,163381176,163384455,-3279]
[1813,140,6,false,29,163471392,163476105,-4713]
[1814,140,7,false,30,163561608,163564700,-3092]
[1815,140,8,false,29,163651824,163656350,-4526]
[1816,140,9,false,30,163742040,163744945,-2905]
[1817,140,10,false,29,163832256,163836595,-4339]
[1818,140,11,false,30,163922472,163925190,-2718]
[1819,140,12,false,29,164012688,164016840,-4152]
[1820,140,13,true,29,164102904,164105435,-2531]
[1821,141,1,false,30,164193120,164194030,-910]
[1822,141,2,false,29,164283336,164285680,-2344]
[1823,141,3,false,30,164373552,164374275,-723]
[1824,141,4,false,29,164463768,164465925,-2157]
[1825,141,5,false,30,164553984,164554520,-536]
[1826,141,6,false,29,164644200,164646170,-1970]
[1827,141,7,false,30,164734416,164734765,-349]
[1828,141,8,false,29,164824632,164826415,-1783]
[1829,141,9,false,30,164914848,164915010,-162]
[{"$f":"A1849+1","v":1830},141,10,false,29,165005064,165006660,-1596]
[1831,141,11,false,30,165095280,165095255,25]
[1832,141,12,false,29,165185496,165186905,-1409]
[1833,141,13,false,30,165275712,165275500,212]
[1834,142,1,false,30,165365928,165367150,-1222]
[1835,142,2,false,29,165456144,165458800,-2656]
[1836,142,3,false,30,165546360,165547395,-1035]
[1837,142,4,false,29,165636576,165639045,-2469]
[1838,142,5,false,30,165726792,165727640,-848]
[1839,142,6,false,29,165817008,165819290,-2282]
[1840,142,7,false,30,165907224,165907885,-661]
[1841,142,8,false,29,165997440,165999535,-2095]
[1842,142,9,false,30,166087656,166088130,-474]
[1843,142,10,false,29,166177872,166179780,-1908]
[1844,142,11,false,30,166268088,166268375,-287]
[1845,142,12,false,29,166358304,166360025,-1721]
[1846,142,13,false,30,166448520,166448620,-100]
[1847,143,1,false,30,166538736,166540270,-1534]
[1848,143,2,false,29,166628952,166631920,-2968]
[1849,143,3,false,30,166719168,166720515,-1347]
[1850,143,4,false,29,166809384,166812165,-2781]
[1851,143,5,false,30,166899600,166900760,-1160]
[1852,143,6,false,29,166989816,166992410,-2594]
[1853,143,7,false,30,167080032,167081005,-973]
[1854,143,8,false,29,167170248,167172655,-2407]
[1855,143,9,false,30,167260464,167261250,-786]
[1856,143,10,false,29,167350680,167352900,-2220]
[1857,143,11,false,30,167440896,167441495,{"$f":"F1877-G1877","v":-599}]
[1858,{"$f":"IF(C1878=1,B1877+1,B1877)","v":143},12,{"$f":"AND(OR(MOD(B1878,235)=0,MOD(B1878,10)=0),C1878=13)","v":false},{"$f":"IF(MOD(C1878,2)=1,30,29)-IF(D1878,1,0)","v":29},167531112,{"$f":"G1877+E1877*PPD","v":167533145},-2033]
[1859,143,{"$f":"IF(C1878=13,1,C1878+1)","v":13},false,30,{"$f":"F1878+PPM","v":167621328},167621740,-412]
[1860,144,1,false,30,167711544,167713390,-1846]
[1861,144,2,false,29,167801760,167805040,-3280]
[1862,144,3,false,30,167891976,167893635,-1659]
[1863,144,4,false,29,167982192,167985285,-3093]
[1864,144,5,false,30,168072408,168073880,-1472]
[1865,144,6,false,29,168162624,168165530,-2906]
[1866,144,7,false,30,168252840,168254125,-1285]
[1867,144,8,false,29,168343056,168345775,-2719]
[1868,144,9,false,30,168433272,168434370,-1098]
[1869,144,10,false,29,168523488,168526020,-2532]
[1870,144,11,false,30,168613704,168614615,-911]
[1871,144,12,false,29,168703920,168706265,-2345]
[1872,144,13,false,30,168794136,168794860,-724]
[1873,145,1,false,30,168884352,168886510,-2158]
[1874,145,2,false,29,168974568,168978160,-3592]
[1875,145,3,false,30,169064784,169066755,-1971]
[1876,145,4,false,29,169155000,169158405,-3405]
[1877,145,5,false,30,169245216,169247000,-1784]
[1878,145,6,false,29,169335432,169338650,-3218]
[1879,145,7,false,30,169425648,169427245,-1597]
[1880,145,8,false,29,169515864,169518895,-3031]
[1881,145,9,false,30,169606080,169607490,-1410]
[1882,145,10,false,29,169696296,169699140,-2844]
[1883,145,11,false,30,169786512,169787735,-1223]
[1884,145,12,false,29,169876728,169879385,-2657]
[1885,145,13,false,30,169966944,169967980,-1036]
[1886,146,1,false,30,170057160,170059630,-2470]
[1887,146,2,false,29,170147376,170151280,-3904]
[1888,146,3,false,30,170237592,170239875,-2283]
[1889,146,4,false,29,170327808,170331525,-3717]
[1890,146,5,false,30,170418024,170420120,-2096]
[1891,146,6,false,29,170508240,170511770,-3530]
[1892,146,7,false,30,170598456,170600365,-1909]
[1893,146,8,false,29,170688672,170692015,-3343]
[{"$f":"A1913+1","v":1894},146,9,false,30,170778888,170780610,-1722]
[1895,146,10,false,29,170869104,170872260,-3156]
[1896,146,11,false,30,170959320,170960855,-1535]
[1897,146,12,false,29,171049536,171052505,-2969]
[1898,146,13,false,30,171139752,171141100,-1348]
[1899,147,1,false,30,171229968,171232750,-2782]
[1900,147,2,false,29,171320184,171324400,-4216]
[1901,147,3,false,30,171410400,171412995,-2595]
[1902,147,4,false,29,171500616,171504645,-4029]
[1903,147,5,false,30,171590832,171593240,-2408]
[1904,147,6,false,29,171681048,171684890,-3842]
[1905,147,7,false,30,171771264,171773485,-2221]
[1906,147,8,false,29,171861480,171865135,-3655]
[1907,147,9,false,30,171951696,171953730,-2034]
[1908,147,10,false,29,172041912,172045380,-3468]
[1909,147,11,false,30,172132128,172133975,-1847]
[1910,147,12,false,29,172222344,172225625,-3281]
[1911,147,13,false,30,172312560,172314220,-1660]
[1912,148,1,false,30,172402776,172405870,-3094]
[1913,148,2,false,29,172492992,172497520,-4528]
[1914,148,3,false,30,172583208,172586115,-2907]
[1915,148,4,false,29,172673424,172677765,-4341]
[1916,148,5,false,30,172763640,172766360,-2720]
[1917,148,6,false,29,172853856,172858010,-4154]
[1918,148,7,false,30,172944072,172946605,-2533]
[1919,148,8,false,29,173034288,173038255,-3967]
[1920,148,9,false,30,173124504,173126850,-2346]
[1921,148,10,false,29,173214720,173218500,{"$f":"F1941-G1941","v":-3780}]
[1922,{"$f":"IF(C1942=1,B1941+1,B1941)","v":148},11,{"$f":"AND(OR(MOD(B1942,235)=0,MOD(B1942,10)=0),C1942=13)","v":false},{"$f":"IF(MOD(C1942,2)=1,30,29)-IF(D1942,1,0)","v":30},173304936,{"$f":"G1941+E1941*PPD","v":173307095},-2159]
[1923,148,{"$f":"IF(C1942=13,1,C1942+1)","v":12},false,29,{"$f":"F1942+PPM","v":173395152},173398745,-3593]
[1924,148,13,false,30,173485368,173487340,-1972]
[1925,149,1,false,30,173575584,173578990,-3406]
[1926,149,2,false,29,173665800,173670640,-4840]
[1927,149,3,false,30,173756016,173759235,-3219]
[1928,149,4,false,29,173846232,173850885,-4653]
[1929,149,5,false,30,173936448,173939480,-3032]
[1930,149,6,false,29,174026664,174031130,-4466]
[1931,149,7,false,30,174116880,174119725,-2845]
[1932,149,8,false,29,174207096,174211375,-4279]
[1933,149,9,false,30,174297312,174299970,-2658]
[1934,149,10,false,29,174387528,174391620,-4092]
[1935,149,11,false,30,174477744,174480215,-2471]
[1936,149,12,false,29,174567960,174571865,-3905]
[1937,149,13,false,30,174658176,174660460,-2284]
[1938,150,1,false,30,174748392,174752110,-3718]
[1939,150,2,false,29,174838608,174843760,-5152]
[1940,150,3,false,30,174928824,174932355,-3531]
[1941,150,4,false,29,175019040,175024005,-4965]
[1942,150,5,false,30,175109256,175112600,-3344]
[1943,150,6,false,29,175199472,175204250,-4778]
[1944,150,7,false,30,175289688,175292845,-3157]
[1945,150,8,false,29,175379904,175384495,-4591]
[1946,150,9,false,30,175470120,175473090,-2970]
[1947,150,10,false,29,175560336,175564740,-4404]
[1948,150,11,false,30,175650552,175653335,-2783]
[1949,150,12,false,29,175740768,175744985,-4217]
[1950,150,13,true,29,175830984,175833580,-2596]
[1951,151,1,false,30,175921200,175922175,-975]
[1952,151,2,false,29,176011416,176013825,-2409]
[1953,151,3,false,30,176101632,176102420,-788]
[1954,151,4,false,29,176191848,176194070,-2222]
[1955,151,5,false,30,176282064,176282665,-601]
[1956,151,6,false,29,176372280,176374315,-2035]
[1957,151,7,false,30,176462496,176462910,-414]
[{"$f":"A1977+1","v":1958},151,8,false,29,176552712,176554560,-1848]
[1959,151,9,false,30,176642928,176643155,-227]
[1960,151,10,false,29,176733144,176734805,-1661]
[1961,151,11,false,30,176823360,176823400,-40]
[1962,151,12,false,29,176913576,176915050,-1474]
[1963,151,13,false,30,177003792,177003645,147]
[1964,152,1,false,30,177094008,177095295,-1287]
[1965,152,2,false,29,177184224,177186945,-2721]
[1966,152,3,false,30,177274440,177275540,-1100]
[1967,152,4,false,29,177364656,177367190,-2534]
[1968,152,5,false,30,177454872,177455785,-913]
[1969,152,6,false,29,177545088,177547435,-2347]
[1970,152,7,false,30,177635304,177636030,-726]
[1971,152,8,false,29,177725520,177727680,-2160]
[1972,152,9,false,30,177815736,177816275,-539]
[1973,152,10,false,29,177905952,177907925,-1973]
[1974,152,11,false,30,177996168,177996520,-352]
[1975,152,12,false,29,178086384,178088170,-1786]
[1976,152,13,false,30,178176600,178176765,-165]
[1977,153,1,false,30,178266816,178268415,-1599]
[1978,153,2,false,29,178357032,178360065,-3033]
[1979,153,3,false,30,178447248,178448660,-1412]
[1980,153,4,false,29,178537464,178540310,-2846]
[1981,153,5,false,30,178627680,178628905,-1225]
[1982,153,6,false,29,178717896,178720555,-2659]
[1983,153,7,false,30,178808112,178809150,-1038]
[1984,153,8,false,29,178898328,178900800,-2472]
[1985,153,9,false,30,178988544,178989395,{"$f":"F2005-G2005","v":-851}]
[1986,{"$f":"IF(C2006=1,B2005+1,B2005)","v":153},10,{"$f":"AND(OR(MOD(B2006,235)=0,MOD(B2006,10)=0),C2006=13)","v":false},{"$f":"IF(MOD(C2006,2)=1,30,29)-IF(D2006,1,0)","v":29},179078760,{"$f":"G2005+E2005*PPD","v":179081045},-2285]
[1987,153,{"$f":"IF(C2006=13,1,C2006+1)","v":11},false,30,{"$f":"F2006+PPM","v":179168976},179169640,-664]
[1988,153,12,false,29,179259192,179261290,-2098]
[1989,153,13,false,30,179349408,179349885,-477]
[1990,154,1,false,30,179439624,179441535,-1911]
[1991,154,2,false,29,179529840,179533185,-3345]
[1992,154,3,false,30,179620056,179621780,-1724]
[1993,154,4,false,29,179710272,179713430,-3158]
[1994,154,5,false,30,179800488,179802025,-1537]
[1995,154,6,false,29,179890704,179893675,-2971]
[1996,154,7,false,30,179980920,179982270,-1350]
[1997,154,8,false,29,180071136,180073920,-2784]
[1998,154,9,false,30,180161352,180162515,-1163]
[1999,154,10,false,29,180251568,180254165,-2597]
[2000,154,11,false,30,180341784,180342760,-976]
[2001,154,12,false,29,180432000,180434410,-2410]
[2002,154,13,false,30,180522216,180523005,-789]
[2003,155,1,false,30,180612432,180614655,-2223]
[2004,155,2,false,29,180702648,180706305,-3657]
[2005,155,3,false,30,180792864,180794900,-2036]
[2006,155,4,false,29,180883080,180886550,-3470]
[2007,155,5,false,30,180973296,180975145,-1849]
[2008,155,6,false,29,181063512,181066795,-3283]
[2009,155,7,false,30,181153728,181155390,-1662]
[2010,155,8,false,29,181243944,181247040,-3096]
[2011,155,9,false,30,181334160,181335635,-1475]
[2012,155,10,false,29,181424376,181427285,-2909]
[2013,155,11,false,30,181514592,181515880,-1288]
[2014,155,12,false,29,181604808,181607530,-2722]
[2015,155,13,false,30,181695024,181696125,-1101]
[2016,156,1,false,30,181785240,181787775,-2535]
[2017,156,2,false,29,181875456,181879425,-3969]
[2018,156,3,false,30,181965672,181968020,-2348]
[2019,156,4,false,29,182055888,182059670,-3782]
[2020,156,5,false,30,182146104,182148265,-2161]
[2021,156,6,false,29,182236320,182239915,-3595]
[{"$f":"A2041+1","v":2022},156,7,false,30,182326536,182328510,-1974]
[2023,156,8,false,29,182416752,182420160,-3408]
[2024,156,9,false,30,182506968,182508755,-1787]
[2025,156,10,false,29,182597184,182600405,-3221]
[2026,156,11,false,30,182687400,182689000,-1600]
[2027,156,12,false,29,182777616,182780650,-3034]
[2028,156,13,false,30,182867832,182869245,-1413]
[2029,157,1,false,30,182958048,182960895,-2847]
[2030,157,2,false,29,183048264,183052545,-4281]
[2031,157,3,false,30,183138480,183141140,-2660]
[2032,157,4,false,29,183228696,183232790,-4094]
[2033,157,5,false,30,183318912,183321385,-2473]
[2034,157,6,false,29,183409128,183413035,-3907]
[2035,157,7,false,30,183499344,183501630,-2286]
[2036,157,8,false,29,183589560,183593280,-3720]
[2037,157,9,false,30,183679776,183681875,-2099]
[2038,157,10,false,29,183769992,183773525,-3533]
[2039,157,11,false,30,183860208,183862120,-1912]
[2040,157,12,false,29,183950424,183953770,-3346]
[2041,157,13,false,30,184040640,184042365,-1725]
[2042,158,1,false,30,184130856,184134015,-3159]
[2043,158,2,false,29,184221072,184225665,-4593]
[2044,158,3,false,30,184311288,184314260,-2972]
[2045,158,4,false,29,184401504,184405910,-4406]
[2046,158,5,false,30,184491720,184494505,-2785]
[2047,158,6,false,29,184581936,184586155,-4219]
[2048,158,7,false,30,184672152,184674750,-2598]
[2049,158,8,false,29,184762368,184766400,{"$f":"F2069-G2069","v":-4032}]
[2050,{"$f":"IF(C2070=1,B2069+1,B2069)","v":158},9,{"$f":"AND(OR(MOD(B2070,235)=0,MOD(B2070,10)=0),C2070=13)","v":false},{"$f":"IF(MOD(C2070,2)=1,30,29)-IF(D2070,1,0)","v":30},184852584,{"$f":"G2069+E2069*PPD","v":184854995},-2411]
[2051,158,{"$f":"IF(C2070=13,1,C2070+1)","v":10},false,29,{"$f":"F2070+PPM","v":184942800},184946645,-3845]
[2052,158,11,false,30,185033016,185035240,-2224]
[2053,158,12,false,29,185123232,185126890,-3658]
[2054,158,13,false,30,185213448,185215485,-2037]
[2055,159,1,false,30,185303664,185307135,-3471]
[2056,159,2,false,29,185393880,185398785,-4905]
[2057,159,3,false,30,185484096,185487380,-3284]
[2058,159,4,false,29,185574312,185579030,-4718]
[2059,159,5,false,30,185664528,185667625,-3097]
[2060,159,6,false,29,185754744,185759275,-4531]
[2061,159,7,false,30,185844960,185847870,-2910]
[2062,159,8,false,29,185935176,185939520,-4344]
[2063,159,9,false,30,186025392,186028115,-2723]
[2064,159,10,false,29,186115608,186119765,-4157]
[2065,159,11,false,30,186205824,186208360,-2536]
[2066,159,12,false,29,186296040,186300010,-3970]
[2067,159,13,false,30,186386256,186388605,-2349]
[2068,160,1,false,30,186476472,186480255,-3783]
[2069,160,2,false,29,186566688,186571905,-5217]
[2070,160,3,false,30,186656904,186660500,-3596]
[2071,160,4,false,29,186747120,186752150,-5030]
[2072,160,5,false,30,186837336,186840745,-3409]
[2073,160,6,false,29,186927552,186932395,-4843]
[2074,160,7,false,30,187017768,187020990,-3222]
[2075,160,8,false,29,187107984,187112640,-4656]
[2076,160,9,false,30,187198200,187201235,-3035]
[2077,160,10,false,29,187288416,187292885,-4469]
[2078,160,11,false,30,187378632,187381480,-2848]
[2079,160,12,false,29,187468848,187473130,-4282]
[2080,160,13,true,29,187559064,187561725,-2661]
[2081,161,1,false,30,187649280,187650320,-1040]
[2082,161,2,false,29,187739496,187741970,-2474]
[2083,161,3,false,30,187829712,187830565,-853]
[2084,161,4,false,29,187919928,187922215,-2287]
[2085,161,5,false,30,188010144,188010810,-666]
[{"$f":"A2105+1","v":2086},161,6,false,29,188100360,188102460,-2100]
[2087,161,7,false,30,188190576,188191055,-479]
[2088,161,8,false,29,188280792,188282705,-1913]
[2089,161,9,false,30,188371008,188371300,-292]
[2090,161,10,false,29,188461224,188462950,-1726]
[2091,161,11,false,30,188551440,188551545,-105]
[2092,161,12,false,29,188641656,188643195,-1539]
[2093,161,13,false,30,188731872,188731790,82]
[2094,162,1,false,30,188822088,188823440,-1352]
[2095,162,2,false,29,188912304,188915090,-2786]
[2096,162,3,false,30,189002520,189003685,-1165]
[2097,162,4,false,29,189092736,189095335,-2599]
[2098,162,5,false,30,189182952,189183930,-978]
[2099,162,6,false,29,189273168,189275580,-2412]
[2100,162,7,false,30,189363384,189364175,-791]
[2101,162,8,false,29,189453600,189455825,-2225]
[2102,162,9,false,30,189543816,189544420,-604]
[2103,162,10,false,29,189634032,189636070,-2038]
[2104,162,11,false,30,189724248,189724665,-417]
[2105,162,12,false,29,189814464,189816315,-1851]
[2106,162,13,false,30,189904680,189904910,-230]
[2107,163,1,false,30,189994896,189996560,-1664]
[2108,163,2,false,29,190085112,190088210,-3098]
[2109,163,3,false,30,190175328,190176805,-1477]
[2110,163,4,false,29,190265544,190268455,-2911]
[2111,163,5,false,30,190355760,190357050,-1290]
[2112,163,6,false,29,190445976,190448700,-2724]
[2113,163,7,false,30,190536192,190537295,{"$f":"F2133-G2133","v":-1103}]
[2114,{"$f":"IF(C2134=1,B2133+1,B2133)","v":163},8,{"$f":"AND(OR(MOD(B2134,235)=0,MOD(B2134,10)=0),C2134=13)","v":false},{"$f":"IF(MOD(C2134,2)=1,30,29)-IF(D2134,1,0)","v":29},190626408,{"$f":"G2133+E2133*PPD","v":190628945},-2537]
[2115,163,{"$f":"IF(C2134=13,1,C2134+1)","v":9},false,30,{"$f":"F2134+PPM","v":190716624},190717540,-916]
[2116,163,10,false,29,190806840,190809190,-2350]
[2117,163,11,false,30,190897056,190897785,-729]
[2118,163,12,false,29,190987272,190989435,-2163]
[2119,163,13,false,30,191077488,191078030,-542]
[2120,164,1,false,30,191167704,191169680,-1976]
[2121,164,2,false,29,191257920,191261330,-3410]
[2122,164,3,false,30,191348136,191349925,-1789]
[2123,164,4,false,29,191438352,191441575,-3223]
[2124,164,5,false,30,191528568,191530170,-1602]
[2125,164,6,false,29,191618784,191621820,-3036]
[2126,164,7,false,30,191709000,191710415,-1415]
[2127,164,8,false,29,191799216,191802065,-2849]
[2128,164,9,false,30,191889432,191890660,-1228]
[2129,164,10,false,29,191979648,191982310,-2662]
[2130,164,11,false,30,192069864,192070905,-1041]
[2131,164,12,false,29,192160080,192162555,-2475]
[2132,164,13,false,30,192250296,192251150,-854]
[2133,165,1,false,30,192340512,192342800,-2288]
[2134,165,2,false,29,192430728,192434450,-3722]
[2135,165,3,false,30,192520944,192523045,-2101]
[2136,165,4,false,29,192611160,192614695,-3535]
[2137,165,5,false,30,192701376,192703290,-1914]
[2138,165,6,false,29,192791592,192794940,-3348]
[2139,165,7,false,30,192881808,192883535,-1727]
[2140,165,8,false,29,192972024,192975185,-3161]
[2141,165,9,false,30,193062240,193063780,-1540]
[2142,165,10,false,29,193152456,193155430,-2974]
[2143,165,11,false,30,193242672,193244025,-1353]
[2144,165,12,false,29,193332888,193335675,-2787]
[2145,165,13,false,30,193423104,193424270,-1166]
[2146,166,1,false,30,193513320,193515920,-2600]
[2147,166,2,false,29,193603536,193607570,-4034]
[2148,166,3,false,30,193693752,193696165,-2413]
[2149,166,4,false,29,193783968,193787815,-3847]
[{"$f":"A2169+1","v":2150},166,5,false,30,193874184,193876410,-2226]
[2151,166,6,false,29,193964400,193968060,-3660]
[2152,166,7,false,30,194054616,194056655,-2039]
[2153,166,8,false,29,194144832,194148305,-3473]
[2154,166,9,false,30,194235048,194236900,-1852]
[2155,166,10,false,29,194325264,194328550,-3286]
[2156,166,11,false,30,194415480,194417145,-1665]
[2157,166,12,false,29,194505696,194508795,-3099]
[2158,166,13,false,30,194595912,194597390,-1478]
[2159,167,1,false,30,194686128,194689040,-2912]
[2160,167,2,false,29,194776344,194780690,-4346]
[2161,167,3,false,30,194866560,194869285,-2725]
[2162,167,4,false,29,194956776,194960935,-4159]
[2163,167,5,false,30,195046992,195049530,-2538]
[2164,167,6,false,29,195137208,195141180,-3972]
[2165,167,7,false,30,195227424,195229775,-2351]
[2166,167,8,false,29,195317640,195321425,-3785]
[2167,167,9,false,30,195407856,195410020,-2164]
[2168,167,10,false,29,195498072,195501670,-3598]
[2169,167,11,false,30,195588288,195590265,-1977]
[2170,167,12,false,29,195678504,195681915,-3411]
[2171,167,13,false,30,195768720,195770510,-1790]
[2172,168,1,false,30,195858936,195862160,-3224]
[2173,168,2,false,29,195949152,195953810,-4658]
[2174,168,3,false,30,196039368,196042405,-3037]
[2175,168,4,false,29,196129584,196134055,-4471]
[2176,168,5,false,30,196219800,196222650,-2850]
[2177,168,6,false,29,196310016,196314300,{"$f":"F2197-G2197","v":-4284}]
[2178,{"$f":"IF(C2198=1,B2197+1,B2197)","v":168},7,{"$f":"AND(OR(MOD(B2198,235)=0,MOD(B2198,10)=0),C2198=13)","v":false},{"$f":"IF(MOD(C2198,2)=1,30,29)-IF(D2198,1,0)","v":30},196400232,{"$f":"G2197+E2197*PPD","v":196402895},-2663]
[2179,168,{"$f":"IF(C2198=13,1,C2198+1)","v":8},false,29,{"$f":"F2198+PPM","v":196490448},196494545,-4097]
[2180,168,9,false,30,196580664,196583140,-2476]
[2181,168,10,false,29,196670880,196674790,-3910]
[2182,168,11,false,30,196761096,196763385,-2289]
[2183,168,12,false,29,196851312,196855035,-3723]
[2184,168,13,false,30,196941528,196943630,-2102]
[2185,169,1,false,30,197031744,197035280,-3536]
[2186,169,2,false,29,197121960,197126930,-4970]
[2187,169,3,false,30,197212176,197215525,-3349]
[2188,169,4,false,29,197302392,197307175,-4783]
[2189,169,5,false,30,197392608,197395770,-3162]
[2190,169,6,false,29,197482824,197487420,-4596]
[2191,169,7,false,30,197573040,197576015,-2975]
[2192,169,8,false,29,197663256,197667665,-4409]
[2193,169,9,false,30,197753472,197756260,-2788]
[2194,169,10,false,29,197843688,197847910,-4222]
[2195,169,11,false,30,197933904,197936505,-2601]
[2196,169,12,false,29,198024120,198028155,-4035]
[2197,169,13,false,30,198114336,198116750,-2414]
[2198,170,1,false,30,198204552,198208400,-3848]
[2199,170,2,false,29,198294768,198300050,-5282]
[2200,170,3,false,30,198384984,198388645,-3661]
[2201,170,4,false,29,198475200,198480295,-5095]
[2202,170,5,false,30,198565416,198568890,-3474]
[2203,170,6,false,29,198655632,198660540,-4908]
[2204,170,7,false,30,198745848,198749135,-3287]
[2205,170,8,false,29,198836064,198840785,-4721]
[2206,170,9,false,30,198926280,198929380,-3100]
[2207,170,10,false,29,199016496,199021030,-4534]
[2208,170,11,false,30,199106712,199109625,-2913]
[2209,170,12,false,29,199196928,199201275,-4347]
[2210,170,13,true,29,199287144,199289870,-2726]
[2211,171,1,false,30,199377360,199378465,-1105]
[2212,171,2,false,29,199467576,199470115,-2539]
[2213,171,3,false,30,199557792,199558710,-918]
[{"$f":"A2233+1","v":2214},171,4,false,29,199648008,199650360,-2352]
[2215,171,5,false,30,199738224,199738955,-731]
[2216,171,6,false,29,199828440,199830605,-2165]
[2217,171,7,false,30,199918656,199919200,-544]
[2218,171,8,false,29,200008872,200010850,-1978]
[2219,171,9,false,30,200099088,200099445,-357]
[2220,171,10,false,29,200189304,200191095,-1791]
[2221,171,11,false,30,200279520,200279690,-170]
[2222,171,12,false,29,200369736,200371340,-1604]
[2223,171,13,false,30,200459952,200459935,17]
[2224,172,1,false,30,200550168,200551585,-1417]
[2225,172,2,false,29,200640384,200643235,-2851]
[2226,172,3,false,30,200730600,200731830,-1230]
[2227,172,4,false,29,200820816,200823480,-2664]
[2228,172,5,false,30,200911032,200912075,-1043]
[2229,172,6,false,29,201001248,201003725,-2477]
[2230,172,7,false,30,201091464,201092320,-856]
[2231,172,8,false,29,201181680,201183970,-2290]
[2232,172,9,false,30,201271896,201272565,-669]
[2233,172,10,false,29,201362112,201364215,-2103]
[2234,172,11,false,30,201452328,201452810,-482]
[2235,172,12,false,29,201542544,201544460,-1916]
[2236,172,13,false,30,201632760,201633055,-295]
[2237,173,1,false,30,201722976,201724705,-1729]
[2238,173,2,false,29,201813192,201816355,-3163]
[2239,173,3,false,30,201903408,201904950,-1542]
[2240,173,4,false,29,201993624,201996600,-2976]
[2241,173,5,false,30,202083840,202085195,{"$f":"F2261-G2261","v":-1355}]
[2242,{"$f":"IF(C2262=1,B2261+1,B2261)","v":173},6,{"$f":"AND(OR(MOD(B2262,235)=0,MOD(B2262,10)=0),C2262=13)","v":false},{"$f":"IF(MOD(C2262,2)=1,30,29)-IF(D2262,1,0)","v":29},202174056,{"$f":"G2261+E2261*PPD","v":202176845},-2789]
[2243,173,{"$f":"IF(C2262=13,1,C2262+1)","v":7},false,30,{"$f":"F2262+PPM","v":202264272},202265440,-1168]
[2244,173,8,false,29,202354488,202357090,-2602]
[2245,173,9,false,30,202444704,202445685,-981]
[2246,173,10,false,29,202534920,202537335,-2415]
[2247,173,11,false,30,202625136,202625930,-794]
[2248,173,12,false,29,202715352,202717580,-2228]
[2249,173,13,false,30,202805568,202806175,-607]
[2250,174,1,false,30,202895784,202897825,-2041]
[2251,174,2,false,29,202986000,202989475,-3475]
[2252,174,3,false,30,203076216,203078070,-1854]
[2253,174,4,false,29,203166432,203169720,-3288]
[2254,174,5,false,30,203256648,203258315,-1667]
[2255,174,6,false,29,203346864,203349965,-3101]
[2256,174,7,false,30,203437080,203438560,-1480]
[2257,174,8,false,29,203527296,203530210,-2914]
[2258,174,9,false,30,203617512,203618805,-1293]
[2259,174,10,false,29,203707728,203710455,-2727]
[2260,174,11,false,30,203797944,203799050,-1106]
[2261,174,12,false,29,203888160,203890700,-2540]
[2262,174,13,false,30,203978376,203979295,-919]
[2263,175,1,false,30,204068592,204070945,-2353]
[2264,175,2,false,29,204158808,204162595,-3787]
[2265,175,3,false,30,204249024,204251190,-2166]
[2266,175,4,false,29,204339240,204342840,-3600]
[2267,175,5,false,30,204429456,204431435,-1979]
[2268,175,6,false,29,204519672,204523085,-3413]
[2269,175,7,false,30,204609888,204611680,-1792]
[2270,175,8,false,29,204700104,204703330,-3226]
[2271,175,9,false,30,204790320,204791925,-1605]
[2272,175,10,false,29,204880536,204883575,-3039]
[2273,175,11,false,30,204970752,204972170,-1418]
[2274,175,12,false,29,205060968,205063820,-2852]
[2275,175,13,false,30,205151184,205152415,-1231]
[2276,176,1,false,30,205241400,205244065,-2665]
[2277,176,2,false,29,205331616,205335715,-4099]
[{"$f":"A2297+1","v":2278},176,3,false,30,205421832,205424310,-2478]
[2279,176,4,false,29,205512048,205515960,-3912]
[2280,176,5,false,30,205602264,205604555,-2291]
[2281,176,6,false,29,205692480,205696205,-3725]
[2282,176,7,false,30,205782696,205784800,-2104]
[2283,176,8,false,29,205872912,205876450,-3538]
[2284,176,9,false,30,205963128,205965045,-1917]
[2285,176,10,false,29,206053344,206056695,-3351]
[2286,176,11,false,30,206143560,206145290,-1730]
[2287,176,12,false,29,206233776,206236940,-3164]
[2288,176,13,false,30,206323992,206325535,-1543]
[2289,177,1,false,30,206414208,206417185,-2977]
[2290,177,2,false,29,206504424,206508835,-4411]
[2291,177,3,false,30,206594640,206597430,-2790]
[2292,177,4,false,29,206684856,206689080,-4224]
[2293,177,5,false,30,206775072,206777675,-2603]
[2294,177,6,false,29,206865288,206869325,-4037]
[2295,177,7,false,30,206955504,206957920,-2416]
[2296,177,8,false,29,207045720,207049570,-3850]
[2297,177,9,false,30,207135936,207138165,-2229]
[2298,177,10,false,29,207226152,207229815,-3663]
[2299,177,11,false,30,207316368,207318410,-2042]
[2300,177,12,false,29,207406584,207410060,-3476]
[2301,177,13,false,30,207496800,207498655,-1855]
[2302,178,1,false,30,207587016,207590305,-3289]
[2303,178,2,false,29,207677232,207681955,-4723]
[2304,178,3,false,30,207767448,207770550,-3102]
[2305,178,4,false,29,207857664,207862200,{"$f":"F2325-G2325","v":-4536}]
[2306,{"$f":"IF(C2326=1,B2325+1,B2325)","v":178},5,{"$f":"AND(OR(MOD(B2326,235)=0,MOD(B2326,10)=0),C2326=13)","v":false},{"$f":"IF(MOD(C2326,2)=1,30,29)-IF(D2326,1,0)","v":30},207947880,{"$f":"G2325+E2325*PPD","v":207950795},-2915]
[2307,178,{"$f":"IF(C2326=13,1,C2326+1)","v":6},false,29,{"$f":"F2326+PPM","v":208038096},208042445,-4349]
[2308,178,7,false,30,208128312,208131040,-2728]
[2309,178,8,false,29,208218528,208222690,-4162]
[2310,178,9,false,30,208308744,208311285,-2541]
[2311,178,10,false,29,208398960,208402935,-3975]
[2312,178,11,false,30,208489176,208491530,-2354]
[2313,178,12,false,29,208579392,208583180,-3788]
[2314,178,13,false,30,208669608,208671775,-2167]
[2315,179,1,false,30,208759824,208763425,-3601]
[2316,179,2,false,29,208850040,208855075,-5035]
[2317,179,3,false,30,208940256,208943670,-3414]
[2318,179,4,false,29,209030472,209035320,-4848]
[2319,179,5,false,30,209120688,209123915,-3227]
[2320,179,6,false,29,209210904,209215565,-4661]
[2321,179,7,false,30,209301120,209304160,-3040]
[2322,179,8,false,29,209391336,209395810,-4474]
[2323,179,9,false,30,209481552,209484405,-2853]
[2324,179,10,false,29,209571768,209576055,-4287]
[2325,179,11,false,30,209661984,209664650,-2666]
[2326,179,12,false,29,209752200,209756300,-4100]
[2327,179,13,false,30,209842416,209844895,-2479]
[2328,180,1,false,30,209932632,209936545,-3913]
[2329,180,2,false,29,210022848,210028195,-5347]
[2330,180,3,false,30,210113064,210116790,-3726]
[2331,180,4,false,29,210203280,210208440,-5160]
[2332,180,5,false,30,210293496,210297035,-3539]
[2333,180,6,false,29,210383712,210388685,-4973]
[2334,180,7,false,30,210473928,210477280,-3352]
[2335,180,8,false,29,210564144,210568930,-4786]
[2336,180,9,false,30,210654360,210657525,-3165]
[2337,180,10,false,29,210744576,210749175,-4599]
[2338,180,11,false,30,210834792,210837770,-2978]
[2339,180,12,false,29,210925008,210929420,-4412]
[2340,180,13,true,29,211015224,211018015,-2791]
[2341,181,1,false,30,211105440,211106610,-1170]
[{"$f":"A2361+1","v":2342},181,2,false,29,211195656,211198260,-2604]
[2343,181,3,false,30,211285872,211286855,-983]
[2344,181,4,false,29,211376088,211378505,-2417]
[2345,181,5,false,30,211466304,211467100,-796]
[2346,181,6,false,29,211556520,211558750,-2230]
[2347,181,7,false,30,211646736,211647345,-609]
[2348,181,8,false,29,211736952,211738995,-2043]
[2349,181,9,false,30,211827168,211827590,-422]
[2350,181,10,false,29,211917384,211919240,-1856]
[2351,181,11,false,30,212007600,212007835,-235]
[2352,181,12,false,29,212097816,212099485,-1669]
[2353,181,13,false,30,212188032,212188080,-48]
[2354,182,1,false,30,212278248,212279730,-1482]
[2355,182,2,false,29,212368464,212371380,-2916]
[2356,182,3,false,30,212458680,212459975,-1295]
[2357,182,4,false,29,212548896,212551625,-2729]
[2358,182,5,false,30,212639112,212640220,-1108]
[2359,182,6,false,29,212729328,212731870,-2542]
[2360,182,7,false,30,212819544,212820465,-921]
[2361,182,8,false,29,212909760,212912115,-2355]
[2362,182,9,false,30,212999976,213000710,-734]
[2363,182,10,false,29,213090192,213092360,-2168]
[2364,182,11,false,30,213180408,213180955,-547]
[2365,182,12,false,29,213270624,213272605,-1981]
[2366,182,13,false,30,213360840,213361200,-360]
[2367,183,1,false,30,213451056,213452850,-1794]
[2368,183,2,false,29,213541272,213544500,-3228]
[2369,183,3,false,30,213631488,213633095,{"$f":"F2389-G2389","v":-1607}]
[2370,{"$f":"IF(C2390=1,B2389+1,B2389)","v":183},4,{"$f":"AND(OR(MOD(B2390,235)=0,MOD(B2390,10)=0),C2390=13)","v":false},{"$f":"IF(MOD(C2390,2)=1,30,29)-IF(D2390,1,0)","v":29},213721704,{"$f":"G2389+E2389*PPD","v":213724745},-3041]
[2371,183,{"$f":"IF(C2390=13,1,C2390+1)","v":5},false,30,{"$f":"F2390+PPM","v":213811920},213813340,-1420]
[2372,183,6,false,29,213902136,213904990,-2854]
[2373,183,7,false,30,213992352,213993585,-1233]
[2374,183,8,false,29,214082568,214085235,-2667]
[2375,183,9,false,30,214172784,214173830,-1046]
[2376,183,10,false,29,214263000,214265480,-2480]
[2377,183,11,false,30,214353216,214354075,-859]
[2378,183,12,false,29,214443432,214445725,-2293]
[2379,183,13,false,30,214533648,214534320,-672]
[2380,184,1,false,30,214623864,214625970,-2106]
[2381,184,2,false,29,214714080,214717620,-3540]
[2382,184,3,false,30,214804296,214806215,-1919]
[2383,184,4,false,29,214894512,214897865,-3353]
[2384,184,5,false,30,214984728,214986460,-1732]
[2385,184,6,false,29,215074944,215078110,-3166]
[2386,184,7,false,30,215165160,215166705,-1545]
[2387,184,8,false,29,215255376,215258355,-2979]
[2388,184,9,false,30,215345592,215346950,-1358]
[2389,184,10,false,29,215435808,215438600,-2792]
[2390,184,11,false,30,215526024,215527195,-1171]
[2391,184,12,false,29,215616240,215618845,-2605]
[2392,184,13,false,30,215706456,215707440,-984]
[2393,185,1,false,30,215796672,215799090,-2418]
[2394,185,2,false,29,215886888,215890740,-3852]
[2395,185,3,false,30,215977104,215979335,-2231]
[2396,185,4,false,29,216067320,216070985,-3665]
[2397,185,5,false,30,216157536,216159580,-2044]
[2398,185,6,false,29,216247752,216251230,-3478]
[2399,185,7,false,30,216337968,216339825,-1857]
[2400,185,8,false,29,216428184,216431475,-3291]
[2401,185,9,false,30,216518400,216520070,-1670]
[2402,185,10,false,29,216608616,216611720,-3104]
[2403,185,11,false,30,216698832,216700315,-1483]
[2404,185,12,false,29,216789048,216791965,-2917]
[2405,185,13,false,30,216879264,216880560,-1296]
[{"$f":"A2425+1","v":2406},186,1,false,30,216969480,216972210,-2730]
[2407,186,2,false,29,217059696,217063860,-4164]
[2408,186,3,false,30,217149912,217152455,-2543]
[2409,186,4,false,29,217240128,217244105,-3977]
[2410,186,5,false,30,217330344,217332700,-2356]
[2411,186,6,false,29,217420560,217424350,-3790]
[2412,186,7,false,30,217510776,217512945,-2169]
[2413,186,8,false,29,217600992,217604595,-3603]
[2414,186,9,false,30,217691208,217693190,-1982]
[2415,186,10,false,29,217781424,217784840,-3416]
[2416,186,11,false,30,217871640,217873435,-1795]
[2417,186,12,false,29,217961856,217965085,-3229]
[2418,186,13,false,30,218052072,218053680,-1608]
[2419,187,1,false,30,218142288,218145330,-3042]
[2420,187,2,false,29,218232504,218236980,-4476]
[2421,187,3,false,30,218322720,218325575,-2855]
[2422,187,4,false,29,218412936,218417225,-4289]
[2423,187,5,false,30,218503152,218505820,-2668]
[2424,187,6,false,29,218593368,218597470,-4102]
[2425,187,7,false,30,218683584,218686065,-2481]
[2426,187,8,false,29,218773800,218777715,-3915]
[2427,187,9,false,30,218864016,218866310,-2294]
[2428,187,10,false,29,218954232,218957960,-3728]
[2429,187,11,false,30,219044448,219046555,-2107]
[2430,187,12,false,29,219134664,219138205,-3541]
[2431,187,13,false,30,219224880,219226800,-1920]
[2432,188,1,false,30,219315096,219318450,-3354]
[2433,188,2,false,29,219405312,219410100,{"$f":"F2453-G2453","v":-4788}]
[2434,{"$f":"IF(C2454=1,B2453+1,B2453)","v":188},3,{"$f":"AND(OR(MOD(B2454,235)=0,MOD(B2454,10)=0),C2454=13)","v":false},{"$f":"IF(MOD(C2454,2)=1,30,29)-IF(D2454,1,0)","v":30},219495528,{"$f":"G2453+E2453*PPD","v":219498695},-3167]
[2435,188,{"$f":"IF(C2454=13,1,C2454+1)","v":4},false,29,{"$f":"F2454+PPM","v":219585744},219590345,-4601]
[2436,188,5,false,30,219675960,219678940,-2980]
[2437,188,6,false,29,219766176,219770590,-4414]
[2438,188,7,false,30,219856392,219859185,-2793]
[2439,188,8,false,29,219946608,219950835,-4227]
[2440,188,9,false,30,220036824,220039430,-2606]
[2441,188,10,false,29,220127040,220131080,-4040]
[2442,188,11,false,30,220217256,220219675,-2419]
[2443,188,12,false,29,220307472,220311325,-3853]
[2444,188,13,false,30,220397688,220399920,-2232]
[2445,189,1,false,30,220487904,220491570,-3666]
[2446,189,2,false,29,220578120,220583220,-5100]
[2447,189,3,false,30,220668336,220671815,-3479]
[2448,189,4,false,29,220758552,220763465,-4913]
[2449,189,5,false,30,220848768,220852060,-3292]
[2450,189,6,false,29,220938984,220943710,-4726]
[2451,189,7,false,30,221029200,221032305,-3105]
[2452,189,8,false,29,221119416,221123955,-4539]
[2453,189,9,false,30,221209632,221212550,-2918]
[2454,189,10,false,29,221299848,221304200,-4352]
[2455,189,11,false,30,221390064,221392795,-2731]
[2456,189,12,false,29,221480280,221484445,-4165]
[2457,189,13,false,30,221570496,221573040,-2544]
[2458,190,1,false,30,221660712,221664690,-3978]
[2459,190,2,false,29,221750928,221756340,-5412]
[2460,190,3,false,30,221841144,221844935,-3791]
[2461,190,4,false,29,221931360,221936585,-5225]
[2462,190,5,false,30,222021576,222025180,-3604]
[2463,190,6,false,29,222111792,222116830,-5038]
[2464,190,7,false,30,222202008,222205425,-3417]
[2465,190,8,false,29,222292224,222297075,-4851]
[2466,190,9,false,30,222382440,222385670,-3230]
[2467,190,10,false,29,222472656,222477320,-4664]
[2468,190,11,false,30,222562872,222565915,-3043]
[2469,190,12,false,29,222653088,222657565,-4477]
[{"$f":"A2489+1","v":2470},190,13,true,29,222743304,222746160,-2856]
[2471,191,1,false,30,222833520,222834755,-1235]
[2472,191,2,false,29,222923736,222926405,-2669]
[2473,191,3,false,30,223013952,223015000,-1048]
[2474,191,4,false,29,223104168,223106650,-2482]
[2475,191,5,false,30,223194384,223195245,-861]
[2476,191,6,false,29,223284600,223286895,-2295]
[2477,191,7,false,30,223374816,223375490,-674]
[2478,191,8,false,29,223465032,223467140,-2108]
[2479,191,9,false,30,223555248,223555735,-487]
[2480,191,10,false,29,223645464,223647385,-1921]
[2481,191,11,false,30,223735680,223735980,-300]
[2482,191,12,false,29,223825896,223827630,-1734]
[2483,191,13,false,30,223916112,223916225,-113]
[2484,192,1,false,30,224006328,224007875,-1547]
[2485,192,2,false,29,224096544,224099525,-2981]
[2486,192,3,false,30,224186760,224188120,-1360]
[2487,192,4,false,29,224276976,224279770,-2794]
[2488,192,5,false,30,224367192,224368365,-1173]
[2489,192,6,false,29,224457408,224460015,-2607]
[2490,192,7,false,30,224547624,224548610,-986]
[2491,192,8,false,29,224637840,224640260,-2420]
[2492,192,9,false,30,224728056,224728855,-799]
[2493,192,10,false,29,224818272,224820505,-2233]
[2494,192,11,false,30,224908488,224909100,-612]
[2495,192,12,false,29,224998704,225000750,-2046]
[2496,192,13,false,30,225088920,225089345,-425]
[2497,193,1,false,30,225179136,225180995,{"$f":"F2517-G2517","v":-1859}]
[2498,{"$f":"IF(C2518=1,B2517+1,B2517)","v":193},2,{"$f":"AND(OR(MOD(B2518,235)=0,MOD(B2518,10)=0),C2518=13)","v":false},{"$f":"IF(MOD(C2518,2)=1,30,29)-IF(D2518,1,0)","v":29},225269352,{"$f":"G2517+E2517*PPD","v":225272645},-3293]
[2499,193,{"$f":"IF(C2518=13,1,C2518+1)","v":3},false,30,{"$f":"F2518+PPM","v":225359568},225361240,-1672]
[2500,193,4,false,29,225449784,225452890,-3106]
[2501,193,5,false,30,225540000,225541485,-1485]
[2502,193,6,false,29,225630216,225633135,-2919]
[2503,193,7,false,30,225720432,225721730,-1298]
[2504,193,8,false,29,225810648,225813380,-2732]
[2505,193,9,false,30,225900864,225901975,-1111]
[2506,193,10,false,29,225991080,225993625,-2545]
[2507,193,11,false,30,226081296,226082220,-924]
[2508,193,12,false,29,226171512,226173870,-2358]
[2509,193,13,false,30,226261728,226262465,-737]
[2510,194,1,false,30,226351944,226354115,-2171]
[2511,194,2,false,29,226442160,226445765,-3605]
[2512,194,3,false,30,226532376,226534360,-1984]
[2513,194,4,false,29,226622592,226626010,-3418]
[2514,194,5,false,30,226712808,226714605,-1797]
[2515,194,6,false,29,226803024,226806255,-3231]
[2516,194,7,false,30,226893240,226894850,-1610]
[2517,194,8,false,29,226983456,226986500,-3044]
[2518,194,9,false,30,227073672,227075095,-1423]
[2519,194,10,false,29,227163888,227166745,-2857]
[2520,194,11,false,30,227254104,227255340,-1236]
[2521,194,12,false,29,227344320,227346990,-2670]
[2522,194,13,false,30,227434536,227435585,-1049]
[2523,195,1,false,30,227524752,227527235,-2483]
[2524,195,2,false,29,227614968,227618885,-3917]
[2525,195,3,false,30,227705184,227707480,-2296]
[2526,195,4,false,29,227795400,227799130,-3730]
[2527,195,5,false,30,227885616,227887725,-2109]
[2528,195,6,false,29,227975832,227979375,-3543]
[2529,195,7,false,30,228066048,228067970,-1922]
[2530,195,8,false,29,228156264,228159620,-3356]
[2531,195,9,false,30,228246480,228248215,-1735]
[2532,195,10,false,29,228336696,228339865,-3169]
[2533,195,11,false,30,228426912,228428460,-1548]
[{"$f":"A2553+1","v":2534},195,12,false,29,228517128,228520110,-2982]
[2535,195,13,false,30,228607344,228608705,-1361]
[2536,196,1,false,30,228697560,228700355,-2795]
[2537,196,2,false,29,228787776,228792005,-4229]
[2538,196,3,false,30,228877992,228880600,-2608]
[2539,196,4,false,29,228968208,228972250,-4042]
[2540,196,5,false,30,229058424,229060845,-2421]
[2541,196,6,false,29,229148640,229152495,-3855]
[2542,196,7,false,30,229238856,229241090,-2234]
[2543,196,8,false,29,229329072,229332740,-3668]
[2544,196,9,false,30,229419288,229421335,-2047]
[2545,196,10,false,29,229509504,229512985,-3481]
[2546,196,11,false,30,229599720,229601580,-1860]
[2547,196,12,false,29,229689936,229693230,-3294]
[2548,196,13,false,30,229780152,229781825,-1673]
[2549,197,1,false,30,229870368,229873475,-3107]
[2550,197,2,false,29,229960584,229965125,-4541]
[2551,197,3,false,30,230050800,230053720,-2920]
[2552,197,4,false,29,230141016,230145370,-4354]
[2553,197,5,false,30,230231232,230233965,-2733]
[2554,197,6,false,29,230321448,230325615,-4167]
[2555,197,7,false,30,230411664,230414210,-2546]
[2556,197,8,false,29,230501880,230505860,-3980]
[2557,197,9,false,30,230592096,230594455,-2359]
[2558,197,10,false,29,230682312,230686105,-3793]
[2559,197,11,false,30,230772528,230774700,-2172]
[2560,197,12,false,29,230862744,230866350,-3606]
[2561,197,13,false,30,230952960,230954945,{"$f":"F2581-G2581","v":-1985}]
[2562,{"$f":"IF(C2582=1,B2581+1,B2581)","v":198},1,{"$f":"AND(OR(MOD(B2582,235)=0,MOD(B2582,10)=0),C2582=13)","v":false},{"$f":"IF(MOD(C2582,2)=1,30,29)-IF(D2582,1,0)","v":30},231043176,{"$f":"G2581+E2581*PPD","v":231046595},-3419]
[2563,198,{"$f":"IF(C2582=13,1,C2582+1)","v":2},false,29,{"$f":"F2582+PPM","v":231133392},231138245,-4853]
[2564,198,3,false,30,231223608,231226840,-3232]
[2565,198,4,false,29,231313824,231318490,-4666]
[2566,198,5,false,30,231404040,231407085,-3045]
[2567,198,6,false,29,231494256,231498735,-4479]
[2568,198,7,false,30,231584472,231587330,-2858]
[2569,198,8,false,29,231674688,231678980,-4292]
[2570,198,9,false,30,231764904,231767575,-2671]
[2571,198,10,false,29,231855120,231859225,-4105]
[2572,198,11,false,30,231945336,231947820,-2484]
[2573,198,12,false,29,232035552,232039470,-3918]
[2574,198,13,false,30,232125768,232128065,-2297]
[2575,199,1,false,30,232215984,232219715,-3731]
[2576,199,2,false,29,232306200,232311365,-5165]
[2577,199,3,false,30,232396416,232399960,-3544]
[2578,199,4,false,29,232486632,232491610,-4978]
[2579,199,5,false,30,232576848,232580205,-3357]
[2580,199,6,false,29,232667064,232671855,-4791]
[2581,199,7,false,30,232757280,232760450,-3170]
[2582,199,8,false,29,232847496,232852100,-4604]
[2583,199,9,false,30,232937712,232940695,-2983]
[2584,199,10,false,29,233027928,233032345,-4417]
[2585,199,11,false,30,233118144,233120940,-2796]
[2586,199,12,false,29,233208360,233212590,-4230]
[2587,199,13,false,30,233298576,233301185,-2609]
[2588,200,1,false,30,233388792,233392835,-4043]
[2589,200,2,false,29,233479008,233484485,-5477]
[2590,200,3,false,30,233569224,233573080,-3856]
[2591,200,4,false,29,233659440,233664730,-5290]
[2592,200,5,false,30,233749656,233753325,-3669]
[2593,200,6,false,29,233839872,233844975,-5103]
[2594,200,7,false,30,233930088,233933570,-3482]
[2595,200,8,false,29,234020304,234025220,-4916]
[2596,200,9,false,30,234110520,234113815,-3295]
[2597,200,10,false,29,234200736,234205465,-4729]
[{"$f":"A2617+1","v":2598},200,11,false,30,234290952,234294060,-3108]
[2599,200,12,false,29,234381168,234385710,-4542]
[2600,200,13,true,29,234471384,234474305,-2921]
[2601,201,1,false,30,234561600,234562900,-1300]
[2602,201,2,false,29,234651816,234654550,-2734]
[2603,201,3,false,30,234742032,234743145,-1113]
[2604,201,4,false,29,234832248,234834795,-2547]
[2605,201,5,false,30,234922464,234923390,-926]
[2606,201,6,false,29,235012680,235015040,-2360]
[2607,201,7,false,30,235102896,235103635,-739]
[2608,201,8,false,29,235193112,235195285,-2173]
[2609,201,9,false,30,235283328,235283880,-552]
[2610,201,10,false,29,235373544,235375530,-1986]
[2611,201,11,false,30,235463760,235464125,-365]
[2612,201,12,false,29,235553976,235555775,-1799]
[2613,201,13,false,30,235644192,235644370,-178]
[2614,202,1,false,30,235734408,235736020,-1612]
[2615,202,2,false,29,235824624,235827670,-3046]
[2616,202,3,false,30,235914840,235916265,-1425]
[2617,202,4,false,29,236005056,236007915,-2859]
[2618,202,5,false,30,236095272,236096510,-1238]
[2619,202,6,false,29,236185488,236188160,-2672]
[2620,202,7,false,30,236275704,236276755,-1051]
[2621,202,8,false,29,236365920,236368405,-2485]
[2622,202,9,false,30,236456136,236457000,-864]
[2623,202,10,false,29,236546352,236548650,-2298]
[2624,202,11,false,30,236636568,236637245,-677]
[2625,202,12,false,29,236726784,236728895,{"$f":"F2645-G2645","v":-2111}]
[2626,{"$f":"IF(C2646=1,B2645+1,B2645)","v":202},13,{"$f":"AND(OR(MOD(B2646,235)=0,MOD(B2646,10)=0),C2646=13)","v":false},{"$f":"IF(MOD(C2646,2)=1,30,29)-IF(D2646,1,0)","v":30},236817000,{"$f":"G2645+E2645*PPD","v":236817490},-490]
[2627,203,{"$f":"IF(C2646=13,1,C2646+1)","v":1},false,30,{"$f":"F2646+PPM","v":236907216},236909140,-1924]
[2628,203,2,false,29,236997432,237000790,-3358]
[2629,203,3,false,30,237087648,237089385,-1737]
[2630,203,4,false,29,237177864,237181035,-3171]
[2631,203,5,false,30,237268080,237269630,-1550]
[2632,203,6,false,29,237358296,237361280,-2984]
[2633,203,7,false,30,237448512,237449875,-1363]
[2634,203,8,false,29,237538728,237541525,-2797]
[2635,203,9,false,30,237628944,237630120,-1176]
[2636,203,10,false,29,237719160,237721770,-2610]
[2637,203,11,false,30,237809376,237810365,-989]
[2638,203,12,false,29,237899592,237902015,-2423]
[2639,203,13,false,30,237989808,237990610,-802]
[2640,204,1,false,30,238080024,238082260,-2236]
[2641,204,2,false,29,238170240,238173910,-3670]
[2642,204,3,false,30,238260456,238262505,-2049]
[2643,204,4,false,29,238350672,238354155,-3483]
[2644,204,5,false,30,238440888,238442750,-1862]
[2645,204,6,false,29,238531104,238534400,-3296]
[2646,204,7,false,30,238621320,238622995,-1675]
[2647,204,8,false,29,238711536,238714645,-3109]
[2648,204,9,false,30,238801752,238803240,-1488]
[2649,204,10,false,29,238891968,238894890,-2922]
[2650,204,11,false,30,238982184,238983485,-1301]
[2651,204,12,false,29,239072400,239075135,-2735]
[2652,204,13,false,30,239162616,239163730,-1114]
[2653,205,1,false,30,239252832,239255380,-2548]
[2654,205,2,false,29,239343048,239347030,-3982]
[2655,205,3,false,30,239433264,239435625,-2361]
[2656,205,4,false,29,239523480,239527275,-3795]
[2657,205,5,false,30,239613696,239615870,-2174]
[2658,205,6,false,29,239703912,239707520,-3608]
[2659,205,7,false,30,239794128,239796115,-1987]
[2660,205,8,false,29,239884344,239887765,-3421]
[2661,205,9,false,30,239974560,239976360,-1800]
[{"$f":"A2681+1","v":2662},205,10,false,29,240064776,240068010,-3234]
[2663,205,11,false,30,240154992,240156605,-1613]
[2664,205,12,false,29,240245208,240248255,-3047]
[2665,205,13,false,30,240335424,240336850,-1426]
[2666,206,1,false,30,240425640,240428500,-2860]
[2667,206,2,false,29,240515856,240520150,-4294]
[2668,206,3,false,30,240606072,240608745,-2673]
[2669,206,4,false,29,240696288,240700395,-4107]
[2670,206,5,false,30,240786504,240788990,-2486]
[2671,206,6,false,29,240876720,240880640,-3920]
[2672,206,7,false,30,240966936,240969235,-2299]
[2673,206,8,false,29,241057152,241060885,-3733]
[2674,206,9,false,30,241147368,241149480,-2112]
[2675,206,10,false,29,241237584,241241130,-3546]
[2676,206,11,false,30,241327800,241329725,-1925]
[2677,206,12,false,29,241418016,241421375,-3359]
[2678,206,13,false,30,241508232,241509970,-1738]
[2679,207,1,false,30,241598448,241601620,-3172]
[2680,207,2,false,29,241688664,241693270,-4606]
[2681,207,3,false,30,241778880,241781865,-2985]
[2682,207,4,false,29,241869096,241873515,-4419]
[2683,207,5,false,30,241959312,241962110,-2798]
[2684,207,6,false,29,242049528,242053760,-4232]
[2685,207,7,false,30,242139744,242142355,-2611]
[2686,207,8,false,29,242229960,242234005,-4045]
[2687,207,9,false,30,242320176,242322600,-2424]
[2688,207,10,false,29,242410392,242414250,-3858]
[2689,207,11,false,30,242500608,242502845,{"$f":"F2709-G2709","v":-2237}]
[2690,{"$f":"IF(C2710=1,B2709+1,B2709)","v":207},12,{"$f":"AND(OR(MOD(B2710,235)=0,MOD(B2710,10)=0),C2710=13)","v":false},{"$f":"IF(MOD(C2710,2)=1,30,29)-IF(D2710,1,0)","v":29},242590824,{"$f":"G2709+E2709*PPD","v":242594495},-3671]
[2691,207,{"$f":"IF(C2710=13,1,C2710+1)","v":13},false,30,{"$f":"F2710+PPM","v":242681040},242683090,-2050]
[2692,208,1,false,30,242771256,242774740,-3484]
[2693,208,2,false,29,242861472,242866390,-4918]
[2694,208,3,false,30,242951688,242954985,-3297]
[2695,208,4,false,29,243041904,243046635,-4731]
[2696,208,5,false,30,243132120,243135230,-3110]
[2697,208,6,false,29,243222336,243226880,-4544]
[2698,208,7,false,30,243312552,243315475,-2923]
[2699,208,8,false,29,243402768,243407125,-4357]
[2700,208,9,false,30,243492984,243495720,-2736]
[2701,208,10,false,29,243583200,243587370,-4170]
[2702,208,11,false,30,243673416,243675965,-2549]
[2703,208,12,false,29,243763632,243767615,-3983]
[2704,208,13,false,30,243853848,243856210,-2362]
[2705,209,1,false,30,243944064,243947860,-3796]
[2706,209,2,false,29,244034280,244039510,-5230]
[2707,209,3,false,30,244124496,244128105,-3609]
[2708,209,4,false,29,244214712,244219755,-5043]
[2709,209,5,false,30,244304928,244308350,-3422]
[2710,209,6,false,29,244395144,244400000,-4856]
[2711,209,7,false,30,244485360,244488595,-3235]
[2712,209,8,false,29,244575576,244580245,-4669]
[2713,209,9,false,30,244665792,244668840,-3048]
[2714,209,10,false,29,244756008,244760490,-4482]
[2715,209,11,false,30,244846224,244849085,-2861]
[2716,209,12,false,29,244936440,244940735,-4295]
[2717,209,13,false,30,245026656,245029330,-2674]
[2718,210,1,false,30,245116872,245120980,-4108]
[2719,210,2,false,29,245207088,245212630,-5542]
[2720,210,3,false,30,245297304,245301225,-3921]
[2721,210,4,false,29,245387520,245392875,-5355]
[2722,210,5,false,30,245477736,245481470,-3734]
[2723,210,6,false,29,245567952,245573120,-5168]
[2724,210,7,false,30,245658168,245661715,-3547]
[2725,210,8,false,29,245748384,245753365,-4981]
[{"$f":"A2745+1","v":2726},210,9,false,30,245838600,245841960,-3360]
[2727,210,10,false,29,245928816,245933610,-4794]
[2728,210,11,false,30,246019032,246022205,-3173]
[2729,210,12,false,29,246109248,246113855,-4607]
[2730,210,13,true,29,246199464,246202450,-2986]
[2731,211,1,false,30,246289680,246291045,-1365]
[2732,211,2,false,29,246379896,246382695,-2799]
[2733,211,3,false,30,246470112,246471290,-1178]
[2734,211,4,false,29,246560328,246562940,-2612]
[2735,211,5,false,30,246650544,246651535,-991]
[2736,211,6,false,29,246740760,246743185,-2425]
[2737,211,7,false,30,246830976,246831780,-804]
[2738,211,8,false,29,246921192,246923430,-2238]
[2739,211,9,false,30,247011408,247012025,-617]
[2740,211,10,false,29,247101624,247103675,-2051]
[2741,211,11,false,30,247191840,247192270,-430]
[2742,211,12,false,29,247282056,247283920,-1864]
[2743,211,13,false,30,247372272,247372515,-243]
[2744,212,1,false,30,247462488,247464165,-1677]
[2745,212,2,false,29,247552704,247555815,-3111]
[2746,212,3,false,30,247642920,247644410,-1490]
[2747,212,4,false,29,247733136,247736060,-2924]
[2748,212,5,false,30,247823352,247824655,-1303]
[2749,212,6,false,29,247913568,247916305,-2737]
[2750,212,7,false,30,248003784,248004900,-1116]
[2751,212,8,false,29,248094000,248096550,-2550]
[2752,212,9,false,30,248184216,248185145,-929]
[2753,212,10,false,29,248274432,248276795,{"$f":"F2773-G2773","v":-2363}]
[2754,{"$f":"IF(C2774=1,B2773+1,B2773)","v":212},11,{"$f":"AND(OR(MOD(B2774,235)=0,MOD(B2774,10)=0),C2774=13)","v":false},{"$f":"IF(MOD(C2774,2)=1,30,29)-IF(D2774,1,0)","v":30},248364648,{"$f":"G2773+E2773*PPD","v":248365390},-742]
[2755,212,{"$f":"IF(C2774=13,1,C2774+1)","v":12},false,29,{"$f":"F2774+PPM","v":248454864},248457040,-2176]
[2756,212,13,false,30,248545080,248545635,-555]
[2757,213,1,false,30,248635296,248637285,-1989]
[2758,213,2,false,29,248725512,248728935,-3423]
[2759,213,3,false,30,248815728,248817530,-1802]
[2760,213,4,false,29,248905944,248909180,-3236]
[2761,213,5,false,30,248996160,248997775,-1615]
[2762,213,6,false,29,249086376,249089425,-3049]
[2763,213,7,false,30,249176592,249178020,-1428]
[2764,213,8,false,29,249266808,249269670,-2862]
[2765,213,9,false,30,249357024,249358265,-1241]
[2766,213,10,false,29,249447240,249449915,-2675]
[2767,213,11,false,30,249537456,249538510,-1054]
[2768,213,12,false,29,249627672,249630160,-2488]
[2769,213,13,false,30,249717888,249718755,-867]
[2770,214,1,false,30,249808104,249810405,-2301]
[2771,214,2,false,29,249898320,249902055,-3735]
[2772,214,3,false,30,249988536,249990650,-2114]
[2773,214,4,false,29,250078752,250082300,-3548]
[2774,214,5,false,30,250168968,250170895,-1927]
[2775,214,6,false,29,250259184,250262545,-3361]
[2776,214,7,false,30,250349400,250351140,-1740]
[2777,214,8,false,29,250439616,250442790,-3174]
[2778,214,9,false,30,250529832,250531385,-1553]
[2779,214,10,false,29,250620048,250623035,-2987]
[2780,214,11,false,30,250710264,250711630,-1366]
[2781,214,12,false,29,250800480,250803280,-2800]
[2782,214,13,false,30,250890696,250891875,-1179]
[2783,215,1,false,30,250980912,250983525,-2613]
[2784,215,2,false,29,251071128,251075175,-4047]
[2785,215,3,false,30,251161344,251163770,-2426]
[2786,215,4,false,29,251251560,251255420,-3860]
[2787,215,5,false,30,251341776,251344015,-2239]
[2788,215,6,false,29,251431992,251435665,-3673]
[2789,215,7,false,30,251522208,251524260,-2052]
[{"$f":"A2809+1","v":2790},215,8,false,29,251612424,251615910,-3486]
[2791,215,9,false,30,251702640,251704505,-1865]
[2792,215,10,false,29,251792856,251796155,-3299]
[2793,215,11,false,30,251883072,251884750,-1678]
[2794,215,12,false,29,251973288,251976400,-3112]
[2795,215,13,false,30,252063504,252064995,-1491]
[2796,216,1,false,30,252153720,252156645,-2925]
[2797,216,2,false,29,252243936,252248295,-4359]
[2798,216,3,false,30,252334152,252336890,-2738]
[2799,216,4,false,29,252424368,252428540,-4172]
[2800,216,5,false,30,252514584,252517135,-2551]
[2801,216,6,false,29,252604800,252608785,-3985]
[2802,216,7,false,30,252695016,252697380,-2364]
[2803,216,8,false,29,252785232,252789030,-3798]
[2804,216,9,false,30,252875448,252877625,-2177]
[2805,216,10,false,29,252965664,252969275,-3611]
[2806,216,11,false,30,253055880,253057870,-1990]
[2807,216,12,false,29,253146096,253149520,-3424]
[2808,216,13,false,30,253236312,253238115,-1803]
[2809,217,1,false,30,253326528,253329765,-3237]
[2810,217,2,false,29,253416744,253421415,-4671]
[2811,217,3,false,30,253506960,253510010,-3050]
[2812,217,4,false,29,253597176,253601660,-4484]
[2813,217,5,false,30,253687392,253690255,-2863]
[2814,217,6,false,29,253777608,253781905,-4297]
[2815,217,7,false,30,253867824,253870500,-2676]
[2816,217,8,false,29,253958040,253962150,-4110]
[2817,217,9,false,30,254048256,254050745,{"$f":"F2837-G2837","v":-2489}]
[2818,{"$f":"IF(C2838=1,B2837+1,B2837)","v":217},10,{"$f":"AND(OR(MOD(B2838,235)=0,MOD(B2838,10)=0),C2838=13)","v":false},{"$f":"IF(MOD(C2838,2)=1,30,29)-IF(D2838,1,0)","v":29},254138472,{"$f":"G2837+E2837*PPD","v":254142395},-3923]
[2819,217,{"$f":"IF(C2838=13,1,C2838+1)","v":11},false,30,{"$f":"F2838+PPM","v":254228688},254230990,-2302]
[2820,217,12,false,29,254318904,254322640,-3736]
[2821,217,13,false,30,254409120,254411235,-2115]
[2822,218,1,false,30,254499336,254502885,-3549]
[2823,218,2,false,29,254589552,254594535,-4983]
[2824,218,3,false,30,254679768,254683130,-3362]
[2825,218,4,false,29,254769984,254774780,-4796]
[2826,218,5,false,30,254860200,254863375,-3175]
[2827,218,6,false,29,254950416,254955025,-4609]
[2828,218,7,false,30,255040632,255043620,-2988]
[2829,218,8,false,29,255130848,255135270,-4422]
[2830,218,9,false,30,255221064,255223865,-2801]
[2831,218,10,false,29,255311280,255315515,-4235]
[2832,218,11,false,30,255401496,255404110,-2614]
[2833,218,12,false,29,255491712,255495760,-4048]
[2834,218,13,false,30,255581928,255584355,-2427]
[2835,219,1,false,30,255672144,255676005,-3861]
[2836,219,2,false,29,255762360,255767655,-5295]
[2837,219,3,false,30,255852576,255856250,-3674]
[2838,219,4,false,29,255942792,255947900,-5108]
[2839,219,5,false,30,256033008,256036495,-3487]
[2840,219,6,false,29,256123224,256128145,-4921]
[2841,219,7,false,30,256213440,256216740,-3300]
[2842,219,8,false,29,256303656,256308390,-4734]
[2843,219,9,false,30,256393872,256396985,-3113]
[2844,219,10,false,29,256484088,256488635,-4547]
[2845,219,11,false,30,256574304,256577230,-2926]
[2846,219,12,false,29,256664520,256668880,-4360]
[2847,219,13,false,30,256754736,256757475,-2739]
[2848,220,1,false,30,256844952,256849125,-4173]
[2849,220,2,false,29,256935168,256940775,-5607]
[2850,220,3,false,30,257025384,257029370,-3986]
[2851,220,4,false,29,257115600,257121020,-5420]
[2852,220,5,false,30,257205816,257209615,-3799]
[2853,220,6,false,29,257296032,257301265,-5233]
[{"$f":"A2873+1","v":2854},220,7,false,30,257386248,257389860,-3612]
[2855,220,8,false,29,257476464,257481510,-5046]
[2856,220,9,false,30,257566680,257570105,-3425]
[2857,220,10,false,29,257656896,257661755,-4859]
[2858,220,11,false,30,257747112,257750350,-3238]
[2859,220,12,false,29,257837328,257842000,-4672]
[2860,220,13,true,29,257927544,257930595,-3051]
[2861,221,1,false,30,258017760,258019190,-1430]
[2862,221,2,false,29,258107976,258110840,-2864]
[2863,221,3,false,30,258198192,258199435,-1243]
[2864,221,4,false,29,258288408,258291085,-2677]
[2865,221,5,false,30,258378624,258379680,-1056]
[2866,221,6,false,29,258468840,258471330,-2490]
[2867,221,7,false,30,258559056,258559925,-869]
[2868,221,8,false,29,258649272,258651575,-2303]
[2869,221,9,false,30,258739488,258740170,-682]
[2870,221,10,false,29,258829704,258831820,-2116]
[2871,221,11,false,30,258919920,258920415,-495]
[2872,221,12,false,29,259010136,259012065,-1929]
[2873,221,13,false,30,259100352,259100660,-308]
[2874,222,1,false,30,259190568,259192310,-1742]
[2875,222,2,false,29,259280784,259283960,-3176]
[2876,222,3,false,30,259371000,259372555,-1555]
[2877,222,4,false,29,259461216,259464205,-2989]
[2878,222,5,false,30,259551432,259552800,-1368]
[2879,222,6,false,29,259641648,259644450,-2802]
[2880,222,7,false,30,259731864,259733045,-1181]
[2881,222,8,false,29,259822080,259824695,{"$f":"F2901-G2901","v":-2615}]
[2882,{"$f":"IF(C2902=1,B2901+1,B2901)","v":222},9,{"$f":"AND(OR(MOD(B2902,235)=0,MOD(B2902,10)=0),C2902=13)","v":false},{"$f":"IF(MOD(C2902,2)=1,30,29)-IF(D2902,1,0)","v":30},259912296,{"$f":"G2901+E2901*PPD","v":259913290},-994]
[2883,222,{"$f":"IF(C2902=13,1,C2902+1)","v":10},false,29,{"$f":"F2902+PPM","v":260002512},260004940,-2428]
[2884,222,11,false,30,260092728,260093535,-807]
[2885,222,12,false,29,260182944,260185185,-2241]
[2886,222,13,false,30,260273160,260273780,-620]
[2887,223,1,false,30,260363376,260365430,-2054]
[2888,223,2,false,29,260453592,260457080,-3488]
[2889,223,3,false,30,260543808,260545675,-1867]
[2890,223,4,false,29,260634024,260637325,-3301]
[2891,223,5,false,30,260724240,260725920,-1680]
[2892,223,6,false,29,260814456,260817570,-3114]
[2893,223,7,false,30,260904672,260906165,-1493]
[2894,223,8,false,29,260994888,260997815,-2927]
[2895,223,9,false,30,261085104,261086410,-1306]
[2896,223,10,false,29,261175320,261178060,-2740]
[2897,223,11,false,30,261265536,261266655,-1119]
[2898,223,12,false,29,261355752,261358305,-2553]
[2899,223,13,false,30,261445968,261446900,-932]
[2900,224,1,false,30,261536184,261538550,-2366]
[2901,224,2,false,29,261626400,261630200,-3800]
[2902,224,3,false,30,261716616,261718795,-2179]
[2903,224,4,false,29,261806832,261810445,-3613]
[2904,224,5,false,30,261897048,261899040,-1992]
[2905,224,6,false,29,261987264,261990690,-3426]
[2906,224,7,false,30,262077480,262079285,-1805]
[2907,224,8,false,29,262167696,262170935,-3239]
[2908,224,9,false,30,262257912,262259530,-1618]
[2909,224,10,false,29,262348128,262351180,-3052]
[2910,224,11,false,30,262438344,262439775,-1431]
[2911,224,12,false,29,262528560,262531425,-2865]
[2912,224,13,false,30,262618776,262620020,-1244]
[2913,225,1,false,30,262708992,262711670,-2678]
[2914,225,2,false,29,262799208,262803320,-4112]
[2915,225,3,false,30,262889424,262891915,-2491]
[2916,225,4,false,29,262979640,262983565,-3925]
[2917,225,5,false,30,263069856,263072160,-2304]
[{"$f":"A2937+1","v":2918},225,6,false,29,263160072,263163810,-3738]
[2919,225,7,false,30,263250288,263252405,-2117]
[2920,225,8,false,29,263340504,263344055,-3551]
[2921,225,9,false,30,263430720,263432650,-1930]
[2922,225,10,false,29,263520936,263524300,-3364]
[2923,225,11,false,30,263611152,263612895,-1743]
[2924,225,12,false,29,263701368,263704545,-3177]
[2925,225,13,false,30,263791584,263793140,-1556]
[2926,226,1,false,30,263881800,263884790,-2990]
[2927,226,2,false,29,263972016,263976440,-4424]
[2928,226,3,false,30,264062232,264065035,-2803]
[2929,226,4,false,29,264152448,264156685,-4237]
[2930,226,5,false,30,264242664,264245280,-2616]
[2931,226,6,false,29,264332880,264336930,-4050]
[2932,226,7,false,30,264423096,264425525,-2429]
[2933,226,8,false,29,264513312,264517175,-3863]
[2934,226,9,false,30,264603528,264605770,-2242]
[2935,226,10,false,29,264693744,264697420,-3676]
[2936,226,11,false,30,264783960,264786015,-2055]
[2937,226,12,false,29,264874176,264877665,-3489]
[2938,226,13,false,30,264964392,264966260,-1868]
[2939,227,1,false,30,265054608,265057910,-3302]
[2940,227,2,false,29,265144824,265149560,-4736]
[2941,227,3,false,30,265235040,265238155,-3115]
[2942,227,4,false,29,265325256,265329805,-4549]
[2943,227,5,false,30,265415472,265418400,-2928]
[2944,227,6,false,29,265505688,265510050,-4362]
[2945,227,7,false,30,265595904,265598645,{"$f":"F2965-G2965","v":-2741}]
[2946,{"$f":"IF(C2966=1,B2965+1,B2965)","v":227},8,{"$f":"AND(OR(MOD(B2966,235)=0,MOD(B2966,10)=0),C2966=13)","v":false},{"$f":"IF(MOD(C2966,2)=1,30,29)-IF(D2966,1,0)","v":29},265686120,{"$f":"G2965+E2965*PPD","v":265690295},-4175]
[2947,227,{"$f":"IF(C2966=13,1,C2966+1)","v":9},false,30,{"$f":"F2966+PPM","v":265776336},265778890,-2554]
[2948,227,10,false,29,265866552,265870540,-3988]
[2949,227,11,false,30,265956768,265959135,-2367]
[2950,227,12,false,29,266046984,266050785,-3801]
[2951,227,13,false,30,266137200,266139380,-2180]
[2952,228,1,false,30,266227416,266231030,-3614]
[2953,228,2,false,29,266317632,266322680,-5048]
[2954,228,3,false,30,266407848,266411275,-3427]
[2955,228,4,false,29,266498064,266502925,-4861]
[2956,228,5,false,30,266588280,266591520,-3240]
[2957,228,6,false,29,266678496,266683170,-4674]
[2958,228,7,false,30,266768712,266771765,-3053]
[2959,228,8,false,29,266858928,266863415,-4487]
[2960,228,9,false,30,266949144,266952010,-2866]
[2961,228,10,false,29,267039360,267043660,-4300]
[2962,228,11,false,30,267129576,267132255,-2679]
[2963,228,12,false,29,267219792,267223905,-4113]
[2964,228,13,false,30,267310008,267312500,-2492]
[2965,229,1,false,30,267400224,267404150,-3926]
[2966,229,2,false,29,267490440,267495800,-5360]
[2967,229,3,false,30,267580656,267584395,-3739]
[2968,229,4,false,29,267670872,267676045,-5173]
[2969,229,5,false,30,267761088,267764640,-3552]
[2970,229,6,false,29,267851304,267856290,-4986]
[2971,229,7,false,30,267941520,267944885,-3365]
[2972,229,8,false,29,268031736,268036535,-4799]
[2973,229,9,false,30,268121952,268125130,-3178]
[2974,229,10,false,29,268212168,268216780,-4612]
[2975,229,11,false,30,268302384,268305375,-2991]
[2976,229,12,false,29,268392600,268397025,-4425]
[2977,229,13,false,30,268482816,268485620,-2804]
[2978,230,1,false,30,268573032,268577270,-4238]
[2979,230,2,false,29,268663248,268668920,-5672]
[2980,230,3,false,30,268753464,268757515,-4051]
[2981,230,4,false,29,268843680,268849165,-5485]
[{"$f":"A3001+1","v":2982},230,5,false,30,268933896,268937760,-3864]
[2983,230,6,false,29,269024112,269029410,-5298]
[2984,230,7,false,30,269114328,269118005,-3677]
[2985,230,8,false,29,269204544,269209655,-5111]
[2986,230,9,false,30,269294760,269298250,-3490]
[2987,230,10,false,29,269384976,269389900,-4924]
[2988,230,11,false,30,269475192,269478495,-3303]
[2989,230,12,false,29,269565408,269570145,-4737]
[2990,230,13,true,29,269655624,269658740,-3116]
[2991,231,1,false,30,269745840,269747335,-1495]
[2992,231,2,false,29,269836056,269838985,-2929]
[2993,231,3,false,30,269926272,269927580,-1308]
[2994,231,4,false,29,270016488,270019230,-2742]
[2995,231,5,false,30,270106704,270107825,-1121]
[2996,231,6,false,29,270196920,270199475,-2555]
[2997,231,7,false,30,270287136,270288070,-934]
[2998,231,8,false,29,270377352,270379720,-2368]
[2999,231,9,false,30,270467568,270468315,-747]
[3000,231,10,false,29,270557784,270559965,-2181]
[3001,231,11,false,30,270648000,270648560,-560]
[3002,231,12,false,29,270738216,270740210,-1994]
[3003,231,13,false,30,270828432,270828805,-373]
[3004,232,1,false,30,270918648,270920455,-1807]
[3005,232,2,false,29,271008864,271012105,-3241]
[3006,232,3,false,30,271099080,271100700,-1620]
[3007,232,4,false,29,271189296,271192350,-3054]
[3008,232,5,false,30,271279512,271280945,-1433]
[3009,232,6,false,29,271369728,271372595,{"$f":"F3029-G3029","v":-2867}]
[3010,{"$f":"IF(C3030=1,B3029+1,B3029)","v":232},7,{"$f":"AND(OR(MOD(B3030,235)=0,MOD(B3030,10)=0),C3030=13)","v":false},{"$f":"IF(MOD(C3030,2)=1,30,29)-IF(D3030,1,0)","v":30},271459944,{"$f":"G3029+E3029*PPD","v":271461190},-1246]
[3011,232,{"$f":"IF(C3030=13,1,C3030+1)","v":8},false,29,{"$f":"F3030+PPM","v":271550160},271552840,-2680]
[3012,232,9,false,30,271640376,271641435,-1059]
[3013,232,10,false,29,271730592,271733085,-2493]
[3014,232,11,false,30,271820808,271821680,-872]
[3015,232,12,false,29,271911024,271913330,-2306]
[3016,232,13,false,30,272001240,272001925,-685]
[3017,233,1,false,30,272091456,272093575,-2119]
[3018,233,2,false,29,272181672,272185225,-3553]
[3019,233,3,false,30,272271888,272273820,-1932]
[3020,233,4,false,29,272362104,272365470,-3366]
[3021,233,5,false,30,272452320,272454065,-1745]
[3022,233,6,false,29,272542536,272545715,-3179]
[3023,233,7,false,30,272632752,272634310,-1558]
[3024,233,8,false,29,272722968,272725960,-2992]
[3025,233,9,false,30,272813184,272814555,-1371]
[3026,233,10,false,29,272903400,272906205,-2805]
[3027,233,11,false,30,272993616,272994800,-1184]
[3028,233,12,false,29,273083832,273086450,-2618]
[3029,233,13,false,30,273174048,273175045,-997]
[3030,234,1,false,30,273264264,273266695,-2431]
[3031,234,2,false,29,273354480,273358345,-3865]
[3032,234,3,false,30,273444696,273446940,-2244]
[3033,234,4,false,29,273534912,273538590,-3678]
[3034,234,5,false,30,273625128,273627185,-2057]
[3035,234,6,false,29,273715344,273718835,-3491]
[3036,234,7,false,30,273805560,273807430,-1870]
[3037,234,8,false,29,273895776,273899080,-3304]
[3038,234,9,false,30,273985992,273987675,-1683]
[3039,234,10,false,29,274076208,274079325,-3117]
[3040,234,11,false,30,274166424,274167920,-1496]
[3041,234,12,false,29,274256640,274259570,-2930]
[3042,234,13,false,30,274346856,274348165,-1309]
[3043,235,1,false,30,274437072,274439815,-2743]
[3044,235,2,false,29,274527288,274531465,-4177]
[3045,235,3,false,30,274617504,274620060,-2556]
[{"$f":"A3065+1","v":3046},235,4,false,29,274707720,274711710,-3990]
[3047,235,5,false,30,274797936,274800305,-2369]
[3048,235,6,false,29,274888152,274891955,-3803]
[3049,235,7,false,30,274978368,274980550,-2182]
[3050,235,8,false,29,275068584,275072200,-3616]
[3051,235,9,false,30,275158800,275160795,-1995]
[3052,235,10,false,29,275249016,275252445,-3429]
[3053,235,11,false,30,275339232,275341040,-1808]
[3054,235,12,false,29,275429448,275432690,-3242]
[3055,235,13,true,29,275519664,275521285,-1621]
[3056,236,1,false,30,275609880,275609880,0]
[{"$f":"A3076+1","v":3057},236,{"$f":"IF(C3076=13,1,C3076+1)","v":2},false,29,275700096,275701530,-1434]
[3058,236,3,false,30,275790312,275790125,187]
[3059,236,4,false,29,275880528,275881775,-1247]
[3060,236,5,false,30,275970744,275970370,374]
[3061,236,6,false,29,276060960,276062020,-1060]
[3062,236,7,false,30,276151176,276150615,561]
[3063,236,8,false,29,276241392,276242265,-873]
[3064,236,9,false,30,276331608,276330860,748]
[3065,236,10,false,29,276421824,276422510,-686]
[3066,236,11,false,30,276512040,276511105,935]
[3067,236,12,false,29,276602256,276602755,-499]
[3068,236,13,false,30,276692472,276691350,1122]
[3069,237,1,false,30,276782688,276783000,-312]
[3070,237,2,false,29,276872904,276874650,-1746]
[3071,237,3,false,30,276963120,276963245,-125]
[3072,237,4,false,29,277053336,277054895,-1559]
[3073,237,5,false,30,277143552,277143490,{"$f":"F3093-G3093","v":62}]
[3074,{"$f":"IF(C3094=1,B3093+1,B3093)","v":237},6,{"$f":"AND(OR(MOD(B3094,235)=0,MOD(B3094,10)=0),C3094=13)","v":false},{"$f":"IF(MOD(C3094,2)=1,30,29)-IF(D3094,1,0)","v":29},277233768,{"$f":"G3093+E3093*PPD","v":277235140},-1372]
[3075,237,7,false,30,{"$f":"F3094+PPM","v":277323984},277323735,249]
[3076,237,8,false,29,277414200,277415385,-1185]
[3077,237,9,false,30,277504416,277503980,436]
[3078,237,10,false,29,277594632,277595630,-998]
[3079,237,11,false,30,277684848,277684225,623]
[3080,237,12,false,29,277775064,277775875,-811]
[3081,237,13,false,30,277865280,277864470,810]
[3082,238,1,false,30,277955496,277956120,-624]
[3083,238,2,false,29,278045712,278047770,-2058]
[3084,238,3,false,30,278135928,278136365,-437]
[3085,238,4,false,29,278226144,278228015,-1871]
[3086,238,5,false,30,278316360,278316610,-250]
[3087,238,6,false,29,278406576,278408260,-1684]
[3088,238,7,false,30,278496792,278496855,-63]
[3089,238,8,false,29,278587008,278588505,-1497]
[3090,238,9,false,30,278677224,278677100,124]
[3091,238,10,false,29,278767440,278768750,-1310]
[3092,238,11,false,30,278857656,278857345,311]
[3093,238,12,false,29,278947872,278948995,-1123]
[3094,238,13,false,30,279038088,279037590,498]
[3095,239,1,false,30,279128304,279129240,-936]
[3096,239,2,false,29,279218520,279220890,-2370]
[3097,239,3,false,30,279308736,279309485,-749]
[3098,239,4,false,29,279398952,279401135,-2183]
[3099,239,5,false,30,279489168,279489730,-562]
[3100,239,6,false,29,279579384,279581380,-1996]
[3101,239,7,false,30,279669600,279669975,-375]
[3102,239,8,false,29,279759816,279761625,-1809]
[3103,239,9,false,30,279850032,279850220,-188]
[3104,239,10,false,29,279940248,279941870,-1622]
[3105,239,11,false,30,280030464,280030465,-1]
[3106,239,12,false,29,280120680,280122115,-1435]
[3107,239,13,false,30,280210896,280210710,186]
[3108,240,1,false,30,280301112,280302360,-1248]
[3109,240,2,false,29,280391328,280394010,-2682]
[3110,240,3,false,30,280481544,280482605,-1061]
[3111,240,4,false,29,280571760,280574255,-2495]
[3112,240,5,false,30,280661976,280662850,-874]
[3113,240,6,false,29,280752192,280754500,-2308]
[3114,240,7,false,30,280842408,280843095,-687]
[3115,240,8,false,29,280932624,280934745,-2121]
[3116,240,9,false,30,281022840,281023340,-500]
[3117,240,10,false,29,281113056,281114990,-1934]
[3118,240,11,false,30,281203272,281203585,-313]
[3119,240,12,false,29,281293488,281295235,-1747]
[3120,240,13,true,29,281383704,281383830,-126]
[{"$f":"A3140+1","v":3121},241,{"$f":"IF(C3140=13,1,C3140+1)","v":1},false,30,281473920,281472425,1495]
[3122,241,2,false,29,281564136,281564075,61]
[3123,241,3,false,30,281654352,281652670,1682]
[3124,241,4,false,29,281744568,281744320,248]
[3125,241,5,false,30,281834784,281832915,1869]
[3126,241,6,false,29,281925000,281924565,435]
[3127,241,7,false,30,282015216,282013160,2056]
[3128,241,8,false,29,282105432,282104810,622]
[3129,241,9,false,30,282195648,282193405,2243]
[3130,241,10,false,29,282285864,282285055,809]
[3131,241,11,false,30,282376080,282373650,2430]
[3132,241,12,false,29,282466296,282465300,996]
[3133,241,13,false,30,282556512,282553895,2617]
[3134,242,1,false,30,282646728,282645545,1183]
[3135,242,2,false,29,282736944,282737195,-251]
[3136,242,3,false,30,282827160,282825790,1370]
[3137,242,4,false,29,282917376,282917440,{"$f":"F3157-G3157","v":-64}]
[3138,{"$f":"IF(C3158=1,B3157+1,B3157)","v":242},5,{"$f":"AND(OR(MOD(B3158,235)=0,MOD(B3158,10)=0),C3158=13)","v":false},{"$f":"IF(MOD(C3158,2)=1,30,29)-IF(D3158,1,0)","v":30},283007592,{"$f":"G3157+E3157*PPD","v":283006035},1557]
[3139,242,6,false,29,{"$f":"F3158+PPM","v":283097808},283097685,123]
[3140,242,7,false,30,283188024,283186280,1744]
[3141,242,8,false,29,283278240,283277930,310]
[3142,242,9,false,30,283368456,283366525,1931]
[3143,242,10,false,29,283458672,283458175,497]
[3144,242,11,false,30,283548888,283546770,2118]
[3145,242,12,false,29,283639104,283638420,684]
[3146,242,13,false,30,283729320,283727015,2305]
[3147,243,1,false,30,283819536,283818665,871]
[3148,243,2,false,29,283909752,283910315,-563]
[3149,243,3,false,30,283999968,283998910,1058]
[3150,243,4,false,29,284090184,284090560,-376]
[3151,243,5,false,30,284180400,284179155,1245]
[3152,243,6,false,29,284270616,284270805,-189]
[3153,243,7,false,30,284360832,284359400,1432]
[3154,243,8,false,29,284451048,284451050,-2]
[3155,243,9,false,30,284541264,284539645,1619]
[3156,243,10,false,29,284631480,284631295,185]
[3157,243,11,false,30,284721696,284719890,1806]
[3158,243,12,false,29,284811912,284811540,372]
[3159,243,13,false,30,284902128,284900135,1993]
[3160,244,1,false,30,284992344,284991785,559]
[3161,244,2,false,29,285082560,285083435,-875]
[3162,244,3,false,30,285172776,285172030,746]
[3163,244,4,false,29,285262992,285263680,-688]
[3164,244,5,false,30,285353208,285352275,933]
[3165,244,6,false,29,285443424,285443925,-501]
[3166,244,7,false,30,285533640,285532520,1120]
[3167,244,8,false,29,285623856,285624170,-314]
[3168,244,9,false,30,285714072,285712765,1307]
[3169,244,10,false,29,285804288,285804415,-127]
[3170,244,11,false,30,285894504,285893010,1494]
[3171,244,12,false,29,285984720,285984660,60]
[3172,244,13,false,30,286074936,286073255,1681]
[3173,245,1,false,30,286165152,286164905,247]
[3174,245,2,false,29,286255368,286256555,-1187]
[3175,245,3,false,30,286345584,286345150,434]
[3176,245,4,false,29,286435800,286436800,-1000]
[3177,245,5,false,30,286526016,286525395,621]
[3178,245,6,false,29,286616232,286617045,-813]
[3179,245,7,false,30,286706448,286705640,808]
[3180,245,8,false,29,286796664,286797290,-626]
[3181,245,9,false,30,286886880,286885885,995]
[3182,245,10,false,29,286977096,286977535,-439]
[3183,245,11,false,30,287067312,287066130,1182]
[3184,245,12,false,29,287157528,287157780,-252]
[{"$f":"A3204+1","v":3185},245,{"$f":"IF(C3204=13,1,C3204+1)","v":13},false,30,287247744,287246375,1369]
[3186,246,1,false,30,287337960,287338025,-65]
[3187,246,2,false,29,287428176,287429675,-1499]
[3188,246,3,false,30,287518392,287518270,122]
[3189,246,4,false,29,287608608,287609920,-1312]
[3190,246,5,false,30,287698824,287698515,309]
[3191,246,6,false,29,287789040,287790165,-1125]
[3192,246,7,false,30,287879256,287878760,496]
[3193,246,8,false,29,287969472,287970410,-938]
[3194,246,9,false,30,288059688,288059005,683]
[3195,246,10,false,29,288149904,288150655,-751]
[3196,246,11,false,30,288240120,288239250,870]
[3197,246,12,false,29,288330336,288330900,-564]
[3198,246,13,false,30,288420552,288419495,1057]
[3199,247,1,false,30,288510768,288511145,-377]
[3200,247,2,false,29,288600984,288602795,-1811]
[3201,247,3,false,30,288691200,288691390,{"$f":"F3221-G3221","v":-190}]
[3202,{"$f":"IF(C3222=1,B3221+1,B3221)","v":247},4,{"$f":"AND(OR(MOD(B3222,235)=0,MOD(B3222,10)=0),C3222=13)","v":false},{"$f":"IF(MOD(C3222,2)=1,30,29)-IF(D3222,1,0)","v":29},288781416,{"$f":"G3221+E3221*PPD","v":288783040},-1624]
[3203,247,5,false,30,{"$f":"F3222+PPM","v":288871632},288871635,-3]
[3204,247,6,false,29,288961848,288963285,-1437]
[3205,247,7,false,30,289052064,289051880,184]
[3206,247,8,false,29,289142280,289143530,-1250]
[3207,247,9,false,30,289232496,289232125,371]
[3208,247,10,false,29,289322712,289323775,-1063]
[3209,247,11,false,30,289412928,289412370,558]
[3210,247,12,false,29,289503144,289504020,-876]
[3211,247,13,false,30,289593360,289592615,745]
[3212,248,1,false,30,289683576,289684265,-689]
[3213,248,2,false,29,289773792,289775915,-2123]
[3214,248,3,false,30,289864008,289864510,-502]
[3215,248,4,false,29,289954224,289956160,-1936]
[3216,248,5,false,30,290044440,290044755,-315]
[3217,248,6,false,29,290134656,290136405,-1749]
[3218,248,7,false,30,290224872,290225000,-128]
[3219,248,8,false,29,290315088,290316650,-1562]
[3220,248,9,false,30,290405304,290405245,59]
[3221,248,10,false,29,290495520,290496895,-1375]
[3222,248,11,false,30,290585736,290585490,246]
[3223,248,12,false,29,290675952,290677140,-1188]
[3224,248,13,false,30,290766168,290765735,433]
[3225,249,1,false,30,290856384,290857385,-1001]
[3226,249,2,false,29,290946600,290949035,-2435]
[3227,249,3,false,30,291036816,291037630,-814]
[3228,249,4,false,29,291127032,291129280,-2248]
[3229,249,5,false,30,291217248,291217875,-627]
[3230,249,6,false,29,291307464,291309525,-2061]
[3231,249,7,false,30,291397680,291398120,-440]
[3232,249,8,false,29,291487896,291489770,-1874]
[3233,249,9,false,30,291578112,291578365,-253]
[3234,249,10,false,29,291668328,291670015,-1687]
[3235,249,11,false,30,291758544,291758610,-66]
[3236,249,12,false,29,291848760,291850260,-1500]
[3237,249,13,false,30,291938976,291938855,121]
[3238,250,1,false,30,292029192,292030505,-1313]
[3239,250,2,false,29,292119408,292122155,-2747]
[3240,250,3,false,30,292209624,292210750,-1126]
[3241,250,4,false,29,292299840,292302400,-2560]
[3242,250,5,false,30,292390056,292390995,-939]
[3243,250,6,false,29,292480272,292482645,-2373]
[3244,250,7,false,30,292570488,292571240,-752]
[3245,250,8,false,29,292660704,292662890,-2186]
[3246,250,9,false,30,292750920,292751485,-565]
[3247,250,10,false,29,292841136,292843135,-1999]
[3248,250,11,false,30,292931352,292931730,-378]
[{"$f":"A3268+1","v":3249},250,{"$f":"IF(C3268=13,1,C3268+1)","v":12},false,29,293021568,293023380,-1812]
[3250,250,13,true,29,293111784,293111975,-191]
[3251,251,1,false,30,293202000,293200570,1430]
[3252,251,2,false,29,293292216,293292220,-4]
[3253,251,3,false,30,293382432,293380815,1617]
[3254,251,4,false,29,293472648,293472465,183]
[3255,251,5,false,30,293562864,293561060,1804]
[3256,251,6,false,29,293653080,293652710,370]
[3257,251,7,false,30,293743296,293741305,1991]
[3258,251,8,false,29,293833512,293832955,557]
[3259,251,9,false,30,293923728,293921550,2178]
[3260,251,10,false,29,294013944,294013200,744]
[3261,251,11,false,30,294104160,294101795,2365]
[3262,251,12,false,29,294194376,294193445,931]
[3263,251,13,false,30,294284592,294282040,2552]
[3264,252,1,false,30,294374808,294373690,1118]
[3265,252,2,false,29,294465024,294465340,{"$f":"F3285-G3285","v":-316}]
[3266,{"$f":"IF(C3286=1,B3285+1,B3285)","v":252},3,{"$f":"AND(OR(MOD(B3286,235)=0,MOD(B3286,10)=0),C3286=13)","v":false},{"$f":"IF(MOD(C3286,2)=1,30,29)-IF(D3286,1,0)","v":30},294555240,{"$f":"G3285+E3285*PPD","v":294553935},1305]
[3267,252,4,false,29,{"$f":"F3286+PPM","v":294645456},294645585,-129]
[3268,252,5,false,30,294735672,294734180,1492]
[3269,252,6,false,29,294825888,294825830,58]
[3270,252,7,false,30,294916104,294914425,1679]
[3271,252,8,false,29,295006320,295006075,245]
[3272,252,9,false,30,295096536,295094670,1866]
[3273,252,10,false,29,295186752,295186320,432]
[3274,252,11,false,30,295276968,295274915,2053]
[3275,252,12,false,29,295367184,295366565,619]
[3276,252,13,false,30,295457400,295455160,2240]
[3277,253,1,false,30,295547616,295546810,806]
[3278,253,2,false,29,295637832,295638460,-628]
[3279,253,3,false,30,295728048,295727055,993]
[3280,253,4,false,29,295818264,295818705,-441]
[3281,253,5,false,30,295908480,295907300,1180]
[3282,253,6,false,29,295998696,295998950,-254]
[3283,253,7,false,30,296088912,296087545,1367]
[3284,253,8,false,29,296179128,296179195,-67]
[3285,253,9,false,30,296269344,296267790,1554]
[3286,253,10,false,29,296359560,296359440,120]
[3287,253,11,false,30,296449776,296448035,1741]
[3288,253,12,false,29,296539992,296539685,307]
[3289,253,13,false,30,296630208,296628280,1928]
[3290,254,1,false,30,296720424,296719930,494]
[3291,254,2,false,29,296810640,296811580,-940]
[3292,254,3,false,30,296900856,296900175,681]
[3293,254,4,false,29,296991072,296991825,-753]
[3294,254,5,false,30,297081288,297080420,868]
[3295,254,6,false,29,297171504,297172070,-566]
[3296,254,7,false,30,297261720,297260665,1055]
[3297,254,8,false,29,297351936,297352315,-379]
[3298,254,9,false,30,297442152,297440910,1242]
[3299,254,10,false,29,297532368,297532560,-192]
[3300,254,11,false,30,297622584,297621155,1429]
[3301,254,12,false,29,297712800,297712805,-5]
[3302,254,13,false,30,297803016,297801400,1616]
[3303,255,1,false,30,297893232,297893050,182]
[3304,255,2,false,29,297983448,297984700,-1252]
[3305,255,3,false,30,298073664,298073295,369]
[3306,255,4,false,29,298163880,298164945,-1065]
[3307,255,5,false,30,298254096,298253540,556]
[3308,255,6,false,29,298344312,298345190,-878]
[3309,255,7,false,30,298434528,298433785,743]
[3310,255,8,false,29,298524744,298525435,-691]
[3311,255,9,false,30,298614960,298614030,930]
[3312,255,10,false,29,298705176,298705680,-504]
[{"$f":"A3332+1","v":3313},255,{"$f":"IF(C3332=13,1,C3332+1)","v":11},false,30,298795392,298794275,1117]
[3314,255,12,false,29,298885608,298885925,-317]
[3315,255,13,false,30,298975824,298974520,1304]
[3316,256,1,false,30,299066040,299066170,-130]
[3317,256,2,false,29,299156256,299157820,-1564]
[3318,256,3,false,30,299246472,299246415,57]
[3319,256,4,false,29,299336688,299338065,-1377]
[3320,256,5,false,30,299426904,299426660,244]
[3321,256,6,false,29,299517120,299518310,-1190]
[3322,256,7,false,30,299607336,299606905,431]
[3323,256,8,false,29,299697552,299698555,-1003]
[3324,256,9,false,30,299787768,299787150,618]
[3325,256,10,false,29,299877984,299878800,-816]
[3326,256,11,false,30,299968200,299967395,805]
[3327,256,12,false,29,300058416,300059045,-629]
[3328,256,13,false,30,300148632,300147640,992]
[3329,257,1,false,30,300238848,300239290,{"$f":"F3349-G3349","v":-442}]
[3330,{"$f":"IF(C3350=1,B3349+1,B3349)","v":257},2,{"$f":"AND(OR(MOD(B3350,235)=0,MOD(B3350,10)=0),C3350=13)","v":false},{"$f":"IF(MOD(C3350,2)=1,30,29)-IF(D3350,1,0)","v":29},300329064,{"$f":"G3349+E3349*PPD","v":300330940},-1876]
[3331,257,3,false,30,{"$f":"F3350+PPM","v":300419280},300419535,-255]
[3332,257,4,false,29,300509496,300511185,-1689]
[3333,257,5,false,30,300599712,300599780,-68]
[3334,257,6,false,29,300689928,300691430,-1502]
[3335,257,7,false,30,300780144,300780025,119]
[3336,257,8,false,29,300870360,300871675,-1315]
[3337,257,9,false,30,300960576,300960270,306]
[3338,257,10,false,29,301050792,301051920,-1128]
[3339,257,11,false,30,301141008,301140515,493]
[3340,257,12,false,29,301231224,301232165,-941]
[3341,257,13,false,30,301321440,301320760,680]
[3342,258,1,false,30,301411656,301412410,-754]
[3343,258,2,false,29,301501872,301504060,-2188]
[3344,258,3,false,30,301592088,301592655,-567]
[3345,258,4,false,29,301682304,301684305,-2001]
[3346,258,5,false,30,301772520,301772900,-380]
[3347,258,6,false,29,301862736,301864550,-1814]
[3348,258,7,false,30,301952952,301953145,-193]
[3349,258,8,false,29,302043168,302044795,-1627]
[3350,258,9,false,30,302133384,302133390,-6]
[3351,258,10,false,29,302223600,302225040,-1440]
[3352,258,11,false,30,302313816,302313635,181]
[3353,258,12,false,29,302404032,302405285,-1253]
[3354,258,13,false,30,302494248,302493880,368]
[3355,259,1,false,30,302584464,302585530,-1066]
[3356,259,2,false,29,302674680,302677180,-2500]
[3357,259,3,false,30,302764896,302765775,-879]
[3358,259,4,false,29,302855112,302857425,-2313]
[3359,259,5,false,30,302945328,302946020,-692]
[3360,259,6,false,29,303035544,303037670,-2126]
[3361,259,7,false,30,303125760,303126265,-505]
[3362,259,8,false,29,303215976,303217915,-1939]
[3363,259,9,false,30,303306192,303306510,-318]
[3364,259,10,false,29,303396408,303398160,-1752]
[3365,259,11,false,30,303486624,303486755,-131]
[3366,259,12,false,29,303576840,303578405,-1565]
[3367,259,13,false,30,303667056,303667000,56]
[3368,260,1,false,30,303757272,303758650,-1378]
[3369,260,2,false,29,303847488,303850300,-2812]
[3370,260,3,false,30,303937704,303938895,-1191]
[3371,260,4,false,29,304027920,304030545,-2625]
[3372,260,5,false,30,304118136,304119140,-1004]
[3373,260,6,false,29,304208352,304210790,-2438]
[3374,260,7,false,30,304298568,304299385,-817]
[3375,260,8,false,29,304388784,304391035,-2251]
[3376,260,9,false,30,304479000,304479630,-630]
[{"$f":"A3396+1","v":3377},260,{"$f":"IF(C3396=13,1,C3396+1)","v":10},false,29,304569216,304571280,-2064]
[3378,260,11,false,30,304659432,304659875,-443]
[3379,260,12,false,29,304749648,304751525,-1877]
[3380,260,13,true,29,304839864,304840120,-256]
[3381,261,1,false,30,304930080,304928715,1365]
[3382,261,2,false,29,305020296,305020365,-69]
[3383,261,3,false,30,305110512,305108960,1552]
[3384,261,4,false,29,305200728,305200610,118]
[3385,261,5,false,30,305290944,305289205,1739]
[3386,261,6,false,29,305381160,305380855,305]
[3387,261,7,false,30,305471376,305469450,1926]
[3388,261,8,false,29,305561592,305561100,492]
[3389,261,9,false,30,305651808,305649695,2113]
[3390,261,10,false,29,305742024,305741345,679]
[3391,261,11,false,30,305832240,305829940,2300]
[3392,261,12,false,29,305922456,305921590,866]
[3393,261,13,false,30,306012672,306010185,{"$f":"F3413-G3413","v":2487}]
[3394,{"$f":"IF(C3414=1,B3413+1,B3413)","v":262},1,{"$f":"AND(OR(MOD(B3414,235)=0,MOD(B3414,10)=0),C3414=13)","v":false},{"$f":"IF(MOD(C3414,2)=1,30,29)-IF(D3414,1,0)","v":30},306102888,{"$f":"G3413+E3413*PPD","v":306101835},1053]
[3395,262,2,false,29,{"$f":"F3414+PPM","v":306193104},306193485,-381]
[3396,262,3,false,30,306283320,306282080,1240]
[3397,262,4,false,29,306373536,306373730,-194]
[3398,262,5,false,30,306463752,306462325,1427]
[3399,262,6,false,29,306553968,306553975,-7]
[3400,262,7,false,30,306644184,306642570,1614]
[3401,262,8,false,29,306734400,306734220,180]
[3402,262,9,false,30,306824616,306822815,1801]
[3403,262,10,false,29,306914832,306914465,367]
[3404,262,11,false,30,307005048,307003060,1988]
[3405,262,12,false,29,307095264,307094710,554]
[3406,262,13,false,30,307185480,307183305,2175]
[3407,263,1,false,30,307275696,307274955,741]
[3408,263,2,false,29,307365912,307366605,-693]
[3409,263,3,false,30,307456128,307455200,928]
[3410,263,4,false,29,307546344,307546850,-506]
[3411,263,5,false,30,307636560,307635445,1115]
[3412,263,6,false,29,307726776,307727095,-319]
[3413,263,7,false,30,307816992,307815690,1302]
[3414,263,8,false,29,307907208,307907340,-132]
[3415,263,9,false,30,307997424,307995935,1489]
[3416,263,10,false,29,308087640,308087585,55]
[3417,263,11,false,30,308177856,308176180,1676]
[3418,263,12,false,29,308268072,308267830,242]
[3419,263,13,false,30,308358288,308356425,1863]
[3420,264,1,false,30,308448504,308448075,429]
[3421,264,2,false,29,308538720,308539725,-1005]
[3422,264,3,false,30,308628936,308628320,616]
[3423,264,4,false,29,308719152,308719970,-818]
[3424,264,5,false,30,308809368,308808565,803]
[3425,264,6,false,29,308899584,308900215,-631]
[3426,264,7,false,30,308989800,308988810,990]
[3427,264,8,false,29,309080016,309080460,-444]
[3428,264,9,false,30,309170232,309169055,1177]
[3429,264,10,false,29,309260448,309260705,-257]
[3430,264,11,false,30,309350664,309349300,1364]
[3431,264,12,false,29,309440880,309440950,-70]
[3432,264,13,false,30,309531096,309529545,1551]
[3433,265,1,false,30,309621312,309621195,117]
[3434,265,2,false,29,309711528,309712845,-1317]
[3435,265,3,false,30,309801744,309801440,304]
[3436,265,4,false,29,309891960,309893090,-1130]
[3437,265,5,false,30,309982176,309981685,491]
[3438,265,6,false,29,310072392,310073335,-943]
[3439,265,7,false,30,310162608,310161930,678]
[3440,265,8,false,29,310252824,310253580,-756]
[{"$f":"A3460+1","v":3441},265,{"$f":"IF(C3460=13,1,C3460+1)","v":9},false,30,310343040,310342175,865]
[3442,265,10,false,29,310433256,310433825,-569]
[3443,265,11,false,30,310523472,310522420,1052]
[3444,265,12,false,29,310613688,310614070,-382]
[3445,265,13,false,30,310703904,310702665,1239]
[3446,266,1,false,30,310794120,310794315,-195]
[3447,266,2,false,29,310884336,310885965,-1629]
[3448,266,3,false,30,310974552,310974560,-8]
[3449,266,4,false,29,311064768,311066210,-1442]
[3450,266,5,false,30,311154984,311154805,179]
[3451,266,6,false,29,311245200,311246455,-1255]
[3452,266,7,false,30,311335416,311335050,366]
[3453,266,8,false,29,311425632,311426700,-1068]
[3454,266,9,false,30,311515848,311515295,553]
[3455,266,10,false,29,311606064,311606945,-881]
[3456,266,11,false,30,311696280,311695540,740]
[3457,266,12,false,29,311786496,311787190,{"$f":"F3477-G3477","v":-694}]
[3458,{"$f":"IF(C3478=1,B3477+1,B3477)","v":266},13,{"$f":"AND(OR(MOD(B3478,235)=0,MOD(B3478,10)=0),C3478=13)","v":false},{"$f":"IF(MOD(C3478,2)=1,30,29)-IF(D3478,1,0)","v":30},311876712,{"$f":"G3477+E3477*PPD","v":311875785},927]
[3459,267,1,false,30,{"$f":"F3478+PPM","v":311966928},311967435,-507]
[3460,267,2,false,29,312057144,312059085,-1941]
[3461,267,3,false,30,312147360,312147680,-320]
[3462,267,4,false,29,312237576,312239330,-1754]
[3463,267,5,false,30,312327792,312327925,-133]
[3464,267,6,false,29,312418008,312419575,-1567]
[3465,267,7,false,30,312508224,312508170,54]
[3466,267,8,false,29,312598440,312599820,-1380]
[3467,267,9,false,30,312688656,312688415,241]
[3468,267,10,false,29,312778872,312780065,-1193]
[3469,267,11,false,30,312869088,312868660,428]
[3470,267,12,false,29,312959304,312960310,-1006]
[3471,267,13,false,30,313049520,313048905,615]
[3472,268,1,false,30,313139736,313140555,-819]
[3473,268,2,false,29,313229952,313232205,-2253]
[3474,268,3,false,30,313320168,313320800,-632]
[3475,268,4,false,29,313410384,313412450,-2066]
[3476,268,5,false,30,313500600,313501045,-445]
[3477,268,6,false,29,313590816,313592695,-1879]
[3478,268,7,false,30,313681032,313681290,-258]
[3479,268,8,false,29,313771248,313772940,-1692]
[3480,268,9,false,30,313861464,313861535,-71]
[3481,268,10,false,29,313951680,313953185,-1505]
[3482,268,11,false,30,314041896,314041780,116]
[3483,268,12,false,29,314132112,314133430,-1318]
[3484,268,13,false,30,314222328,314222025,303]
[3485,269,1,false,30,314312544,314313675,-1131]
[3486,269,2,false,29,314402760,314405325,-2565]
[3487,269,3,false,30,314492976,314493920,-944]
[3488,269,4,false,29,314583192,314585570,-2378]
[3489,269,5,false,30,314673408,314674165,-757]
[3490,269,6,false,29,314763624,314765815,-2191]
[3491,269,7,false,30,314853840,314854410,-570]
[3492,269,8,false,29,314944056,314946060,-2004]
[3493,269,9,false,30,315034272,315034655,-383]
[3494,269,10,false,29,315124488,315126305,-1817]
[3495,269,11,false,30,315214704,315214900,-196]
[3496,269,12,false,29,315304920,315306550,-1630]
[3497,269,13,false,30,315395136,315395145,-9]
[3498,270,1,false,30,315485352,315486795,-1443]
[3499,270,2,false,29,315575568,315578445,-2877]
[3500,270,3,false,30,315665784,315667040,-1256]
[3501,270,4,false,29,315756000,315758690,-2690]
[3502,270,5,false,30,315846216,315847285,-1069]
[3503,270,6,false,29,315936432,315938935,-2503]
[3504,270,7,false,30,316026648,316027530,-882]
[{"$f":"A3524+1","v":3505},270,{"$f":"IF(C3524=13,1,C3524+1)","v":8},false,29,316116864,316119180,-2316]
[3506,270,9,false,30,316207080,316207775,-695]
[3507,270,10,false,29,316297296,316299425,-2129]
[3508,270,11,false,30,316387512,316388020,-508]
[3509,270,12,false,29,316477728,316479670,-1942]
[3510,270,13,true,29,316567944,316568265,-321]
[3511,271,1,false,30,316658160,316656860,1300]
[3512,271,2,false,29,316748376,316748510,-134]
[3513,271,3,false,30,316838592,316837105,1487]
[3514,271,4,false,29,316928808,316928755,53]
[3515,271,5,false,30,317019024,317017350,1674]
[3516,271,6,false,29,317109240,317109000,240]
[3517,271,7,false,30,317199456,317197595,1861]
[3518,271,8,false,29,317289672,317289245,427]
[3519,271,9,false,30,317379888,317377840,2048]
[3520,271,10,false,29,317470104,317469490,614]
[3521,271,11,false,30,317560320,317558085,{"$f":"F3541-G3541","v":2235}]
[3522,{"$f":"IF(C3542=1,B3541+1,B3541)","v":271},12,{"$f":"AND(OR(MOD(B3542,235)=0,MOD(B3542,10)=0),C3542=13)","v":false},{"$f":"IF(MOD(C3542,2)=1,30,29)-IF(D3542,1,0)","v":29},317650536,{"$f":"G3541+E3541*PPD","v":317649735},801]
[3523,271,13,false,30,{"$f":"F3542+PPM","v":317740752},317738330,2422]
[3524,272,1,false,30,317830968,317829980,988]
[3525,272,2,false,29,317921184,317921630,-446]
[3526,272,3,false,30,318011400,318010225,1175]
[3527,272,4,false,29,318101616,318101875,-259]
[3528,272,5,false,30,318191832,318190470,1362]
[3529,272,6,false,29,318282048,318282120,-72]
[3530,272,7,false,30,318372264,318370715,1549]
[3531,272,8,false,29,318462480,318462365,115]
[3532,272,9,false,30,318552696,318550960,1736]
[3533,272,10,false,29,318642912,318642610,302]
[3534,272,11,false,30,318733128,318731205,1923]
[3535,272,12,false,29,318823344,318822855,489]
[3536,272,13,false,30,318913560,318911450,2110]
[3537,273,1,false,30,319003776,319003100,676]
[3538,273,2,false,29,319093992,319094750,-758]
[3539,273,3,false,30,319184208,319183345,863]
[3540,273,4,false,29,319274424,319274995,-571]
[3541,273,5,false,30,319364640,319363590,1050]
[3542,273,6,false,29,319454856,319455240,-384]
[3543,273,7,false,30,319545072,319543835,1237]
[3544,273,8,false,29,319635288,319635485,-197]
[3545,273,9,false,30,319725504,319724080,1424]
[3546,273,10,false,29,319815720,319815730,-10]
[3547,273,11,false,30,319905936,319904325,1611]
[3548,273,12,false,29,319996152,319995975,177]
[3549,273,13,false,30,320086368,320084570,1798]
[3550,274,1,false,30,320176584,320176220,364]
[3551,274,2,false,29,320266800,320267870,-1070]
[3552,274,3,false,30,320357016,320356465,551]
[3553,274,4,false,29,320447232,320448115,-883]
[3554,274,5,false,30,320537448,320536710,738]
[3555,274,6,false,29,320627664,320628360,-696]
[3556,274,7,false,30,320717880,320716955,925]
[3557,274,8,false,29,320808096,320808605,-509]
[3558,274,9,false,30,320898312,320897200,1112]
[3559,274,10,false,29,320988528,320988850,-322]
[3560,274,11,false,30,321078744,321077445,1299]
[3561,274,12,false,29,321168960,321169095,-135]
[3562,274,13,false,30,321259176,321257690,1486]
[3563,275,1,false,30,321349392,321349340,52]
[3564,275,2,false,29,321439608,321440990,-1382]
[3565,275,3,false,30,321529824,321529585,239]
[3566,275,4,false,29,321620040,321621235,-1195]
[3567,275,5,false,30,321710256,321709830,426]
[3568,275,6,false,29,321800472,321801480,-1008]
[{"$f":"A3588+1","v":3569},275,{"$f":"IF(C3588=13,1,C3588+1)","v":7},false,30,321890688,321890075,613]
[3570,275,8,false,29,321980904,321981725,-821]
[3571,275,9,false,30,322071120,322070320,800]
[3572,275,10,false,29,322161336,322161970,-634]
[3573,275,11,false,30,322251552,322250565,987]
[3574,275,12,false,29,322341768,322342215,-447]
[3575,275,13,false,30,322431984,322430810,1174]
[3576,276,1,false,30,322522200,322522460,-260]
[3577,276,2,false,29,322612416,322614110,-1694]
[3578,276,3,false,30,322702632,322702705,-73]
[3579,276,4,false,29,322792848,322794355,-1507]
[3580,276,5,false,30,322883064,322882950,114]
[3581,276,6,false,29,322973280,322974600,-1320]
[3582,276,7,false,30,323063496,323063195,301]
[3583,276,8,false,29,323153712,323154845,-1133]
[3584,276,9,false,30,323243928,323243440,488]
[3585,276,10,false,29,323334144,323335090,{"$f":"F3605-G3605","v":-946}]
[3586,{"$f":"IF(C3606=1,B3605+1,B3605)","v":276},11,{"$f":"AND(OR(MOD(B3606,235)=0,MOD(B3606,10)=0),C3606=13)","v":false},{"$f":"IF(MOD(C3606,2)=1,30,29)-IF(D3606,1,0)","v":30},323424360,{"$f":"G3605+E3605*PPD","v":323423685},675]
[3587,276,12,false,29,{"$f":"F3606+PPM","v":323514576},323515335,-759]
[3588,276,13,false,30,323604792,323603930,862]
[3589,277,1,false,30,323695008,323695580,-572]
[3590,277,2,false,29,323785224,323787230,-2006]
[3591,277,3,false,30,323875440,323875825,-385]
[3592,277,4,false,29,323965656,323967475,-1819]
[3593,277,5,false,30,324055872,324056070,-198]
[3594,277,6,false,29,324146088,324147720,-1632]
[3595,277,7,false,30,324236304,324236315,-11]
[3596,277,8,false,29,324326520,324327965,-1445]
[3597,277,9,false,30,324416736,324416560,176]
[3598,277,10,false,29,324506952,324508210,-1258]
[3599,277,11,false,30,324597168,324596805,363]
[3600,277,12,false,29,324687384,324688455,-1071]
[3601,277,13,false,30,324777600,324777050,550]
[3602,278,1,false,30,324867816,324868700,-884]
[3603,278,2,false,29,324958032,324960350,-2318]
[3604,278,3,false,30,325048248,325048945,-697]
[3605,278,4,false,29,325138464,325140595,-2131]
[3606,278,5,false,30,325228680,325229190,-510]
[3607,278,6,false,29,325318896,325320840,-1944]
[3608,278,7,false,30,325409112,325409435,-323]
[3609,278,8,false,29,325499328,325501085,-1757]
[3610,278,9,false,30,325589544,325589680,-136]
[3611,278,10,false,29,325679760,325681330,-1570]
[3612,278,11,false,30,325769976,325769925,51]
[3613,278,12,false,29,325860192,325861575,-1383]
[3614,278,13,false,30,325950408,325950170,238]
[3615,279,1,false,30,326040624,326041820,-1196]
[3616,279,2,false,29,326130840,326133470,-2630]
[3617,279,3,false,30,326221056,326222065,-1009]
[3618,279,4,false,29,326311272,326313715,-2443]
[3619,279,5,false,30,326401488,326402310,-822]
[3620,279,6,false,29,326491704,326493960,-2256]
[3621,279,7,false,30,326581920,326582555,-635]
[3622,279,8,false,29,326672136,326674205,-2069]
[3623,279,9,false,30,326762352,326762800,-448]
[3624,279,10,false,29,326852568,326854450,-1882]
[3625,279,11,false,30,326942784,326943045,-261]
[3626,279,12,false,29,327033000,327034695,-1695]
[3627,279,13,false,30,327123216,327123290,-74]
[3628,280,1,false,30,327213432,327214940,-1508]
[3629,280,2,false,29,327303648,327306590,-2942]
[3630,280,3,false,30,327393864,327395185,-1321]
[3631,280,4,false,29,327484080,327486835,-2755]
[3632,280,5,false,30,327574296,327575430,-1134]
[{"$f":"A3652+1","v":3633},280,{"$f":"IF(C3652=13,1,C3652+1)","v":6},false,29,327664512,327667080,-2568]
[3634,280,7,false,30,327754728,327755675,-947]
[3635,280,8,false,29,327844944,327847325,-2381]
[3636,280,9,false,30,327935160,327935920,-760]
[3637,280,10,false,29,328025376,328027570,-2194]
[3638,280,11,false,30,328115592,328116165,-573]
[3639,280,12,false,29,328205808,328207815,-2007]
[3640,280,13,true,29,328296024,328296410,-386]
[3641,281,1,false,30,328386240,328385005,1235]
[3642,281,2,false,29,328476456,328476655,-199]
[3643,281,3,false,30,328566672,328565250,1422]
[3644,281,4,false,29,328656888,328656900,-12]
[3645,281,5,false,30,328747104,328745495,1609]
[3646,281,6,false,29,328837320,328837145,175]
[3647,281,7,false,30,328927536,328925740,1796]
[3648,281,8,false,29,329017752,329017390,362]
[3649,281,9,false,30,329107968,329105985,{"$f":"F3669-G3669","v":1983}]
[3650,{"$f":"IF(C3670=1,B3669+1,B3669)","v":281},10,{"$f":"AND(OR(MOD(B3670,235)=0,MOD(B3670,10)=0),C3670=13)","v":false},{"$f":"IF(MOD(C3670,2)=1,30,29)-IF(D3670,1,0)","v":29},329198184,{"$f":"G3669+E3669*PPD","v":329197635},549]
[3651,281,11,false,30,{"$f":"F3670+PPM","v":329288400},329286230,2170]
[3652,281,12,false,29,329378616,329377880,736]
[3653,281,13,false,30,329468832,329466475,2357]
[3654,282,1,false,30,329559048,329558125,923]
[3655,282,2,false,29,329649264,329649775,-511]
[3656,282,3,false,30,329739480,329738370,1110]
[3657,282,4,false,29,329829696,329830020,-324]
[3658,282,5,false,30,329919912,329918615,1297]
[3659,282,6,false,29,330010128,330010265,-137]
[3660,282,7,false,30,330100344,330098860,1484]
[3661,282,8,false,29,330190560,330190510,50]
[3662,282,9,false,30,330280776,330279105,1671]
[3663,282,10,false,29,330370992,330370755,237]
[3664,282,11,false,30,330461208,330459350,1858]
[3665,282,12,false,29,330551424,330551000,424]
[3666,282,13,false,30,330641640,330639595,2045]
[3667,283,1,false,30,330731856,330731245,611]
[3668,283,2,false,29,330822072,330822895,-823]
[3669,283,3,false,30,330912288,330911490,798]
[3670,283,4,false,29,331002504,331003140,-636]
[3671,283,5,false,30,331092720,331091735,985]
[3672,283,6,false,29,331182936,331183385,-449]
[3673,283,7,false,30,331273152,331271980,1172]
[3674,283,8,false,29,331363368,331363630,-262]
[3675,283,9,false,30,331453584,331452225,1359]
[3676,283,10,false,29,331543800,331543875,-75]
[3677,283,11,false,30,331634016,331632470,1546]
[3678,283,12,false,29,331724232,331724120,112]
[3679,283,13,false,30,331814448,331812715,1733]
[3680,284,1,false,30,331904664,331904365,299]
[3681,284,2,false,29,331994880,331996015,-1135]
[3682,284,3,false,30,332085096,332084610,486]
[3683,284,4,false,29,332175312,332176260,-948]
[3684,284,5,false,30,332265528,332264855,673]
[3685,284,6,false,29,332355744,332356505,-761]
[3686,284,7,false,30,332445960,332445100,860]
[3687,284,8,false,29,332536176,332536750,-574]
[3688,284,9,false,30,332626392,332625345,1047]
[3689,284,10,false,29,332716608,332716995,-387]
[3690,284,11,false,30,332806824,332805590,1234]
[3691,284,12,false,29,332897040,332897240,-200]
[3692,284,13,false,30,332987256,332985835,1421]
[3693,285,1,false,30,333077472,333077485,-13]
[3694,285,2,false,29,333167688,333169135,-1447]
[3695,285,3,false,30,333257904,333257730,174]
[3696,285,4,false,29,333348120,333349380,-1260]
[{"$f":"A3716+1","v":3697},285,{"$f":"IF(C3716=13,1,C3716+1)","v":5},false,30,333438336,333437975,361]
[3698,285,6,false,29,333528552,333529625,-1073]
[3699,285,7,false,30,333618768,333618220,548]
[3700,285,8,false,29,333708984,333709870,-886]
[3701,285,9,false,30,333799200,333798465,735]
[3702,285,10,false,29,333889416,333890115,-699]
[3703,285,11,false,30,333979632,333978710,922]
[3704,285,12,false,29,334069848,334070360,-512]
[3705,285,13,false,30,334160064,334158955,1109]
[3706,286,1,false,30,334250280,334250605,-325]
[3707,286,2,false,29,334340496,334342255,-1759]
[3708,286,3,false,30,334430712,334430850,-138]
[3709,286,4,false,29,334520928,334522500,-1572]
[3710,286,5,false,30,334611144,334611095,49]
[3711,286,6,false,29,334701360,334702745,-1385]
[3712,286,7,false,30,334791576,334791340,236]
[3713,286,8,false,29,334881792,334882990,{"$f":"F3733-G3733","v":-1198}]
[3714,{"$f":"IF(C3734=1,B3733+1,B3733)","v":286},9,{"$f":"AND(OR(MOD(B3734,235)=0,MOD(B3734,10)=0),C3734=13)","v":false},{"$f":"IF(MOD(C3734,2)=1,30,29)-IF(D3734,1,0)","v":30},334972008,{"$f":"G3733+E3733*PPD","v":334971585},423]
[3715,286,10,false,29,{"$f":"F3734+PPM","v":335062224},335063235,-1011]
[3716,286,11,false,30,335152440,335151830,610]
[3717,286,12,false,29,335242656,335243480,-824]
[3718,286,13,false,30,335332872,335332075,797]
[3719,287,1,false,30,335423088,335423725,-637]
[3720,287,2,false,29,335513304,335515375,-2071]
[3721,287,3,false,30,335603520,335603970,-450]
[3722,287,4,false,29,335693736,335695620,-1884]
[3723,287,5,false,30,335783952,335784215,-263]
[3724,287,6,false,29,335874168,335875865,-1697]
[3725,287,7,false,30,335964384,335964460,-76]
[3726,287,8,false,29,336054600,336056110,-1510]
[3727,287,9,false,30,336144816,336144705,111]
[3728,287,10,false,29,336235032,336236355,-1323]
[3729,287,11,false,30,336325248,336324950,298]
[3730,287,12,false,29,336415464,336416600,-1136]
[3731,287,13,false,30,336505680,336505195,485]
[3732,288,1,false,30,336595896,336596845,-949]
[3733,288,2,false,29,336686112,336688495,-2383]
[3734,288,3,false,30,336776328,336777090,-762]
[3735,288,4,false,29,336866544,336868740,-2196]
[3736,288,5,false,30,336956760,336957335,-575]
[3737,288,6,false,29,337046976,337048985,-2009]
[3738,288,7,false,30,337137192,337137580,-388]
[3739,288,8,false,29,337227408,337229230,-1822]
[3740,288,9,false,30,337317624,337317825,-201]
[3741,288,10,false,29,337407840,337409475,-1635]
[3742,288,11,false,30,337498056,337498070,-14]
[3743,288,12,false,29,337588272,337589720,-1448]
[3744,288,13,false,30,337678488,337678315,173]
[3745,289,1,false,30,337768704,337769965,-1261]
[3746,289,2,false,29,337858920,337861615,-2695]
[3747,289,3,false,30,337949136,337950210,-1074]
[3748,289,4,false,29,338039352,338041860,-2508]
[3749,289,5,false,30,338129568,338130455,-887]
[3750,289,6,false,29,338219784,338222105,-2321]
[3751,289,7,false,30,338310000,338310700,-700]
[3752,289,8,false,29,338400216,338402350,-2134]
[3753,289,9,false,30,338490432,338490945,-513]
[3754,289,10,false,29,338580648,338582595,-1947]
[3755,289,11,false,30,338670864,338671190,-326]
[3756,289,12,false,29,338761080,338762840,-1760]
[3757,289,13,false,30,338851296,338851435,-139]
[3758,290,1,false,30,338941512,338943085,-1573]
[3759,290,2,false,29,339031728,339034735,-3007]
[3760,290,3,false,30,339121944,339123330,-1386]
[{"$f":"A3780+1","v":3761},290,{"$f":"IF(C3780=13,1,C3780+1)","v":4},false,29,339212160,339214980,-2820]
[3762,290,5,false,30,339302376,339303575,-1199]
[3763,290,6,false,29,339392592,339395225,-2633]
[3764,290,7,false,30,339482808,339483820,-1012]
[3765,290,8,false,29,339573024,339575470,-2446]
[3766,290,9,false,30,339663240,339664065,-825]
[3767,290,10,false,29,339753456,339755715,-2259]
[3768,290,11,false,30,339843672,339844310,-638]
[3769,290,12,false,29,339933888,339935960,-2072]
[3770,290,13,true,29,340024104,340024555,-451]
[3771,291,1,false,30,340114320,340113150,1170]
[3772,291,2,false,29,340204536,340204800,-264]
[3773,291,3,false,30,340294752,340293395,1357]
[3774,291,4,false,29,340384968,340385045,-77]
[3775,291,5,false,30,340475184,340473640,1544]
[3776,291,6,false,29,340565400,340565290,110]
[3777,291,7,false,30,340655616,340653885,{"$f":"F3797-G3797","v":1731}]
[3778,{"$f":"IF(C3798=1,B3797+1,B3797)","v":291},8,{"$f":"AND(OR(MOD(B3798,235)=0,MOD(B3798,10)=0),C3798=13)","v":false},{"$f":"IF(MOD(C3798,2)=1,30,29)-IF(D3798,1,0)","v":29},340745832,{"$f":"G3797+E3797*PPD","v":340745535},297]
[3779,291,9,false,30,{"$f":"F3798+PPM","v":340836048},340834130,1918]
[3780,291,10,false,29,340926264,340925780,484]
[3781,291,11,false,30,341016480,341014375,2105]
[3782,291,12,false,29,341106696,341106025,671]
[3783,291,13,false,30,341196912,341194620,2292]
[3784,292,1,false,30,341287128,341286270,858]
[3785,292,2,false,29,341377344,341377920,-576]
[3786,292,3,false,30,341467560,341466515,1045]
[3787,292,4,false,29,341557776,341558165,-389]
[3788,292,5,false,30,341647992,341646760,1232]
[3789,292,6,false,29,341738208,341738410,-202]
[3790,292,7,false,30,341828424,341827005,1419]
[3791,292,8,false,29,341918640,341918655,-15]
[3792,292,9,false,30,342008856,342007250,1606]
[3793,292,10,false,29,342099072,342098900,172]
[3794,292,11,false,30,342189288,342187495,1793]
[3795,292,12,false,29,342279504,342279145,359]
[3796,292,13,false,30,342369720,342367740,1980]
[3797,293,1,false,30,342459936,342459390,546]
[3798,293,2,false,29,342550152,342551040,-888]
[3799,293,3,false,30,342640368,342639635,733]
[3800,293,4,false,29,342730584,342731285,-701]
[3801,293,5,false,30,342820800,342819880,920]
[3802,293,6,false,29,342911016,342911530,-514]
[3803,293,7,false,30,343001232,343000125,1107]
[3804,293,8,false,29,343091448,343091775,-327]
[3805,293,9,false,30,343181664,343180370,1294]
[3806,293,10,false,29,343271880,343272020,-140]
[3807,293,11,false,30,343362096,343360615,1481]
[3808,293,12,false,29,343452312,343452265,47]
[3809,293,13,false,30,343542528,343540860,1668]
[3810,294,1,false,30,343632744,343632510,234]
[3811,294,2,false,29,343722960,343724160,-1200]
[3812,294,3,false,30,343813176,343812755,421]
[3813,294,4,false,29,343903392,343904405,-1013]
[3814,294,5,false,30,343993608,343993000,608]
[3815,294,6,false,29,344083824,344084650,-826]
[3816,294,7,false,30,344174040,344173245,795]
[3817,294,8,false,29,344264256,344264895,-639]
[3818,294,9,false,30,344354472,344353490,982]
[3819,294,10,false,29,344444688,344445140,-452]
[3820,294,11,false,30,344534904,344533735,1169]
[3821,294,12,false,29,344625120,344625385,-265]
[3822,294,13,false,30,344715336,344713980,1356]
[3823,295,1,false,30,344805552,344805630,-78]
[3824,295,2,false,29,344895768,344897280,-1512]
[{"$f":"A3844+1","v":3825},295,{"$f":"IF(C3844=13,1,C3844+1)","v":3},false,30,344985984,344985875,109]
[3826,295,4,false,29,345076200,345077525,-1325]
[3827,295,5,false,30,345166416,345166120,296]
[3828,295,6,false,29,345256632,345257770,-1138]
[3829,295,7,false,30,345346848,345346365,483]
[3830,295,8,false,29,345437064,345438015,-951]
[3831,295,9,false,30,345527280,345526610,670]
[3832,295,10,false,29,345617496,345618260,-764]
[3833,295,11,false,30,345707712,345706855,857]
[3834,295,12,false,29,345797928,345798505,-577]
[3835,295,13,false,30,345888144,345887100,1044]
[3836,296,1,false,30,345978360,345978750,-390]
[3837,296,2,false,29,346068576,346070400,-1824]
[3838,296,3,false,30,346158792,346158995,-203]
[3839,296,4,false,29,346249008,346250645,-1637]
[3840,296,5,false,30,346339224,346339240,-16]
[3841,296,6,false,29,346429440,346430890,{"$f":"F3861-G3861","v":-1450}]
[3842,{"$f":"IF(C3862=1,B3861+1,B3861)","v":296},7,{"$f":"AND(OR(MOD(B3862,235)=0,MOD(B3862,10)=0),C3862=13)","v":false},{"$f":"IF(MOD(C3862,2)=1,30,29)-IF(D3862,1,0)","v":30},346519656,{"$f":"G3861+E3861*PPD","v":346519485},171]
[3843,296,8,false,29,{"$f":"F3862+PPM","v":346609872},346611135,-1263]
[3844,296,9,false,30,346700088,346699730,358]
[3845,296,10,false,29,346790304,346791380,-1076]
[3846,296,11,false,30,346880520,346879975,545]
[3847,296,12,false,29,346970736,346971625,-889]
[3848,296,13,false,30,347060952,347060220,732]
[3849,297,1,false,30,347151168,347151870,-702]
[3850,297,2,false,29,347241384,347243520,-2136]
[3851,297,3,false,30,347331600,347332115,-515]
[3852,297,4,false,29,347421816,347423765,-1949]
[3853,297,5,false,30,347512032,347512360,-328]
[3854,297,6,false,29,347602248,347604010,-1762]
[3855,297,7,false,30,347692464,347692605,-141]
[3856,297,8,false,29,347782680,347784255,-1575]
[3857,297,9,false,30,347872896,347872850,46]
[3858,297,10,false,29,347963112,347964500,-1388]
[3859,297,11,false,30,348053328,348053095,233]
[3860,297,12,false,29,348143544,348144745,-1201]
[3861,297,13,false,30,348233760,348233340,420]
[3862,298,1,false,30,348323976,348324990,-1014]
[3863,298,2,false,29,348414192,348416640,-2448]
[3864,298,3,false,30,348504408,348505235,-827]
[3865,298,4,false,29,348594624,348596885,-2261]
[3866,298,5,false,30,348684840,348685480,-640]
[3867,298,6,false,29,348775056,348777130,-2074]
[3868,298,7,false,30,348865272,348865725,-453]
[3869,298,8,false,29,348955488,348957375,-1887]
[3870,298,9,false,30,349045704,349045970,-266]
[3871,298,10,false,29,349135920,349137620,-1700]
[3872,298,11,false,30,349226136,349226215,-79]
[3873,298,12,false,29,349316352,349317865,-1513]
[3874,298,13,false,30,349406568,349406460,108]
[3875,299,1,false,30,349496784,349498110,-1326]
[3876,299,2,false,29,349587000,349589760,-2760]
[3877,299,3,false,30,349677216,349678355,-1139]
[3878,299,4,false,29,349767432,349770005,-2573]
[3879,299,5,false,30,349857648,349858600,-952]
[3880,299,6,false,29,349947864,349950250,-2386]
[3881,299,7,false,30,350038080,350038845,-765]
[3882,299,8,false,29,350128296,350130495,-2199]
[3883,299,9,false,30,350218512,350219090,-578]
[3884,299,10,false,29,350308728,350310740,-2012]
[3885,299,11,false,30,350398944,350399335,-391]
[3886,299,12,false,29,350489160,350490985,-1825]
[3887,299,13,false,30,350579376,350579580,-204]
[3888,300,1,false,30,350669592,350671230,-1638]
[{"$f":"A3908+1","v":3889},300,{"$f":"IF(C3908=13,1,C3908+1)","v":2},false,29,350759808,350762880,-3072]
[3890,300,3,false,30,350850024,350851475,-1451]
[3891,300,4,false,29,350940240,350943125,-2885]
[3892,300,5,false,30,351030456,351031720,-1264]
[3893,300,6,false,29,351120672,351123370,-2698]
[3894,300,7,false,30,351210888,351211965,-1077]
[3895,300,8,false,29,351301104,351303615,-2511]
[3896,300,9,false,30,351391320,351392210,-890]
[3897,300,10,false,29,351481536,351483860,-2324]
[3898,300,11,false,30,351571752,351572455,-703]
[3899,300,12,false,29,351661968,351664105,-2137]
[3900,300,13,true,29,351752184,351752700,-516]
[3901,301,1,false,30,351842400,351841295,1105]
[3902,301,2,false,29,351932616,351932945,-329]
[3903,301,3,false,30,352022832,352021540,1292]
[3904,301,4,false,29,352113048,352113190,-142]
[3905,301,5,false,30,352203264,352201785,{"$f":"F3925-G3925","v":1479}]
[3906,{"$f":"IF(C3926=1,B3925+1,B3925)","v":301},6,{"$f":"AND(OR(MOD(B3926,235)=0,MOD(B3926,10)=0),C3926=13)","v":false},{"$f":"IF(MOD(C3926,2)=1,30,29)-IF(D3926,1,0)","v":29},352293480,{"$f":"G3925+E3925*PPD","v":352293435},45]
[3907,301,7,false,30,{"$f":"F3926+PPM","v":352383696},352382030,1666]
[3908,301,8,false,29,352473912,352473680,232]
[3909,301,9,false,30,352564128,352562275,1853]
[3910,301,10,false,29,352654344,352653925,419]
[3911,301,11,false,30,352744560,352742520,2040]
[3912,301,12,false,29,352834776,352834170,606]
[3913,301,13,false,30,352924992,352922765,2227]
[3914,302,1,false,30,353015208,353014415,793]
[3915,302,2,false,29,353105424,353106065,-641]
[3916,302,3,false,30,353195640,353194660,980]
[3917,302,4,false,29,353285856,353286310,-454]
[3918,302,5,false,30,353376072,353374905,1167]
[3919,302,6,false,29,353466288,353466555,-267]
[3920,302,7,false,30,353556504,353555150,1354]
[3921,302,8,false,29,353646720,353646800,-80]
[3922,302,9,false,30,353736936,353735395,1541]
[3923,302,10,false,29,353827152,353827045,107]
[3924,302,11,false,30,353917368,353915640,1728]
[3925,302,12,false,29,354007584,354007290,294]
[3926,302,13,false,30,354097800,354095885,1915]
[3927,303,1,false,30,354188016,354187535,481]
[3928,303,2,false,29,354278232,354279185,-953]
[3929,303,3,false,30,354368448,354367780,668]
[3930,303,4,false,29,354458664,354459430,-766]
[3931,303,5,false,30,354548880,354548025,855]
[3932,303,6,false,29,354639096,354639675,-579]
[3933,303,7,false,30,354729312,354728270,1042]
[3934,303,8,false,29,354819528,354819920,-392]
[3935,303,9,false,30,354909744,354908515,1229]
[3936,303,10,false,29,354999960,355000165,-205]
[3937,303,11,false,30,355090176,355088760,1416]
[3938,303,12,false,29,355180392,355180410,-18]
[3939,303,13,false,30,355270608,355269005,1603]
[3940,304,1,false,30,355360824,355360655,169]
[3941,304,2,false,29,355451040,355452305,-1265]
[3942,304,3,false,30,355541256,355540900,356]
[3943,304,4,false,29,355631472,355632550,-1078]
[3944,304,5,false,30,355721688,355721145,543]
[3945,304,6,false,29,355811904,355812795,-891]
[3946,304,7,false,30,355902120,355901390,730]
[3947,304,8,false,29,355992336,355993040,-704]
[3948,304,9,false,30,356082552,356081635,917]
[3949,304,10,false,29,356172768,356173285,-517]
[3950,304,11,false,30,356262984,356261880,1104]
[3951,304,12,false,29,356353200,356353530,-330]
[3952,304,13,false,30,356443416,356442125,1291]
[{"$f":"A3972+1","v":3953},305,{"$f":"IF(C3972=13,1,C3972+1)","v":1},false,30,356533632,356533775,-143]
[3954,305,2,false,29,356623848,356625425,-1577]
[3955,305,3,false,30,356714064,356714020,44]
[3956,305,4,false,29,356804280,356805670,-1390]
[3957,305,5,false,30,356894496,356894265,231]
[3958,305,6,false,29,356984712,356985915,-1203]
[3959,305,7,false,30,357074928,357074510,418]
[3960,305,8,false,29,357165144,357166160,-1016]
[3961,305,9,false,30,357255360,357254755,605]
[3962,305,10,false,29,357345576,357346405,-829]
[3963,305,11,false,30,357435792,357435000,792]
[3964,305,12,false,29,357526008,357526650,-642]
[3965,305,13,false,30,357616224,357615245,979]
[3966,306,1,false,30,357706440,357706895,-455]
[3967,306,2,false,29,357796656,357798545,-1889]
[3968,306,3,false,30,357886872,357887140,-268]
[3969,306,4,false,29,357977088,357978790,{"$f":"F3989-G3989","v":-1702}]
[3970,{"$f":"IF(C3990=1,B3989+1,B3989)","v":306},5,{"$f":"AND(OR(MOD(B3990,235)=0,MOD(B3990,10)=0),C3990=13)","v":false},{"$f":"IF(MOD(C3990,2)=1,30,29)-IF(D3990,1,0)","v":30},358067304,{"$f":"G3989+E3989*PPD","v":358067385},-81]
[3971,306,6,false,29,{"$f":"F3990+PPM","v":358157520},358159035,-1515]
[3972,306,7,false,30,358247736,358247630,106]
[3973,306,8,false,29,358337952,358339280,-1328]
[3974,306,9,false,30,358428168,358427875,293]
[3975,306,10,false,29,358518384,358519525,-1141]
[3976,306,11,false,30,358608600,358608120,480]
[3977,306,12,false,29,358698816,358699770,-954]
[3978,306,13,false,30,358789032,358788365,667]
[3979,307,1,false,30,358879248,358880015,-767]
[3980,307,2,false,29,358969464,358971665,-2201]
[3981,307,3,false,30,359059680,359060260,-580]
[3982,307,4,false,29,359149896,359151910,-2014]
[3983,307,5,false,30,359240112,359240505,-393]
[3984,307,6,false,29,359330328,359332155,-1827]
[3985,307,7,false,30,359420544,359420750,-206]
[3986,307,8,false,29,359510760,359512400,-1640]
[3987,307,9,false,30,359600976,359600995,-19]
[3988,307,10,false,29,359691192,359692645,-1453]
[3989,307,11,false,30,359781408,359781240,168]
[3990,307,12,false,29,359871624,359872890,-1266]
[3991,307,13,false,30,359961840,359961485,355]
[3992,308,1,false,30,360052056,360053135,-1079]
[3993,308,2,false,29,360142272,360144785,-2513]
[3994,308,3,false,30,360232488,360233380,-892]
[3995,308,4,false,29,360322704,360325030,-2326]
[3996,308,5,false,30,360412920,360413625,-705]
[3997,308,6,false,29,360503136,360505275,-2139]
[3998,308,7,false,30,360593352,360593870,-518]
[3999,308,8,false,29,360683568,360685520,-1952]
[4000,308,9,false,30,360773784,360774115,-331]
[4001,308,10,false,29,360864000,360865765,-1765]
[4002,308,11,false,30,360954216,360954360,-144]
[4003,308,12,false,29,361044432,361046010,-1578]
[4004,308,13,false,30,361134648,361134605,43]
[4005,309,1,false,30,361224864,361226255,-1391]
[4006,309,2,false,29,361315080,361317905,-2825]
[4007,309,3,false,30,361405296,361406500,-1204]
[4008,309,4,false,29,361495512,361498150,-2638]
[4009,309,5,false,30,361585728,361586745,-1017]
[4010,309,6,false,29,361675944,361678395,-2451]
[4011,309,7,false,30,361766160,361766990,-830]
[4012,309,8,false,29,361856376,361858640,-2264]
[4013,309,9,false,30,361946592,361947235,-643]
[4014,309,10,false,29,362036808,362038885,-2077]
[4015,309,11,false,30,362127024,362127480,-456]
[4016,309,12,false,29,362217240,362219130,-1890]
[{"$f":"A4036+1","v":4017},309,{"$f":"IF(C4036=13,1,C4036+1)","v":13},false,30,362307456,362307725,-269]
[4018,310,1,false,30,362397672,362399375,-1703]
[4019,310,2,false,29,362487888,362491025,-3137]
[4020,310,3,false,30,362578104,362579620,-1516]
[4021,310,4,false,29,362668320,362671270,-2950]
[4022,310,5,false,30,362758536,362759865,-1329]
[4023,310,6,false,29,362848752,362851515,-2763]
[4024,310,7,false,30,362938968,362940110,-1142]
[4025,310,8,false,29,363029184,363031760,-2576]
[4026,310,9,false,30,363119400,363120355,-955]
[4027,310,10,false,29,363209616,363212005,-2389]
[4028,310,11,false,30,363299832,363300600,-768]
[4029,310,12,false,29,363390048,363392250,-2202]
[4030,310,13,true,29,363480264,363480845,-581]
[4031,311,1,false,30,363570480,363569440,1040]
[4032,311,2,false,29,363660696,363661090,-394]
[4033,311,3,false,30,363750912,363749685,{"$f":"F4053-G4053","v":1227}]
[4034,{"$f":"IF(C4054=1,B4053+1,B4053)","v":311},4,{"$f":"AND(OR(MOD(B4054,235)=0,MOD(B4054,10)=0),C4054=13)","v":false},{"$f":"IF(MOD(C4054,2)=1,30,29)-IF(D4054,1,0)","v":29},363841128,{"$f":"G4053+E4053*PPD","v":363841335},-207]
[4035,311,5,false,30,{"$f":"F4054+PPM","v":363931344},363929930,1414]
[4036,311,6,false,29,364021560,364021580,-20]
[4037,311,7,false,30,364111776,364110175,1601]
[4038,311,8,false,29,364201992,364201825,167]
[4039,311,9,false,30,364292208,364290420,1788]
[4040,311,10,false,29,364382424,364382070,354]
[4041,311,11,false,30,364472640,364470665,1975]
[4042,311,12,false,29,364562856,364562315,541]
[4043,311,13,false,30,364653072,364650910,2162]
[4044,312,1,false,30,364743288,364742560,728]
[4045,312,2,false,29,364833504,364834210,-706]
[4046,312,3,false,30,364923720,364922805,915]
[4047,312,4,false,29,365013936,365014455,-519]
[4048,312,5,false,30,365104152,365103050,1102]
[4049,312,6,false,29,365194368,365194700,-332]
[4050,312,7,false,30,365284584,365283295,1289]
[4051,312,8,false,29,365374800,365374945,-145]
[4052,312,9,false,30,365465016,365463540,1476]
[4053,312,10,false,29,365555232,365555190,42]
[4054,312,11,false,30,365645448,365643785,1663]
[4055,312,12,false,29,365735664,365735435,229]
[4056,312,13,false,30,365825880,365824030,1850]
[4057,313,1,false,30,365916096,365915680,416]
[4058,313,2,false,29,366006312,366007330,-1018]
[4059,313,3,false,30,366096528,366095925,603]
[4060,313,4,false,29,366186744,366187575,-831]
[4061,313,5,false,30,366276960,366276170,790]
[4062,313,6,false,29,366367176,366367820,-644]
[4063,313,7,false,30,366457392,366456415,977]
[4064,313,8,false,29,366547608,366548065,-457]
[4065,313,9,false,30,366637824,366636660,1164]
[4066,313,10,false,29,366728040,366728310,-270]
[4067,313,11,false,30,366818256,366816905,1351]
[4068,313,12,false,29,366908472,366908555,-83]
[4069,313,13,false,30,366998688,366997150,1538]
[4070,314,1,false,30,367088904,367088800,104]
[4071,314,2,false,29,367179120,367180450,-1330]
[4072,314,3,false,30,367269336,367269045,291]
[4073,314,4,false,29,367359552,367360695,-1143]
[4074,314,5,false,30,367449768,367449290,478]
[4075,314,6,false,29,367539984,367540940,-956]
[4076,314,7,false,30,367630200,367629535,665]
[4077,314,8,false,29,367720416,367721185,-769]
[4078,314,9,false,30,367810632,367809780,852]
[4079,314,10,false,29,367900848,367901430,-582]
[4080,314,11,false,30,367991064,367990025,1039]
[{"$f":"A4100+1","v":4081},314,{"$f":"IF(C4100=13,1,C4100+1)","v":12},false,29,368081280,368081675,-395]
[4082,314,13,false,30,368171496,368170270,1226]
[4083,315,1,false,30,368261712,368261920,-208]
[4084,315,2,false,29,368351928,368353570,-1642]
[4085,315,3,false,30,368442144,368442165,-21]
[4086,315,4,false,29,368532360,368533815,-1455]
[4087,315,5,false,30,368622576,368622410,166]
[4088,315,6,false,29,368712792,368714060,-1268]
[4089,315,7,false,30,368803008,368802655,353]
[4090,315,8,false,29,368893224,368894305,-1081]
[4091,315,9,false,30,368983440,368982900,540]
[4092,315,10,false,29,369073656,369074550,-894]
[4093,315,11,false,30,369163872,369163145,727]
[4094,315,12,false,29,369254088,369254795,-707]
[4095,315,13,false,30,369344304,369343390,914]
[4096,316,1,false,30,369434520,369435040,-520]
[4097,316,2,false,29,369524736,369526690,{"$f":"F4117-G4117","v":-1954}]
[4098,{"$f":"IF(C4118=1,B4117+1,B4117)","v":316},3,{"$f":"AND(OR(MOD(B4118,235)=0,MOD(B4118,10)=0),C4118=13)","v":false},{"$f":"IF(MOD(C4118,2)=1,30,29)-IF(D4118,1,0)","v":30},369614952,{"$f":"G4117+E4117*PPD","v":369615285},-333]
[4099,316,4,false,29,{"$f":"F4118+PPM","v":369705168},369706935,-1767]
[4100,316,5,false,30,369795384,369795530,-146]
[4101,316,6,false,29,369885600,369887180,-1580]
[4102,316,7,false,30,369975816,369975775,41]
[4103,316,8,false,29,370066032,370067425,-1393]
[4104,316,9,false,30,370156248,370156020,228]
[4105,316,10,false,29,370246464,370247670,-1206]
[4106,316,11,false,30,370336680,370336265,415]
[4107,316,12,false,29,370426896,370427915,-1019]
[4108,316,13,false,30,370517112,370516510,602]
[4109,317,1,false,30,370607328,370608160,-832]
[4110,317,2,false,29,370697544,370699810,-2266]
[4111,317,3,false,30,370787760,370788405,-645]
[4112,317,4,false,29,370877976,370880055,-2079]
[4113,317,5,false,30,370968192,370968650,-458]
[4114,317,6,false,29,371058408,371060300,-1892]
[4115,317,7,false,30,371148624,371148895,-271]
[4116,317,8,false,29,371238840,371240545,-1705]
[4117,317,9,false,30,371329056,371329140,-84]
[4118,317,10,false,29,371419272,371420790,-1518]
[4119,317,11,false,30,371509488,371509385,103]
[4120,317,12,false,29,371599704,371601035,-1331]
[4121,317,13,false,30,371689920,371689630,290]
[4122,318,1,false,30,371780136,371781280,-1144]
[4123,318,2,false,29,371870352,371872930,-2578]
[4124,318,3,false,30,371960568,371961525,-957]
[4125,318,4,false,29,372050784,372053175,-2391]
[4126,318,5,false,30,372141000,372141770,-770]
[4127,318,6,false,29,372231216,372233420,-2204]
[4128,318,7,false,30,372321432,372322015,-583]
[4129,318,8,false,29,372411648,372413665,-2017]
[4130,318,9,false,30,372501864,372502260,-396]
[4131,318,10,false,29,372592080,372593910,-1830]
[4132,318,11,false,30,372682296,372682505,-209]
[4133,318,12,false,29,372772512,372774155,-1643]
[4134,318,13,false,30,372862728,372862750,-22]
[4135,319,1,false,30,372952944,372954400,-1456]
[4136,319,2,false,29,373043160,373046050,-2890]
[4137,319,3,false,30,373133376,373134645,-1269]
[4138,319,4,false,29,373223592,373226295,-2703]
[4139,319,5,false,30,373313808,373314890,-1082]
[4140,319,6,false,29,373404024,373406540,-2516]
[4141,319,7,false,30,373494240,373495135,-895]
[4142,319,8,false,29,373584456,373586785,-2329]
[4143,319,9,false,30,373674672,373675380,-708]
[4144,319,10,false,29,373764888,373767030,-2142]
[{"$f":"A4164+1","v":4145},319,{"$f":"IF(C4164=13,1,C4164+1)","v":11},false,30,373855104,373855625,-521]
[4146,319,12,false,29,373945320,373947275,-1955]
[4147,319,13,false,30,374035536,374035870,-334]
[4148,320,1,false,30,374125752,374127520,-1768]
[4149,320,2,false,29,374215968,374219170,-3202]
[4150,320,3,false,30,374306184,374307765,-1581]
[4151,320,4,false,29,374396400,374399415,-3015]
[4152,320,5,false,30,374486616,374488010,-1394]
[4153,320,6,false,29,374576832,374579660,-2828]
[4154,320,7,false,30,374667048,374668255,-1207]
[4155,320,8,false,29,374757264,374759905,-2641]
[4156,320,9,false,30,374847480,374848500,-1020]
[4157,320,10,false,29,374937696,374940150,-2454]
[4158,320,11,false,30,375027912,375028745,-833]
[4159,320,12,false,29,375118128,375120395,-2267]
[4160,320,13,true,29,375208344,375208990,-646]
[4161,321,1,false,30,375298560,375297585,{"$f":"F4181-G4181","v":975}]
[4162,{"$f":"IF(C4182=1,B4181+1,B4181)","v":321},2,{"$f":"AND(OR(MOD(B4182,235)=0,MOD(B4182,10)=0),C4182=13)","v":false},{"$f":"IF(MOD(C4182,2)=1,30,29)-IF(D4182,1,0)","v":29},375388776,{"$f":"G4181+E4181*PPD","v":375389235},-459]
[4163,321,3,false,30,{"$f":"F4182+PPM","v":375478992},375477830,1162]
[4164,321,4,false,29,375569208,375569480,-272]
[4165,321,5,false,30,375659424,375658075,1349]
[4166,321,6,false,29,375749640,375749725,-85]
[4167,321,7,false,30,375839856,375838320,1536]
[4168,321,8,false,29,375930072,375929970,102]
[4169,321,9,false,30,376020288,376018565,1723]
[4170,321,10,false,29,376110504,376110215,289]
[4171,321,11,false,30,376200720,376198810,1910]
[4172,321,12,false,29,376290936,376290460,476]
[4173,321,13,false,30,376381152,376379055,2097]
[4174,322,1,false,30,376471368,376470705,663]
[4175,322,2,false,29,376561584,376562355,-771]
[4176,322,3,false,30,376651800,376650950,850]
[4177,322,4,false,29,376742016,376742600,-584]
[4178,322,5,false,30,376832232,376831195,1037]
[4179,322,6,false,29,376922448,376922845,-397]
[4180,322,7,false,30,377012664,377011440,1224]
[4181,322,8,false,29,377102880,377103090,-210]
[4182,322,9,false,30,377193096,377191685,1411]
[4183,322,10,false,29,377283312,377283335,-23]
[4184,322,11,false,30,377373528,377371930,1598]
[4185,322,12,false,29,377463744,377463580,164]
[4186,322,13,false,30,377553960,377552175,1785]
[4187,323,1,false,30,377644176,377643825,351]
[4188,323,2,false,29,377734392,377735475,-1083]
[4189,323,3,false,30,377824608,377824070,538]
[4190,323,4,false,29,377914824,377915720,-896]
[4191,323,5,false,30,378005040,378004315,725]
[4192,323,6,false,29,378095256,378095965,-709]
[4193,323,7,false,30,378185472,378184560,912]
[4194,323,8,false,29,378275688,378276210,-522]
[4195,323,9,false,30,378365904,378364805,1099]
[4196,323,10,false,29,378456120,378456455,-335]
[4197,323,11,false,30,378546336,378545050,1286]
[4198,323,12,false,29,378636552,378636700,-148]
[4199,323,13,false,30,378726768,378725295,1473]
[4200,324,1,false,30,378816984,378816945,39]
[4201,324,2,false,29,378907200,378908595,-1395]
[4202,324,3,false,30,378997416,378997190,226]
[4203,324,4,false,29,379087632,379088840,-1208]
[4204,324,5,false,30,379177848,379177435,413]
[4205,324,6,false,29,379268064,379269085,-1021]
[4206,324,7,false,30,379358280,379357680,600]
[4207,324,8,false,29,379448496,379449330,-834]
[4208,324,9,false,30,379538712,379537925,787]
[{"$f":"A4228+1","v":4209},324,{"$f":"IF(C4228=13,1,C4228+1)","v":10},false,29,379628928,379629575,-647]
[4210,324,11,false,30,379719144,379718170,974]
[4211,324,12,false,29,379809360,379809820,-460]
[4212,324,13,false,30,379899576,379898415,1161]
[4213,325,1,false,30,379989792,379990065,-273]
[4214,325,2,false,29,380080008,380081715,-1707]
[4215,325,3,false,30,380170224,380170310,-86]
[4216,325,4,false,29,380260440,380261960,-1520]
[4217,325,5,false,30,380350656,380350555,101]
[4218,325,6,false,29,380440872,380442205,-1333]
[4219,325,7,false,30,380531088,380530800,288]
[4220,325,8,false,29,380621304,380622450,-1146]
[4221,325,9,false,30,380711520,380711045,475]
[4222,325,10,false,29,380801736,380802695,-959]
[4223,325,11,false,30,380891952,380891290,662]
[4224,325,12,false,29,380982168,380982940,-772]
[4225,325,13,false,30,381072384,381071535,{"$f":"F4245-G4245","v":849}]
[4226,{"$f":"IF(C4246=1,B4245+1,B4245)","v":326},1,{"$f":"AND(OR(MOD(B4246,235)=0,MOD(B4246,10)=0),C4246=13)","v":false},{"$f":"IF(MOD(C4246,2)=1,30,29)-IF(D4246,1,0)","v":30},381162600,{"$f":"G4245+E4245*PPD","v":381163185},-585]
[4227,326,2,false,29,{"$f":"F4246+PPM","v":381252816},381254835,-2019]
[4228,326,3,false,30,381343032,381343430,-398]
[4229,326,4,false,29,381433248,381435080,-1832]
[4230,326,5,false,30,381523464,381523675,-211]
[4231,326,6,false,29,381613680,381615325,-1645]
[4232,326,7,false,30,381703896,381703920,-24]
[4233,326,8,false,29,381794112,381795570,-1458]
[4234,326,9,false,30,381884328,381884165,163]
[4235,326,10,false,29,381974544,381975815,-1271]
[4236,326,11,false,30,382064760,382064410,350]
[4237,326,12,false,29,382154976,382156060,-1084]
[4238,326,13,false,30,382245192,382244655,537]
[4239,327,1,false,30,382335408,382336305,-897]
[4240,327,2,false,29,382425624,382427955,-2331]
[4241,327,3,false,30,382515840,382516550,-710]
[4242,327,4,false,29,382606056,382608200,-2144]
[4243,327,5,false,30,382696272,382696795,-523]
[4244,327,6,false,29,382786488,382788445,-1957]
[4245,327,7,false,30,382876704,382877040,-336]
[4246,327,8,false,29,382966920,382968690,-1770]
[4247,327,9,false,30,383057136,383057285,-149]
[4248,327,10,false,29,383147352,383148935,-1583]
[4249,327,11,false,30,383237568,383237530,38]
[4250,327,12,false,29,383327784,383329180,-1396]
[4251,327,13,false,30,383418000,383417775,225]
[4252,328,1,false,30,383508216,383509425,-1209]
[4253,328,2,false,29,383598432,383601075,-2643]
[4254,328,3,false,30,383688648,383689670,-1022]
[4255,328,4,false,29,383778864,383781320,-2456]
[4256,328,5,false,30,383869080,383869915,-835]
[4257,328,6,false,29,383959296,383961565,-2269]
[4258,328,7,false,30,384049512,384050160,-648]
[4259,328,8,false,29,384139728,384141810,-2082]
[4260,328,9,false,30,384229944,384230405,-461]
[4261,328,10,false,29,384320160,384322055,-1895]
[4262,328,11,false,30,384410376,384410650,-274]
[4263,328,12,false,29,384500592,384502300,-1708]
[4264,328,13,false,30,384590808,384590895,-87]
[4265,329,1,false,30,384681024,384682545,-1521]
[4266,329,2,false,29,384771240,384774195,-2955]
[4267,329,3,false,30,384861456,384862790,-1334]
[4268,329,4,false,29,384951672,384954440,-2768]
[4269,329,5,false,30,385041888,385043035,-1147]
[4270,329,6,false,29,385132104,385134685,-2581]
[4271,329,7,false,30,385222320,385223280,-960]
[4272,329,8,false,29,385312536,385314930,-2394]
[{"$f":"A4292+1","v":4273},329,{"$f":"IF(C4292=13,1,C4292+1)","v":9},false,30,385402752,385403525,-773]
[4274,329,10,false,29,385492968,385495175,-2207]
[4275,329,11,false,30,385583184,385583770,-586]
[4276,329,12,false,29,385673400,385675420,-2020]
[4277,329,13,false,30,385763616,385764015,-399]
[4278,330,1,false,30,385853832,385855665,-1833]
[4279,330,2,false,29,385944048,385947315,-3267]
[4280,330,3,false,30,386034264,386035910,-1646]
[4281,330,4,false,29,386124480,386127560,-3080]
[4282,330,5,false,30,386214696,386216155,-1459]
[4283,330,6,false,29,386304912,386307805,-2893]
[4284,330,7,false,30,386395128,386396400,-1272]
[4285,330,8,false,29,386485344,386488050,-2706]
[4286,330,9,false,30,386575560,386576645,-1085]
[4287,330,10,false,29,386665776,386668295,-2519]
[4288,330,11,false,30,386755992,386756890,-898]
[4289,330,12,false,29,386846208,386848540,{"$f":"F4309-G4309","v":-2332}]
[4290,{"$f":"IF(C4310=1,B4309+1,B4309)","v":330},13,{"$f":"AND(OR(MOD(B4310,235)=0,MOD(B4310,10)=0),C4310=13)","v":true},{"$f":"IF(MOD(C4310,2)=1,30,29)-IF(D4310,1,0)","v":29},386936424,{"$f":"G4309+E4309*PPD","v":386937135},-711]
[4291,331,1,false,30,{"$f":"F4310+PPM","v":387026640},387025730,910]
[4292,331,2,false,29,387116856,387117380,-524]
[4293,331,3,false,30,387207072,387205975,1097]
[4294,331,4,false,29,387297288,387297625,-337]
[4295,331,5,false,30,387387504,387386220,1284]
[4296,331,6,false,29,387477720,387477870,-150]
[4297,331,7,false,30,387567936,387566465,1471]
[4298,331,8,false,29,387658152,387658115,37]
[4299,331,9,false,30,387748368,387746710,1658]
[4300,331,10,false,29,387838584,387838360,224]
[4301,331,11,false,30,387928800,387926955,1845]
[4302,331,12,false,29,388019016,388018605,411]
[4303,331,13,false,30,388109232,388107200,2032]
[4304,332,1,false,30,388199448,388198850,598]
[4305,332,2,false,29,388289664,388290500,-836]
[4306,332,3,false,30,388379880,388379095,785]
[4307,332,4,false,29,388470096,388470745,-649]
[4308,332,5,false,30,388560312,388559340,972]
[4309,332,6,false,29,388650528,388650990,-462]
[4310,332,7,false,30,388740744,388739585,1159]
[4311,332,8,false,29,388830960,388831235,-275]
[4312,332,9,false,30,388921176,388919830,1346]
[4313,332,10,false,29,389011392,389011480,-88]
[4314,332,11,false,30,389101608,389100075,1533]
[4315,332,12,false,29,389191824,389191725,99]
[4316,332,13,false,30,389282040,389280320,1720]
[4317,333,1,false,30,389372256,389371970,286]
[4318,333,2,false,29,389462472,389463620,-1148]
[4319,333,3,false,30,389552688,389552215,473]
[4320,333,4,false,29,389642904,389643865,-961]
[4321,333,5,false,30,389733120,389732460,660]
[4322,333,6,false,29,389823336,389824110,-774]
[4323,333,7,false,30,389913552,389912705,847]
[4324,333,8,false,29,390003768,390004355,-587]
[4325,333,9,false,30,390093984,390092950,1034]
[4326,333,10,false,29,390184200,390184600,-400]
[4327,333,11,false,30,390274416,390273195,1221]
[4328,333,12,false,29,390364632,390364845,-213]
[4329,333,13,false,30,390454848,390453440,1408]
[4330,334,1,false,30,390545064,390545090,-26]
[4331,334,2,false,29,390635280,390636740,-1460]
[4332,334,3,false,30,390725496,390725335,161]
[4333,334,4,false,29,390815712,390816985,-1273]
[4334,334,5,false,30,390905928,390905580,348]
[4335,334,6,false,29,390996144,390997230,-1086]
[4336,334,7,false,30,391086360,391085825,535]
[{"$f":"A4356+1","v":4337},334,{"$f":"IF(C4356=13,1,C4356+1)","v":8},false,29,391176576,391177475,-899]
[4338,334,9,false,30,391266792,391266070,722]
[4339,334,10,false,29,391357008,391357720,-712]
[4340,334,11,false,30,391447224,391446315,909]
[4341,334,12,false,29,391537440,391537965,-525]
[4342,334,13,false,30,391627656,391626560,1096]
[4343,335,1,false,30,391717872,391718210,-338]
[4344,335,2,false,29,391808088,391809860,-1772]
[4345,335,3,false,30,391898304,391898455,-151]
[4346,335,4,false,29,391988520,391990105,-1585]
[4347,335,5,false,30,392078736,392078700,36]
[4348,335,6,false,29,392168952,392170350,-1398]
[4349,335,7,false,30,392259168,392258945,223]
[4350,335,8,false,29,392349384,392350595,-1211]
[4351,335,9,false,30,392439600,392439190,410]
[4352,335,10,false,29,392529816,392530840,-1024]
[4353,335,11,false,30,392620032,392619435,{"$f":"F4373-G4373","v":597}]
[4354,{"$f":"IF(C4374=1,B4373+1,B4373)","v":335},12,{"$f":"AND(OR(MOD(B4374,235)=0,MOD(B4374,10)=0),C4374=13)","v":false},{"$f":"IF(MOD(C4374,2)=1,30,29)-IF(D4374,1,0)","v":29},392710248,{"$f":"G4373+E4373*PPD","v":392711085},-837]
[4355,335,13,false,30,{"$f":"F4374+PPM","v":392800464},392799680,784]
[4356,336,1,false,30,392890680,392891330,-650]
[4357,336,2,false,29,392980896,392982980,-2084]
[4358,336,3,false,30,393071112,393071575,-463]
[4359,336,4,false,29,393161328,393163225,-1897]
[4360,336,5,false,30,393251544,393251820,-276]
[4361,336,6,false,29,393341760,393343470,-1710]
[4362,336,7,false,30,393431976,393432065,-89]
[4363,336,8,false,29,393522192,393523715,-1523]
[4364,336,9,false,30,393612408,393612310,98]
[4365,336,10,false,29,393702624,393703960,-1336]
[4366,336,11,false,30,393792840,393792555,285]
[4367,336,12,false,29,393883056,393884205,-1149]
[4368,336,13,false,30,393973272,393972800,472]
[4369,337,1,false,30,394063488,394064450,-962]
[4370,337,2,false,29,394153704,394156100,-2396]
[4371,337,3,false,30,394243920,394244695,-775]
[4372,337,4,false,29,394334136,394336345,-2209]
[4373,337,5,false,30,394424352,394424940,-588]
[4374,337,6,false,29,394514568,394516590,-2022]
[4375,337,7,false,30,394604784,394605185,-401]
[4376,337,8,false,29,394695000,394696835,-1835]
[4377,337,9,false,30,394785216,394785430,-214]
[4378,337,10,false,29,394875432,394877080,-1648]
[4379,337,11,false,30,394965648,394965675,-27]
[4380,337,12,false,29,395055864,395057325,-1461]
[4381,337,13,false,30,395146080,395145920,160]
[4382,338,1,false,30,395236296,395237570,-1274]
[4383,338,2,false,29,395326512,395329220,-2708]
[4384,338,3,false,30,395416728,395417815,-1087]
[4385,338,4,false,29,395506944,395509465,-2521]
[4386,338,5,false,30,395597160,395598060,-900]
[4387,338,6,false,29,395687376,395689710,-2334]
[4388,338,7,false,30,395777592,395778305,-713]
[4389,338,8,false,29,395867808,395869955,-2147]
[4390,338,9,false,30,395958024,395958550,-526]
[4391,338,10,false,29,396048240,396050200,-1960]
[4392,338,11,false,30,396138456,396138795,-339]
[4393,338,12,false,29,396228672,396230445,-1773]
[4394,338,13,false,30,396318888,396319040,-152]
[4395,339,1,false,30,396409104,396410690,-1586]
[4396,339,2,false,29,396499320,396502340,-3020]
[4397,339,3,false,30,396589536,396590935,-1399]
[4398,339,4,false,29,396679752,396682585,-2833]
[4399,339,5,false,30,396769968,396771180,-1212]
[4400,339,6,false,29,396860184,396862830,-2646]
[{"$f":"A4420+1","v":4401},339,{"$f":"IF(C4420=13,1,C4420+1)","v":7},false,30,396950400,396951425,-1025]
[4402,339,8,false,29,397040616,397043075,-2459]
[4403,339,9,false,30,397130832,397131670,-838]
[4404,339,10,false,29,397221048,397223320,-2272]
[4405,339,11,false,30,397311264,397311915,-651]
[4406,339,12,false,29,397401480,397403565,-2085]
[4407,339,13,false,30,397491696,397492160,-464]
[4408,340,1,false,30,397581912,397583810,-1898]
[4409,340,2,false,29,397672128,397675460,-3332]
[4410,340,3,false,30,397762344,397764055,-1711]
[4411,340,4,false,29,397852560,397855705,-3145]
[4412,340,5,false,30,397942776,397944300,-1524]
[4413,340,6,false,29,398032992,398035950,-2958]
[4414,340,7,false,30,398123208,398124545,-1337]
[4415,340,8,false,29,398213424,398216195,-2771]
[4416,340,9,false,30,398303640,398304790,-1150]
[4417,340,10,false,29,398393856,398396440,{"$f":"F4437-G4437","v":-2584}]
[4418,{"$f":"IF(C4438=1,B4437+1,B4437)","v":340},11,{"$f":"AND(OR(MOD(B4438,235)=0,MOD(B4438,10)=0),C4438=13)","v":false},{"$f":"IF(MOD(C4438,2)=1,30,29)-IF(D4438,1,0)","v":30},398484072,{"$f":"G4437+E4437*PPD","v":398485035},-963]
[4419,340,12,false,29,{"$f":"F4438+PPM","v":398574288},398576685,-2397]
[4420,340,13,true,29,398664504,398665280,-776]
[4421,341,1,false,30,398754720,398753875,845]
[4422,341,2,false,29,398844936,398845525,-589]
[4423,341,3,false,30,398935152,398934120,1032]
[4424,341,4,false,29,399025368,399025770,-402]
[4425,341,5,false,30,399115584,399114365,1219]
[4426,341,6,false,29,399205800,399206015,-215]
[4427,341,7,false,30,399296016,399294610,1406]
[4428,341,8,false,29,399386232,399386260,-28]
[4429,341,9,false,30,399476448,399474855,1593]
[4430,341,10,false,29,399566664,399566505,159]
[4431,341,11,false,30,399656880,399655100,1780]
[4432,341,12,false,29,399747096,399746750,346]
[4433,341,13,false,30,399837312,399835345,1967]
[4434,342,1,false,30,399927528,399926995,533]
[4435,342,2,false,29,400017744,400018645,-901]
[4436,342,3,false,30,400107960,400107240,720]
[4437,342,4,false,29,400198176,400198890,-714]
[4438,342,5,false,30,400288392,400287485,907]
[4439,342,6,false,29,400378608,400379135,-527]
[4440,342,7,false,30,400468824,400467730,1094]
[4441,342,8,false,29,400559040,400559380,-340]
[4442,342,9,false,30,400649256,400647975,1281]
[4443,342,10,false,29,400739472,400739625,-153]
[4444,342,11,false,30,400829688,400828220,1468]
[4445,342,12,false,29,400919904,400919870,34]
[4446,342,13,false,30,401010120,401008465,1655]
[4447,343,1,false,30,401100336,401100115,221]
[4448,343,2,false,29,401190552,401191765,-1213]
[4449,343,3,false,30,401280768,401280360,408]
[4450,343,4,false,29,401370984,401372010,-1026]
[4451,343,5,false,30,401461200,401460605,595]
[4452,343,6,false,29,401551416,401552255,-839]
[4453,343,7,false,30,401641632,401640850,782]
[4454,343,8,false,29,401731848,401732500,-652]
[4455,343,9,false,30,401822064,401821095,969]
[4456,343,10,false,29,401912280,401912745,-465]
[4457,343,11,false,30,402002496,402001340,1156]
[4458,343,12,false,29,402092712,402092990,-278]
[4459,343,13,false,30,402182928,402181585,1343]
[4460,344,1,false,30,402273144,402273235,-91]
[4461,344,2,false,29,402363360,402364885,-1525]
[4462,344,3,false,30,402453576,402453480,96]
[4463,344,4,false,29,402543792,402545130,-1338]
[4464,344,5,false,30,402634008,402633725,283]
[{"$f":"A4484+1","v":4465},344,{"$f":"IF(C4484=13,1,C4484+1)","v":6},false,29,402724224,402725375,-1151]
[4466,344,7,false,30,402814440,402813970,470]
[4467,344,8,false,29,402904656,402905620,-964]
[4468,344,9,false,30,402994872,402994215,657]
[4469,344,10,false,29,403085088,403085865,-777]
[4470,344,11,false,30,403175304,403174460,844]
[4471,344,12,false,29,403265520,403266110,-590]
[4472,344,13,false,30,403355736,403354705,1031]
[4473,345,1,false,30,403445952,403446355,-403]
[4474,345,2,false,29,403536168,403538005,-1837]
[4475,345,3,false,30,403626384,403626600,-216]
[4476,345,4,false,29,403716600,403718250,-1650]
[4477,345,5,false,30,403806816,403806845,-29]
[4478,345,6,false,29,403897032,403898495,-1463]
[4479,345,7,false,30,403987248,403987090,158]
[4480,345,8,false,29,404077464,404078740,-1276]
[4481,345,9,false,30,404167680,404167335,{"$f":"F4501-G4501","v":345}]
[4482,{"$f":"IF(C4502=1,B4501+1,B4501)","v":345},10,{"$f":"AND(OR(MOD(B4502,235)=0,MOD(B4502,10)=0),C4502=13)","v":false},{"$f":"IF(MOD(C4502,2)=1,30,29)-IF(D4502,1,0)","v":29},404257896,{"$f":"G4501+E4501*PPD","v":404258985},-1089]
[4483,345,11,false,30,{"$f":"F4502+PPM","v":404348112},404347580,532]
[4484,345,12,false,29,404438328,404439230,-902]
[4485,345,13,false,30,404528544,404527825,719]
[4486,346,1,false,30,404618760,404619475,-715]
[4487,346,2,false,29,404708976,404711125,-2149]
[4488,346,3,false,30,404799192,404799720,-528]
[4489,346,4,false,29,404889408,404891370,-1962]
[4490,346,5,false,30,404979624,404979965,-341]
[4491,346,6,false,29,405069840,405071615,-1775]
[4492,346,7,false,30,405160056,405160210,-154]
[4493,346,8,false,29,405250272,405251860,-1588]
[4494,346,9,false,30,405340488,405340455,33]
[4495,346,10,false,29,405430704,405432105,-1401]
[4496,346,11,false,30,405520920,405520700,220]
[4497,346,12,false,29,405611136,405612350,-1214]
[4498,346,13,false,30,405701352,405700945,407]
[4499,347,1,false,30,405791568,405792595,-1027]
[4500,347,2,false,29,405881784,405884245,-2461]
[4501,347,3,false,30,405972000,405972840,-840]
[4502,347,4,false,29,406062216,406064490,-2274]
[4503,347,5,false,30,406152432,406153085,-653]
[4504,347,6,false,29,406242648,406244735,-2087]
[4505,347,7,false,30,406332864,406333330,-466]
[4506,347,8,false,29,406423080,406424980,-1900]
[4507,347,9,false,30,406513296,406513575,-279]
[4508,347,10,false,29,406603512,406605225,-1713]
[4509,347,11,false,30,406693728,406693820,-92]
[4510,347,12,false,29,406783944,406785470,-1526]
[4511,347,13,false,30,406874160,406874065,95]
[4512,348,1,false,30,406964376,406965715,-1339]
[4513,348,2,false,29,407054592,407057365,-2773]
[4514,348,3,false,30,407144808,407145960,-1152]
[4515,348,4,false,29,407235024,407237610,-2586]
[4516,348,5,false,30,407325240,407326205,-965]
[4517,348,6,false,29,407415456,407417855,-2399]
[4518,348,7,false,30,407505672,407506450,-778]
[4519,348,8,false,29,407595888,407598100,-2212]
[4520,348,9,false,30,407686104,407686695,-591]
[4521,348,10,false,29,407776320,407778345,-2025]
[4522,348,11,false,30,407866536,407866940,-404]
[4523,348,12,false,29,407956752,407958590,-1838]
[4524,348,13,false,30,408046968,408047185,-217]
[4525,349,1,false,30,408137184,408138835,-1651]
[4526,349,2,false,29,408227400,408230485,-3085]
[4527,349,3,false,30,408317616,408319080,-1464]
[4528,349,4,false,29,408407832,408410730,-2898]
[{"$f":"A4548+1","v":4529},349,{"$f":"IF(C4548=13,1,C4548+1)","v":5},false,30,408498048,408499325,-1277]
[4530,349,6,false,29,408588264,408590975,-2711]
[4531,349,7,false,30,408678480,408679570,-1090]
[4532,349,8,false,29,408768696,408771220,-2524]
[4533,349,9,false,30,408858912,408859815,-903]
[4534,349,10,false,29,408949128,408951465,-2337]
[4535,349,11,false,30,409039344,409040060,-716]
[4536,349,12,false,29,409129560,409131710,-2150]
[4537,349,13,false,30,409219776,409220305,-529]
[4538,350,1,false,30,409309992,409311955,-1963]
[4539,350,2,false,29,409400208,409403605,-3397]
[4540,350,3,false,30,409490424,409492200,-1776]
[4541,350,4,false,29,409580640,409583850,-3210]
[4542,350,5,false,30,409670856,409672445,-1589]
[4543,350,6,false,29,409761072,409764095,-3023]
[4544,350,7,false,30,409851288,409852690,-1402]
[4545,350,8,false,29,409941504,409944340,{"$f":"F4565-G4565","v":-2836}]
[4546,{"$f":"IF(C4566=1,B4565+1,B4565)","v":350},9,{"$f":"AND(OR(MOD(B4566,235)=0,MOD(B4566,10)=0),C4566=13)","v":false},{"$f":"IF(MOD(C4566,2)=1,30,29)-IF(D4566,1,0)","v":30},410031720,{"$f":"G4565+E4565*PPD","v":410032935},-1215]
[4547,350,10,false,29,{"$f":"F4566+PPM","v":410121936},410124585,-2649]
[4548,350,11,false,30,410212152,410213180,-1028]
[4549,350,12,false,29,410302368,410304830,-2462]
[4550,350,13,true,29,410392584,410393425,-841]
[4551,351,1,false,30,410482800,410482020,780]
[4552,351,2,false,29,410573016,410573670,-654]
[4553,351,3,false,30,410663232,410662265,967]
[4554,351,4,false,29,410753448,410753915,-467]
[4555,351,5,false,30,410843664,410842510,1154]
[4556,351,6,false,29,410933880,410934160,-280]
[4557,351,7,false,30,411024096,411022755,1341]
[4558,351,8,false,29,411114312,411114405,-93]
[4559,351,9,false,30,411204528,411203000,1528]
[4560,351,10,false,29,411294744,411294650,94]
[4561,351,11,false,30,411384960,411383245,1715]
[4562,351,12,false,29,411475176,411474895,281]
[4563,351,13,false,30,411565392,411563490,1902]
[4564,352,1,false,30,411655608,411655140,468]
[4565,352,2,false,29,411745824,411746790,-966]
[4566,352,3,false,30,411836040,411835385,655]
[4567,352,4,false,29,411926256,411927035,-779]
[4568,352,5,false,30,412016472,412015630,842]
[4569,352,6,false,29,412106688,412107280,-592]
[4570,352,7,false,30,412196904,412195875,1029]
[4571,352,8,false,29,412287120,412287525,-405]
[4572,352,9,false,30,412377336,412376120,1216]
[4573,352,10,false,29,412467552,412467770,-218]
[4574,352,11,false,30,412557768,412556365,1403]
[4575,352,12,false,29,412647984,412648015,-31]
[4576,352,13,false,30,412738200,412736610,1590]
[4577,353,1,false,30,412828416,412828260,156]
[4578,353,2,false,29,412918632,412919910,-1278]
[4579,353,3,false,30,413008848,413008505,343]
[4580,353,4,false,29,413099064,413100155,-1091]
[4581,353,5,false,30,413189280,413188750,530]
[4582,353,6,false,29,413279496,413280400,-904]
[4583,353,7,false,30,413369712,413368995,717]
[4584,353,8,false,29,413459928,413460645,-717]
[4585,353,9,false,30,413550144,413549240,904]
[4586,353,10,false,29,413640360,413640890,-530]
[4587,353,11,false,30,413730576,413729485,1091]
[4588,353,12,false,29,413820792,413821135,-343]
[4589,353,13,false,30,413911008,413909730,1278]
[4590,354,1,false,30,414001224,414001380,-156]
[4591,354,2,false,29,414091440,414093030,-1590]
[4592,354,3,false,30,414181656,414181625,31]
[{"$f":"A4612+1","v":4593},354,{"$f":"IF(C4612=13,1,C4612+1)","v":4},false,29,414271872,414273275,-1403]
[4594,354,5,false,30,414362088,414361870,218]
[4595,354,6,false,29,414452304,414453520,-1216]
[4596,354,7,false,30,414542520,414542115,405]
[4597,354,8,false,29,414632736,414633765,-1029]
[4598,354,9,false,30,414722952,414722360,592]
[4599,354,10,false,29,414813168,414814010,-842]
[4600,354,11,false,30,414903384,414902605,779]
[4601,354,12,false,29,414993600,414994255,-655]
[4602,354,13,false,30,415083816,415082850,966]
[4603,355,1,false,30,415174032,415174500,-468]
[4604,355,2,false,29,415264248,415266150,-1902]
[4605,355,3,false,30,415354464,415354745,-281]
[4606,355,4,false,29,415444680,415446395,-1715]
[4607,355,5,false,30,415534896,415534990,-94]
[4608,355,6,false,29,415625112,415626640,-1528]
[4609,355,7,false,30,415715328,415715235,{"$f":"F4629-G4629","v":93}]
[4610,{"$f":"IF(C4630=1,B4629+1,B4629)","v":355},8,{"$f":"AND(OR(MOD(B4630,235)=0,MOD(B4630,10)=0),C4630=13)","v":false},{"$f":"IF(MOD(C4630,2)=1,30,29)-IF(D4630,1,0)","v":29},415805544,{"$f":"G4629+E4629*PPD","v":415806885},-1341]
[4611,355,9,false,30,{"$f":"F4630+PPM","v":415895760},415895480,280]
[4612,355,10,false,29,415985976,415987130,-1154]
[4613,355,11,false,30,416076192,416075725,467]
[4614,355,12,false,29,416166408,416167375,-967]
[4615,355,13,false,30,416256624,416255970,654]
[4616,356,1,false,30,416346840,416347620,-780]
[4617,356,2,false,29,416437056,416439270,-2214]
[4618,356,3,false,30,416527272,416527865,-593]
[4619,356,4,false,29,416617488,416619515,-2027]
[4620,356,5,false,30,416707704,416708110,-406]
[4621,356,6,false,29,416797920,416799760,-1840]
[4622,356,7,false,30,416888136,416888355,-219]
[4623,356,8,false,29,416978352,416980005,-1653]
[4624,356,9,false,30,417068568,417068600,-32]
[4625,356,10,false,29,417158784,417160250,-1466]
[4626,356,11,false,30,417249000,417248845,155]
[4627,356,12,false,29,417339216,417340495,-1279]
[4628,356,13,false,30,417429432,417429090,342]
[4629,357,1,false,30,417519648,417520740,-1092]
[4630,357,2,false,29,417609864,417612390,-2526]
[4631,357,3,false,30,417700080,417700985,-905]
[4632,357,4,false,29,417790296,417792635,-2339]
[4633,357,5,false,30,417880512,417881230,-718]
[4634,357,6,false,29,417970728,417972880,-2152]
[4635,357,7,false,30,418060944,418061475,-531]
[4636,357,8,false,29,418151160,418153125,-1965]
[4637,357,9,false,30,418241376,418241720,-344]
[4638,357,10,false,29,418331592,418333370,-1778]
[4639,357,11,false,30,418421808,418421965,-157]
[4640,357,12,false,29,418512024,418513615,-1591]
[4641,357,13,false,30,418602240,418602210,30]
[4642,358,1,false,30,418692456,418693860,-1404]
[4643,358,2,false,29,418782672,418785510,-2838]
[4644,358,3,false,30,418872888,418874105,-1217]
[4645,358,4,false,29,418963104,418965755,-2651]
[4646,358,5,false,30,419053320,419054350,-1030]
[4647,358,6,false,29,419143536,419146000,-2464]
[4648,358,7,false,30,419233752,419234595,-843]
[4649,358,8,false,29,419323968,419326245,-2277]
[4650,358,9,false,30,419414184,419414840,-656]
[4651,358,10,false,29,419504400,419506490,-2090]
[4652,358,11,false,30,419594616,419595085,-469]
[4653,358,12,false,29,419684832,419686735,-1903]
[4654,358,13,false,30,419775048,419775330,-282]
[4655,359,1,false,30,419865264,419866980,-1716]
[4656,359,2,false,29,419955480,419958630,-3150]
[{"$f":"A4676+1","v":4657},359,{"$f":"IF(C4676=13,1,C4676+1)","v":3},false,30,420045696,420047225,-1529]
[4658,359,4,false,29,420135912,420138875,-2963]
[4659,359,5,false,30,420226128,420227470,-1342]
[4660,359,6,false,29,420316344,420319120,-2776]
[4661,359,7,false,30,420406560,420407715,-1155]
[4662,359,8,false,29,420496776,420499365,-2589]
[4663,359,9,false,30,420586992,420587960,-968]
[4664,359,10,false,29,420677208,420679610,-2402]
[4665,359,11,false,30,420767424,420768205,-781]
[4666,359,12,false,29,420857640,420859855,-2215]
[4667,359,13,false,30,420947856,420948450,-594]
[4668,360,1,false,30,421038072,421040100,-2028]
[4669,360,2,false,29,421128288,421131750,-3462]
[4670,360,3,false,30,421218504,421220345,-1841]
[4671,360,4,false,29,421308720,421311995,-3275]
[4672,360,5,false,30,421398936,421400590,-1654]
[4673,360,6,false,29,421489152,421492240,{"$f":"F4693-G4693","v":-3088}]
[4674,{"$f":"IF(C4694=1,B4693+1,B4693)","v":360},7,{"$f":"AND(OR(MOD(B4694,235)=0,MOD(B4694,10)=0),C4694=13)","v":false},{"$f":"IF(MOD(C4694,2)=1,30,29)-IF(D4694,1,0)","v":30},421579368,{"$f":"G4693+E4693*PPD","v":421580835},-1467]
[4675,360,8,false,29,{"$f":"F4694+PPM","v":421669584},421672485,-2901]
[4676,360,9,false,30,421759800,421761080,-1280]
[4677,360,10,false,29,421850016,421852730,-2714]
[4678,360,11,false,30,421940232,421941325,-1093]
[4679,360,12,false,29,422030448,422032975,-2527]
[4680,360,13,true,29,422120664,422121570,-906]
[4681,361,1,false,30,422210880,422210165,715]
[4682,361,2,false,29,422301096,422301815,-719]
[4683,361,3,false,30,422391312,422390410,902]
[4684,361,4,false,29,422481528,422482060,-532]
[4685,361,5,false,30,422571744,422570655,1089]
[4686,361,6,false,29,422661960,422662305,-345]
[4687,361,7,false,30,422752176,422750900,1276]
[4688,361,8,false,29,422842392,422842550,-158]
[4689,361,9,false,30,422932608,422931145,1463]
[4690,361,10,false,29,423022824,423022795,29]
[4691,361,11,false,30,423113040,423111390,1650]
[{"$f":"A4711+1","v":4692},361,{"$f":"IF(C4711=13,1,C4711+1)","v":12},false,29,423203256,423203040,216]
[4693,361,13,false,30,423293472,423291635,1837]
[4694,362,1,false,30,423383688,423383285,403]
[4695,362,2,false,29,423473904,423474935,-1031]
[4696,362,3,false,30,423564120,423563530,590]
[4697,362,4,false,29,423654336,423655180,-844]
[4698,362,5,false,30,423744552,423743775,777]
[4699,362,6,false,29,423834768,423835425,-657]
[4700,362,7,false,30,423924984,423924020,964]
[4701,362,8,false,29,424015200,424015670,-470]
[4702,362,9,false,30,424105416,424104265,1151]
[4703,362,10,false,29,424195632,424195915,-283]
[4704,362,11,false,30,424285848,424284510,1338]
[4705,362,12,false,29,424376064,424376160,-96]
[4706,362,13,false,30,424466280,424464755,1525]
[4707,363,1,false,30,424556496,424556405,91]
[4708,363,2,false,29,424646712,424648055,-1343]
[4709,363,3,false,30,424736928,424736650,278]
[4710,363,4,false,29,424827144,424828300,-1156]
[4711,363,5,false,30,424917360,424916895,465]
[4712,363,6,false,29,425007576,425008545,-969]
[4713,363,7,false,30,425097792,425097140,652]
[4714,363,8,false,29,425188008,425188790,-782]
[4715,363,9,false,30,425278224,425277385,839]
[4716,363,10,false,29,425368440,425369035,-595]
[4717,363,11,false,30,425458656,425457630,1026]
[4718,363,12,false,29,425548872,425549280,-408]
[4719,363,13,false,30,425639088,425637875,1213]
[4720,364,1,false,30,425729304,425729525,-221]
[4721,364,2,false,29,425819520,425821175,-1655]
[4722,364,3,false,30,425909736,425909770,-34]
[4723,364,4,false,29,425999952,426001420,-1468]
[4724,364,5,false,30,426090168,426090015,153]
[4725,364,6,false,29,426180384,426181665,-1281]
[4726,364,7,false,30,426270600,426270260,340]
[4727,364,8,false,29,426360816,426361910,-1094]
[4728,364,9,false,30,426451032,426450505,527]
[4729,364,10,false,29,426541248,426542155,-907]
[4730,364,11,false,30,426631464,426630750,714]
[4731,364,12,false,29,426721680,426722400,-720]
[4732,364,13,false,30,426811896,426810995,901]
[4733,365,1,false,30,426902112,426902645,-533]
[4734,365,2,false,29,426992328,426994295,-1967]
[4735,365,3,false,30,427082544,427082890,-346]
[4736,365,4,false,29,427172760,427174540,-1780]
[4737,365,5,false,30,427262976,427263135,{"$f":"F4757-G4757","v":-159}]
[4738,{"$f":"IF(C4758=1,B4757+1,B4757)","v":365},6,{"$f":"AND(OR(MOD(B4758,235)=0,MOD(B4758,10)=0),C4758=13)","v":false},{"$f":"IF(MOD(C4758,2)=1,30,29)-IF(D4758,1,0)","v":29},427353192,{"$f":"G4757+E4757*PPD","v":427354785},-1593]
[4739,365,7,false,30,{"$f":"F4758+PPM","v":427443408},427443380,28]
[4740,365,8,false,29,427533624,427535030,-1406]
[4741,365,9,false,30,427623840,427623625,215]
[4742,365,10,false,29,427714056,427715275,-1219]
[4743,365,11,false,30,427804272,427803870,402]
[4744,365,12,false,29,427894488,427895520,-1032]
[4745,365,13,false,30,427984704,427984115,589]
[4746,366,1,false,30,428074920,428075765,-845]
[4747,366,2,false,29,428165136,428167415,-2279]
[4748,366,3,false,30,428255352,428256010,-658]
[4749,366,4,false,29,428345568,428347660,-2092]
[4750,366,5,false,30,428435784,428436255,-471]
[4751,366,6,false,29,428526000,428527905,-1905]
[4752,366,7,false,30,428616216,428616500,-284]
[4753,366,8,false,29,428706432,428708150,-1718]
[4754,366,9,false,30,428796648,428796745,-97]
[4755,366,10,false,29,428886864,428888395,-1531]
[{"$f":"A4775+1","v":4756},366,{"$f":"IF(C4775=13,1,C4775+1)","v":11},false,30,428977080,428976990,90]
[4757,366,12,false,29,429067296,429068640,-1344]
[4758,366,13,false,30,429157512,429157235,277]
[4759,367,1,false,30,429247728,429248885,-1157]
[4760,367,2,false,29,429337944,429340535,-2591]
[4761,367,3,false,30,429428160,429429130,-970]
[4762,367,4,false,29,429518376,429520780,-2404]
[4763,367,5,false,30,429608592,429609375,-783]
[4764,367,6,false,29,429698808,429701025,-2217]
[4765,367,7,false,30,429789024,429789620,-596]
[4766,367,8,false,29,429879240,429881270,-2030]
[4767,367,9,false,30,429969456,429969865,-409]
[4768,367,10,false,29,430059672,430061515,-1843]
[4769,367,11,false,30,430149888,430150110,-222]
[4770,367,12,false,29,430240104,430241760,-1656]
[4771,367,13,false,30,430330320,430330355,-35]
[4772,368,1,false,30,430420536,430422005,-1469]
[4773,368,2,false,29,430510752,430513655,-2903]
[4774,368,3,false,30,430600968,430602250,-1282]
[4775,368,4,false,29,430691184,430693900,-2716]
[4776,368,5,false,30,430781400,430782495,-1095]
[4777,368,6,false,29,430871616,430874145,-2529]
[4778,368,7,false,30,430961832,430962740,-908]
[4779,368,8,false,29,431052048,431054390,-2342]
[4780,368,9,false,30,431142264,431142985,-721]
[4781,368,10,false,29,431232480,431234635,-2155]
[4782,368,11,false,30,431322696,431323230,-534]
[4783,368,12,false,29,431412912,431414880,-1968]
[4784,368,13,false,30,431503128,431503475,-347]
[4785,369,1,false,30,431593344,431595125,-1781]
[4786,369,2,false,29,431683560,431686775,-3215]
[4787,369,3,false,30,431773776,431775370,-1594]
[4788,369,4,false,29,431863992,431867020,-3028]
[4789,369,5,false,30,431954208,431955615,-1407]
[4790,369,6,false,29,432044424,432047265,-2841]
[4791,369,7,false,30,432134640,432135860,-1220]
[4792,369,8,false,29,432224856,432227510,-2654]
[4793,369,9,false,30,432315072,432316105,-1033]
[4794,369,10,false,29,432405288,432407755,-2467]
[4795,369,11,false,30,432495504,432496350,-846]
[4796,369,12,false,29,432585720,432588000,-2280]
[4797,369,13,false,30,432675936,432676595,-659]
[4798,370,1,false,30,432766152,432768245,-2093]
[4799,370,2,false,29,432856368,432859895,-3527]
[4800,370,3,false,30,432946584,432948490,-1906]
[4801,370,4,false,29,433036800,433040140,{"$f":"F4821-G4821","v":-3340}]
[4802,{"$f":"IF(C4822=1,B4821+1,B4821)","v":370},5,{"$f":"AND(OR(MOD(B4822,235)=0,MOD(B4822,10)=0),C4822=13)","v":false},{"$f":"IF(MOD(C4822,2)=1,30,29)-IF(D4822,1,0)","v":30},433127016,{"$f":"G4821+E4821*PPD","v":433128735},-1719]
[4803,370,6,false,29,{"$f":"F4822+PPM","v":433217232},433220385,-3153]
[4804,370,7,false,30,433307448,433308980,-1532]
[4805,370,8,false,29,433397664,433400630,-2966]
[4806,370,9,false,30,433487880,433489225,-1345]
[4807,370,10,false,29,433578096,433580875,-2779]
[4808,370,11,false,30,433668312,433669470,-1158]
[4809,370,12,false,29,433758528,433761120,-2592]
[4810,370,13,true,29,433848744,433849715,-971]
[4811,371,1,false,30,433938960,433938310,650]
[4812,371,2,false,29,434029176,434029960,-784]
[4813,371,3,false,30,434119392,434118555,837]
[4814,371,4,false,29,434209608,434210205,-597]
[4815,371,5,false,30,434299824,434298800,1024]
[4816,371,6,false,29,434390040,434390450,-410]
[4817,371,7,false,30,434480256,434479045,1211]
[4818,371,8,false,29,434570472,434570695,-223]
[4819,371,9,false,30,434660688,434659290,1398]
[{"$f":"A4839+1","v":4820},371,{"$f":"IF(C4839=13,1,C4839+1)","v":10},false,29,434750904,434750940,-36]
[4821,371,11,false,30,434841120,434839535,1585]
[4822,371,12,false,29,434931336,434931185,151]
[4823,371,13,false,30,435021552,435019780,1772]
[4824,372,1,false,30,435111768,435111430,338]
[4825,372,2,false,29,435201984,435203080,-1096]
[4826,372,3,false,30,435292200,435291675,525]
[4827,372,4,false,29,435382416,435383325,-909]
[4828,372,5,false,30,435472632,435471920,712]
[4829,372,6,false,29,435562848,435563570,-722]
[4830,372,7,false,30,435653064,435652165,899]
[4831,372,8,false,29,435743280,435743815,-535]
[4832,372,9,false,30,435833496,435832410,1086]
[4833,372,10,false,29,435923712,435924060,-348]
[4834,372,11,false,30,436013928,436012655,1273]
[4835,372,12,false,29,436104144,436104305,-161]
[4836,372,13,false,30,436194360,436192900,1460]
[4837,373,1,false,30,436284576,436284550,26]
[4838,373,2,false,29,436374792,436376200,-1408]
[4839,373,3,false,30,436465008,436464795,213]
[4840,373,4,false,29,436555224,436556445,-1221]
[4841,373,5,false,30,436645440,436645040,400]
[4842,373,6,false,29,436735656,436736690,-1034]
[4843,373,7,false,30,436825872,436825285,587]
[4844,373,8,false,29,436916088,436916935,-847]
[4845,373,9,false,30,437006304,437005530,774]
[4846,373,10,false,29,437096520,437097180,-660]
[4847,373,11,false,30,437186736,437185775,961]
[4848,373,12,false,29,437276952,437277425,-473]
[4849,373,13,false,30,437367168,437366020,1148]
[4850,374,1,false,30,437457384,437457670,-286]
[4851,374,2,false,29,437547600,437549320,-1720]
[4852,374,3,false,30,437637816,437637915,-99]
[4853,374,4,false,29,437728032,437729565,-1533]
[4854,374,5,false,30,437818248,437818160,88]
[4855,374,6,false,29,437908464,437909810,-1346]
[4856,374,7,false,30,437998680,437998405,275]
[4857,374,8,false,29,438088896,438090055,-1159]
[4858,374,9,false,30,438179112,438178650,462]
[4859,374,10,false,29,438269328,438270300,-972]
[4860,374,11,false,30,438359544,438358895,649]
[4861,374,12,false,29,438449760,438450545,-785]
[4862,374,13,false,30,438539976,438539140,836]
[4863,375,1,false,30,438630192,438630790,-598]
[4864,375,2,false,29,438720408,438722440,-2032]
[4865,375,3,false,30,438810624,438811035,{"$f":"F4885-G4885","v":-411}]
[4866,{"$f":"IF(C4886=1,B4885+1,B4885)","v":375},4,{"$f":"AND(OR(MOD(B4886,235)=0,MOD(B4886,10)=0),C4886=13)","v":false},{"$f":"IF(MOD(C4886,2)=1,30,29)-IF(D4886,1,0)","v":29},438900840,{"$f":"G4885+E4885*PPD","v":438902685},-1845]
[4867,375,5,false,30,{"$f":"F4886+PPM","v":438991056},438991280,-224]
[4868,375,6,false,29,439081272,439082930,-1658]
[4869,375,7,false,30,439171488,439171525,-37]
[4870,375,8,false,29,439261704,439263175,-1471]
[4871,375,9,false,30,439351920,439351770,150]
[4872,375,10,false,29,439442136,439443420,-1284]
[4873,375,11,false,30,439532352,439532015,337]
[4874,375,12,false,29,439622568,439623665,-1097]
[4875,375,13,false,30,439712784,439712260,524]
[4876,376,1,false,30,439803000,439803910,-910]
[4877,376,2,false,29,439893216,439895560,-2344]
[4878,376,3,false,30,439983432,439984155,-723]
[4879,376,4,false,29,440073648,440075805,-2157]
[4880,376,5,false,30,440163864,440164400,-536]
[4881,376,6,false,29,440254080,440256050,-1970]
[4882,376,7,false,30,440344296,440344645,-349]
[4883,376,8,false,29,440434512,440436295,-1783]
[{"$f":"A4903+1","v":4884},376,{"$f":"IF(C4903=13,1,C4903+1)","v":9},false,30,440524728,440524890,-162]
[4885,376,10,false,29,440614944,440616540,-1596]
[4886,376,11,false,30,440705160,440705135,25]
[4887,376,12,false,29,440795376,440796785,-1409]
[4888,376,13,false,30,440885592,440885380,212]
[4889,377,1,false,30,440975808,440977030,-1222]
[4890,377,2,false,29,441066024,441068680,-2656]
[4891,377,3,false,30,441156240,441157275,-1035]
[4892,377,4,false,29,441246456,441248925,-2469]
[4893,377,5,false,30,441336672,441337520,-848]
[4894,377,6,false,29,441426888,441429170,-2282]
[4895,377,7,false,30,441517104,441517765,-661]
[4896,377,8,false,29,441607320,441609415,-2095]
[4897,377,9,false,30,441697536,441698010,-474]
[4898,377,10,false,29,441787752,441789660,-1908]
[4899,377,11,false,30,441877968,441878255,-287]
[4900,377,12,false,29,441968184,441969905,-1721]
[4901,377,13,false,30,442058400,442058500,-100]
[4902,378,1,false,30,442148616,442150150,-1534]
[4903,378,2,false,29,442238832,442241800,-2968]
[4904,378,3,false,30,442329048,442330395,-1347]
[4905,378,4,false,29,442419264,442422045,-2781]
[4906,378,5,false,30,442509480,442510640,-1160]
[4907,378,6,false,29,442599696,442602290,-2594]
[4908,378,7,false,30,442689912,442690885,-973]
[4909,378,8,false,29,442780128,442782535,-2407]
[4910,378,9,false,30,442870344,442871130,-786]
[4911,378,10,false,29,442960560,442962780,-2220]
[4912,378,11,false,30,443050776,443051375,-599]
[4913,378,12,false,29,443140992,443143025,-2033]
[4914,378,13,false,30,443231208,443231620,-412]
[4915,379,1,false,30,443321424,443323270,-1846]
[4916,379,2,false,29,443411640,443414920,-3280]
[4917,379,3,false,30,443501856,443503515,-1659]
[4918,379,4,false,29,443592072,443595165,-3093]
[4919,379,5,false,30,443682288,443683760,-1472]
[4920,379,6,false,29,443772504,443775410,-2906]
[4921,379,7,false,30,443862720,443864005,-1285]
[4922,379,8,false,29,443952936,443955655,-2719]
[4923,379,9,false,30,444043152,444044250,-1098]
[4924,379,10,false,29,444133368,444135900,-2532]
[4925,379,11,false,30,444223584,444224495,-911]
[4926,379,12,false,29,444313800,444316145,-2345]
[4927,379,13,false,30,444404016,444404740,-724]
[4928,380,1,false,30,444494232,444496390,-2158]
[4929,380,2,false,29,444584448,444588040,{"$f":"F4949-G4949","v":-3592}]
[4930,{"$f":"IF(C4950=1,B4949+1,B4949)","v":380},3,{"$f":"AND(OR(MOD(B4950,235)=0,MOD(B4950,10)=0),C4950=13)","v":false},{"$f":"IF(MOD(C4950,2)=1,30,29)-IF(D4950,1,0)","v":30},444674664,{"$f":"G4949+E4949*PPD","v":444676635},-1971]
[4931,380,4,false,29,{"$f":"F4950+PPM","v":444764880},444768285,-3405]
[4932,380,5,false,30,444855096,444856880,-1784]
[4933,380,6,false,29,444945312,444948530,-3218]
[4934,380,7,false,30,445035528,445037125,-1597]
[4935,380,8,false,29,445125744,445128775,-3031]
[4936,380,9,false,30,445215960,445217370,-1410]
[4937,380,10,false,29,445306176,445309020,-2844]
[4938,380,11,false,30,445396392,445397615,-1223]
[4939,380,12,false,29,445486608,445489265,-2657]
[4940,380,13,true,29,445576824,445577860,-1036]
[4941,381,1,false,30,445667040,445666455,585]
[4942,381,2,false,29,445757256,445758105,-849]
[4943,381,3,false,30,445847472,445846700,772]
[4944,381,4,false,29,445937688,445938350,-662]
[4945,381,5,false,30,446027904,446026945,959]
[4946,381,6,false,29,446118120,446118595,-475]
[4947,381,7,false,30,446208336,446207190,1146]
[{"$f":"A4967+1","v":4948},381,{"$f":"IF(C4967=13,1,C4967+1)","v":8},false,29,446298552,446298840,-288]
[4949,381,9,false,30,446388768,446387435,1333]
[4950,381,10,false,29,446478984,446479085,-101]
[4951,381,11,false,30,446569200,446567680,1520]
[4952,381,12,false,29,446659416,446659330,86]
[4953,381,13,false,30,446749632,446747925,1707]
[4954,382,1,false,30,446839848,446839575,273]
[4955,382,2,false,29,446930064,446931225,-1161]
[4956,382,3,false,30,447020280,447019820,460]
[4957,382,4,false,29,447110496,447111470,-974]
[4958,382,5,false,30,447200712,447200065,647]
[4959,382,6,false,29,447290928,447291715,-787]
[4960,382,7,false,30,447381144,447380310,834]
[4961,382,8,false,29,447471360,447471960,-600]
[4962,382,9,false,30,447561576,447560555,1021]
[4963,382,10,false,29,447651792,447652205,-413]
[4964,382,11,false,30,447742008,447740800,1208]
[4965,382,12,false,29,447832224,447832450,-226]
[4966,382,13,false,30,447922440,447921045,1395]
[4967,383,1,false,30,448012656,448012695,-39]
[4968,383,2,false,29,448102872,448104345,-1473]
[4969,383,3,false,30,448193088,448192940,148]
[4970,383,4,false,29,448283304,448284590,-1286]
[4971,383,5,false,30,448373520,448373185,335]
[4972,383,6,false,29,448463736,448464835,-1099]
[4973,383,7,false,30,448553952,448553430,522]
[4974,383,8,false,29,448644168,448645080,-912]
[4975,383,9,false,30,448734384,448733675,709]
[4976,383,10,false,29,448824600,448825325,-725]
[4977,383,11,false,30,448914816,448913920,896]
[4978,383,12,false,29,449005032,449005570,-538]
[4979,383,13,false,30,449095248,449094165,1083]
[4980,384,1,false,30,449185464,449185815,-351]
[4981,384,2,false,29,449275680,449277465,-1785]
[4982,384,3,false,30,449365896,449366060,-164]
[4983,384,4,false,29,449456112,449457710,-1598]
[4984,384,5,false,30,449546328,449546305,23]
[4985,384,6,false,29,449636544,449637955,-1411]
[4986,384,7,false,30,449726760,449726550,210]
[4987,384,8,false,29,449816976,449818200,-1224]
[4988,384,9,false,30,449907192,449906795,397]
[4989,384,10,false,29,449997408,449998445,-1037]
[4990,384,11,false,30,450087624,450087040,584]
[4991,384,12,false,29,450177840,450178690,-850]
[4992,384,13,false,30,450268056,450267285,771]
[4993,385,1,false,30,450358272,450358935,{"$f":"F5013-G5013","v":-663}]
[4994,{"$f":"IF(C5014=1,B5013+1,B5013)","v":385},2,{"$f":"AND(OR(MOD(B5014,235)=0,MOD(B5014,10)=0),C5014=13)","v":false},{"$f":"IF(MOD(C5014,2)=1,30,29)-IF(D5014,1,0)","v":29},450448488,{"$f":"G5013+E5013*PPD","v":450450585},-2097]
[4995,385,3,false,30,{"$f":"F5014+PPM","v":450538704},450539180,-476]
[4996,385,4,false,29,450628920,450630830,-1910]
[4997,385,5,false,30,450719136,450719425,-289]
[4998,385,6,false,29,450809352,450811075,-1723]
[4999,385,7,false,30,450899568,450899670,-102]
[5000,385,8,false,29,450989784,450991320,-1536]
[5001,385,9,false,30,451080000,451079915,85]
[5002,385,10,false,29,451170216,451171565,-1349]
[5003,385,11,false,30,451260432,451260160,272]
[5004,385,12,false,29,451350648,451351810,-1162]
[5005,385,13,false,30,451440864,451440405,459]
[5006,386,1,false,30,451531080,451532055,-975]
[5007,386,2,false,29,451621296,451623705,-2409]
[5008,386,3,false,30,451711512,451712300,-788]
[5009,386,4,false,29,451801728,451803950,-2222]
[5010,386,5,false,30,451891944,451892545,-601]
[5011,386,6,false,29,451982160,451984195,-2035]
[{"$f":"A5031+1","v":5012},386,{"$f":"IF(C5031=13,1,C5031+1)","v":7},false,30,452072376,452072790,-414]
[5013,386,8,false,29,452162592,452164440,-1848]
[5014,386,9,false,30,452252808,452253035,-227]
[5015,386,10,false,29,452343024,452344685,-1661]
[5016,386,11,false,30,452433240,452433280,-40]
[5017,386,12,false,29,452523456,452524930,-1474]
[5018,386,13,false,30,452613672,452613525,147]
[5019,387,1,false,30,452703888,452705175,-1287]
[5020,387,2,false,29,452794104,452796825,-2721]
[5021,387,3,false,30,452884320,452885420,-1100]
[5022,387,4,false,29,452974536,452977070,-2534]
[5023,387,5,false,30,453064752,453065665,-913]
[5024,387,6,false,29,453154968,453157315,-2347]
[5025,387,7,false,30,453245184,453245910,-726]
[5026,387,8,false,29,453335400,453337560,-2160]
[5027,387,9,false,30,453425616,453426155,-539]
[5028,387,10,false,29,453515832,453517805,-1973]
[5029,387,11,false,30,453606048,453606400,-352]
[5030,387,12,false,29,453696264,453698050,-1786]
[5031,387,13,false,30,453786480,453786645,-165]
[5032,388,1,false,30,453876696,453878295,-1599]
[5033,388,2,false,29,453966912,453969945,-3033]
[5034,388,3,false,30,454057128,454058540,-1412]
[5035,388,4,false,29,454147344,454150190,-2846]
[5036,388,5,false,30,454237560,454238785,-1225]
[5037,388,6,false,29,454327776,454330435,-2659]
[5038,388,7,false,30,454417992,454419030,-1038]
[5039,388,8,false,29,454508208,454510680,-2472]
[5040,388,9,false,30,454598424,454599275,-851]
[5041,388,10,false,29,454688640,454690925,-2285]
[5042,388,11,false,30,454778856,454779520,-664]
[5043,388,12,false,29,454869072,454871170,-2098]
[5044,388,13,false,30,454959288,454959765,-477]
[5045,389,1,false,30,455049504,455051415,-1911]
[5046,389,2,false,29,455139720,455143065,-3345]
[5047,389,3,false,30,455229936,455231660,-1724]
[5048,389,4,false,29,455320152,455323310,-3158]
[5049,389,5,false,30,455410368,455411905,-1537]
[5050,389,6,false,29,455500584,455503555,-2971]
[5051,389,7,false,30,455590800,455592150,-1350]
[5052,389,8,false,29,455681016,455683800,-2784]
[5053,389,9,false,30,455771232,455772395,-1163]
[5054,389,10,false,29,455861448,455864045,-2597]
[5055,389,11,false,30,455951664,455952640,-976]
[5056,389,12,false,29,456041880,456044290,-2410]
[5057,389,13,false,30,456132096,456132885,{"$f":"F5077-G5077","v":-789}]
[5058,{"$f":"IF(C5078=1,B5077+1,B5077)","v":390},1,{"$f":"AND(OR(MOD(B5078,235)=0,MOD(B5078,10)=0),C5078=13)","v":false},{"$f":"IF(MOD(C5078,2)=1,30,29)-IF(D5078,1,0)","v":30},456222312,{"$f":"G5077+E5077*PPD","v":456224535},-2223]
[5059,390,2,false,29,{"$f":"F5078+PPM","v":456312528},456316185,-3657]
[5060,390,3,false,30,456402744,456404780,-2036]
[5061,390,4,false,29,456492960,456496430,-3470]
[5062,390,5,false,30,456583176,456585025,-1849]
[5063,390,6,false,29,456673392,456676675,-3283]
[5064,390,7,false,30,456763608,456765270,-1662]
[5065,390,8,false,29,456853824,456856920,-3096]
[5066,390,9,false,30,456944040,456945515,-1475]
[5067,390,10,false,29,457034256,457037165,-2909]
[5068,390,11,false,30,457124472,457125760,-1288]
[5069,390,12,false,29,457214688,457217410,-2722]
[5070,390,13,true,29,457304904,457306005,-1101]
[5071,391,1,false,30,457395120,457394600,520]
[5072,391,2,false,29,457485336,457486250,-914]
[5073,391,3,false,30,457575552,457574845,707]
[5074,391,4,false,29,457665768,457666495,-727]
[5075,391,5,false,30,457755984,457755090,894]
[{"$f":"A5095+1","v":5076},391,{"$f":"IF(C5095=13,1,C5095+1)","v":6},false,29,457846200,457846740,-540]
[5077,391,7,false,30,457936416,457935335,1081]
[5078,391,8,false,29,458026632,458026985,-353]
[5079,391,9,false,30,458116848,458115580,1268]
[5080,391,10,false,29,458207064,458207230,-166]
[5081,391,11,false,30,458297280,458295825,1455]
[5082,391,12,false,29,458387496,458387475,21]
[5083,391,13,false,30,458477712,458476070,1642]
[5084,392,1,false,30,458567928,458567720,208]
[5085,392,2,false,29,458658144,458659370,-1226]
[5086,392,3,false,30,458748360,458747965,395]
[5087,392,4,false,29,458838576,458839615,-1039]
[5088,392,5,false,30,458928792,458928210,582]
[5089,392,6,false,29,459019008,459019860,-852]
[5090,392,7,false,30,459109224,459108455,769]
[5091,392,8,false,29,459199440,459200105,-665]
[5092,392,9,false,30,459289656,459288700,956]
[5093,392,10,false,29,459379872,459380350,-478]
[5094,392,11,false,30,459470088,459468945,1143]
[5095,392,12,false,29,459560304,459560595,-291]
[5096,392,13,false,30,459650520,459649190,1330]
[5097,393,1,false,30,459740736,459740840,-104]
[5098,393,2,false,29,459830952,459832490,-1538]
[5099,393,3,false,30,459921168,459921085,83]
[5100,393,4,false,29,460011384,460012735,-1351]
[5101,393,5,false,30,460101600,460101330,270]
[5102,393,6,false,29,460191816,460192980,-1164]
[5103,393,7,false,30,460282032,460281575,457]
[5104,393,8,false,29,460372248,460373225,-977]
[5105,393,9,false,30,460462464,460461820,644]
[5106,393,10,false,29,460552680,460553470,-790]
[5107,393,11,false,30,460642896,460642065,831]
[5108,393,12,false,29,460733112,460733715,-603]
[5109,393,13,false,30,460823328,460822310,1018]
[5110,394,1,false,30,460913544,460913960,-416]
[5111,394,2,false,29,461003760,461005610,-1850]
[5112,394,3,false,30,461093976,461094205,-229]
[5113,394,4,false,29,461184192,461185855,-1663]
[5114,394,5,false,30,461274408,461274450,-42]
[5115,394,6,false,29,461364624,461366100,-1476]
[5116,394,7,false,30,461454840,461454695,145]
[5117,394,8,false,29,461545056,461546345,-1289]
[5118,394,9,false,30,461635272,461634940,332]
[5119,394,10,false,29,461725488,461726590,-1102]
[5120,394,11,false,30,461815704,461815185,519]
[5121,394,12,false,29,461905920,461906835,{"$f":"F5141-G5141","v":-915}]
[5122,{"$f":"IF(C5142=1,B5141+1,B5141)","v":394},13,{"$f":"AND(OR(MOD(B5142,235)=0,MOD(B5142,10)=0),C5142=13)","v":false},{"$f":"IF(MOD(C5142,2)=1,30,29)-IF(D5142,1,0)","v":30},461996136,{"$f":"G5141+E5141*PPD","v":461995430},706]
[5123,395,1,false,30,{"$f":"F5142+PPM","v":462086352},462087080,-728]
[5124,395,2,false,29,462176568,462178730,-2162]
[5125,395,3,false,30,462266784,462267325,-541]
[5126,395,4,false,29,462357000,462358975,-1975]
[5127,395,5,false,30,462447216,462447570,-354]
[5128,395,6,false,29,462537432,462539220,-1788]
[5129,395,7,false,30,462627648,462627815,-167]
[5130,395,8,false,29,462717864,462719465,-1601]
[5131,395,9,false,30,462808080,462808060,20]
[5132,395,10,false,29,462898296,462899710,-1414]
[5133,395,11,false,30,462988512,462988305,207]
[5134,395,12,false,29,463078728,463079955,-1227]
[5135,395,13,false,30,463168944,463168550,394]
[5136,396,1,false,30,463259160,463260200,-1040]
[5137,396,2,false,29,463349376,463351850,-2474]
[5138,396,3,false,30,463439592,463440445,-853]
[5139,396,4,false,29,463529808,463532095,-2287]
[{"$f":"A5159+1","v":5140},396,{"$f":"IF(C5159=13,1,C5159+1)","v":5},false,30,463620024,463620690,-666]
[5141,396,6,false,29,463710240,463712340,-2100]
[5142,396,7,false,30,463800456,463800935,-479]
[5143,396,8,false,29,463890672,463892585,-1913]
[5144,396,9,false,30,463980888,463981180,-292]
[5145,396,10,false,29,464071104,464072830,-1726]
[5146,396,11,false,30,464161320,464161425,-105]
[5147,396,12,false,29,464251536,464253075,-1539]
[5148,396,13,false,30,464341752,464341670,82]
[5149,397,1,false,30,464431968,464433320,-1352]
[5150,397,2,false,29,464522184,464524970,-2786]
[5151,397,3,false,30,464612400,464613565,-1165]
[5152,397,4,false,29,464702616,464705215,-2599]
[5153,397,5,false,30,464792832,464793810,-978]
[5154,397,6,false,29,464883048,464885460,-2412]
[5155,397,7,false,30,464973264,464974055,-791]
[5156,397,8,false,29,465063480,465065705,-2225]
[5157,397,9,false,30,465153696,465154300,-604]
[5158,397,10,false,29,465243912,465245950,-2038]
[5159,397,11,false,30,465334128,465334545,-417]
[5160,397,12,false,29,465424344,465426195,-1851]
[5161,397,13,false,30,465514560,465514790,-230]
[5162,398,1,false,30,465604776,465606440,-1664]
[5163,398,2,false,29,465694992,465698090,-3098]
[5164,398,3,false,30,465785208,465786685,-1477]
[5165,398,4,false,29,465875424,465878335,-2911]
[5166,398,5,false,30,465965640,465966930,-1290]
[5167,398,6,false,29,466055856,466058580,-2724]
[5168,398,7,false,30,466146072,466147175,-1103]
[5169,398,8,false,29,466236288,466238825,-2537]
[5170,398,9,false,30,466326504,466327420,-916]
[5171,398,10,false,29,466416720,466419070,-2350]
[5172,398,11,false,30,466506936,466507665,-729]
[5173,398,12,false,29,466597152,466599315,-2163]
[5174,398,13,false,30,466687368,466687910,-542]
[5175,399,1,false,30,466777584,466779560,-1976]
[5176,399,2,false,29,466867800,466871210,-3410]
[5177,399,3,false,30,466958016,466959805,-1789]
[5178,399,4,false,29,467048232,467051455,-3223]
[5179,399,5,false,30,467138448,467140050,-1602]
[5180,399,6,false,29,467228664,467231700,-3036]
[5181,399,7,false,30,467318880,467320295,-1415]
[5182,399,8,false,29,467409096,467411945,-2849]
[5183,399,9,false,30,467499312,467500540,-1228]
[5184,399,10,false,29,467589528,467592190,-2662]
[5185,399,11,false,30,467679744,467680785,{"$f":"F5205-G5205","v":-1041}]
[5186,{"$f":"IF(C5206=1,B5205+1,B5205)","v":399},12,{"$f":"AND(OR(MOD(B5206,235)=0,MOD(B5206,10)=0),C5206=13)","v":false},{"$f":"IF(MOD(C5206,2)=1,30,29)-IF(D5206,1,0)","v":29},467769960,{"$f":"G5205+E5205*PPD","v":467772435},-2475]
[5187,399,13,false,30,{"$f":"F5206+PPM","v":467860176},467861030,-854]
[5188,400,1,false,30,467950392,467952680,-2288]
[5189,400,2,false,29,468040608,468044330,-3722]
[5190,400,3,false,30,468130824,468132925,-2101]
[5191,400,4,false,29,468221040,468224575,-3535]
[5192,400,5,false,30,468311256,468313170,-1914]
[5193,400,6,false,29,468401472,468404820,-3348]
[5194,400,7,false,30,468491688,468493415,-1727]
[5195,400,8,false,29,468581904,468585065,-3161]
[5196,400,9,false,30,468672120,468673660,-1540]
[5197,400,10,false,29,468762336,468765310,-2974]
[5198,400,11,false,30,468852552,468853905,-1353]
[5199,400,12,false,29,468942768,468945555,-2787]
[5200,400,13,true,29,469032984,469034150,-1166]
[5201,401,1,false,30,469123200,469122745,455]
[5202,401,2,false,29,469213416,469214395,-979]
[5203,401,3,false,30,469303632,469302990,642]
[{"$f":"A5223+1","v":5204},401,{"$f":"IF(C5223=13,1,C5223+1)","v":4},false,29,469393848,469394640,-792]
[5205,401,5,false,30,469484064,469483235,829]
[5206,401,6,false,29,469574280,469574885,-605]
[5207,401,7,false,30,469664496,469663480,1016]
[5208,401,8,false,29,469754712,469755130,-418]
[5209,401,9,false,30,469844928,469843725,1203]
[5210,401,10,false,29,469935144,469935375,-231]
[5211,401,11,false,30,470025360,470023970,1390]
[5212,401,12,false,29,470115576,470115620,-44]
[5213,401,13,false,30,470205792,470204215,1577]
[5214,402,1,false,30,470296008,470295865,143]
[5215,402,2,false,29,470386224,470387515,-1291]
[5216,402,3,false,30,470476440,470476110,330]
[5217,402,4,false,29,470566656,470567760,-1104]
[5218,402,5,false,30,470656872,470656355,517]
[5219,402,6,false,29,470747088,470748005,-917]
[5220,402,7,false,30,470837304,470836600,704]
[5221,402,8,false,29,470927520,470928250,-730]
[5222,402,9,false,30,471017736,471016845,891]
[5223,402,10,false,29,471107952,471108495,-543]
[5224,402,11,false,30,471198168,471197090,1078]
[5225,402,12,false,29,471288384,471288740,-356]
[5226,402,13,false,30,471378600,471377335,1265]
[5227,403,1,false,30,471468816,471468985,-169]
[5228,403,2,false,29,471559032,471560635,-1603]
[5229,403,3,false,30,471649248,471649230,18]
[5230,403,4,false,29,471739464,471740880,-1416]
[5231,403,5,false,30,471829680,471829475,205]
[5232,403,6,false,29,471919896,471921125,-1229]
[5233,403,7,false,30,472010112,472009720,392]
[5234,403,8,false,29,472100328,472101370,-1042]
[5235,403,9,false,30,472190544,472189965,579]
[5236,403,10,false,29,472280760,472281615,-855]
[5237,403,11,false,30,472370976,472370210,766]
[5238,403,12,false,29,472461192,472461860,-668]
[5239,403,13,false,30,472551408,472550455,953]
[5240,404,1,false,30,472641624,472642105,-481]
[5241,404,2,false,29,472731840,472733755,-1915]
[5242,404,3,false,30,472822056,472822350,-294]
[5243,404,4,false,29,472912272,472914000,-1728]
[5244,404,5,false,30,473002488,473002595,-107]
[5245,404,6,false,29,473092704,473094245,-1541]
[5246,404,7,false,30,473182920,473182840,80]
[5247,404,8,false,29,473273136,473274490,-1354]
[5248,404,9,false,30,473363352,473363085,267]
[5249,404,10,false,29,473453568,473454735,{"$f":"F5269-G5269","v":-1167}]
[5250,{"$f":"IF(C5270=1,B5269+1,B5269)","v":404},11,{"$f":"AND(OR(MOD(B5270,235)=0,MOD(B5270,10)=0),C5270=13)","v":false},{"$f":"IF(MOD(C5270,2)=1,30,29)-IF(D5270,1,0)","v":30},473543784,{"$f":"G5269+E5269*PPD","v":473543330},454]
[5251,404,12,false,29,{"$f":"F5270+PPM","v":473634000},473634980,-980]
[5252,404,13,false,30,473724216,473723575,641]
[5253,405,1,false,30,473814432,473815225,-793]
[5254,405,2,false,29,473904648,473906875,-2227]
[5255,405,3,false,30,473994864,473995470,-606]
[5256,405,4,false,29,474085080,474087120,-2040]
[5257,405,5,false,30,474175296,474175715,-419]
[5258,405,6,false,29,474265512,474267365,-1853]
[5259,405,7,false,30,474355728,474355960,-232]
[5260,405,8,false,29,474445944,474447610,-1666]
[5261,405,9,false,30,474536160,474536205,-45]
[5262,405,10,false,29,474626376,474627855,-1479]
[5263,405,11,false,30,474716592,474716450,142]
[5264,405,12,false,29,474806808,474808100,-1292]
[5265,405,13,false,30,474897024,474896695,329]
[5266,406,1,false,30,474987240,474988345,-1105]
[5267,406,2,false,29,475077456,475079995,-2539]
[{"$f":"A5287+1","v":5268},406,{"$f":"IF(C5287=13,1,C5287+1)","v":3},false,30,475167672,475168590,-918]
[5269,406,4,false,29,475257888,475260240,-2352]
[5270,406,5,false,30,475348104,475348835,-731]
[5271,406,6,false,29,475438320,475440485,-2165]
[5272,406,7,false,30,475528536,475529080,-544]
[5273,406,8,false,29,475618752,475620730,-1978]
[5274,406,9,false,30,475708968,475709325,-357]
[5275,406,10,false,29,475799184,475800975,-1791]
[5276,406,11,false,30,475889400,475889570,-170]
[5277,406,12,false,29,475979616,475981220,-1604]
[5278,406,13,false,30,476069832,476069815,17]
[5279,407,1,false,30,476160048,476161465,-1417]
[5280,407,2,false,29,476250264,476253115,-2851]
[5281,407,3,false,30,476340480,476341710,-1230]
[5282,407,4,false,29,476430696,476433360,-2664]
[5283,407,5,false,30,476520912,476521955,-1043]
[5284,407,6,false,29,476611128,476613605,-2477]
[5285,407,7,false,30,476701344,476702200,-856]
[5286,407,8,false,29,476791560,476793850,-2290]
[5287,407,9,false,30,476881776,476882445,-669]
[5288,407,10,false,29,476971992,476974095,-2103]
[5289,407,11,false,30,477062208,477062690,-482]
[5290,407,12,false,29,477152424,477154340,-1916]
[5291,407,13,false,30,477242640,477242935,-295]
[5292,408,1,false,30,477332856,477334585,-1729]
[5293,408,2,false,29,477423072,477426235,-3163]
[5294,408,3,false,30,477513288,477514830,-1542]
[5295,408,4,false,29,477603504,477606480,-2976]
[5296,408,5,false,30,477693720,477695075,-1355]
[5297,408,6,false,29,477783936,477786725,-2789]
[5298,408,7,false,30,477874152,477875320,-1168]
[5299,408,8,false,29,477964368,477966970,-2602]
[5300,408,9,false,30,478054584,478055565,-981]
[5301,408,10,false,29,478144800,478147215,-2415]
[5302,408,11,false,30,478235016,478235810,-794]
[5303,408,12,false,29,478325232,478327460,-2228]
[5304,408,13,false,30,478415448,478416055,-607]
[5305,409,1,false,30,478505664,478507705,-2041]
[5306,409,2,false,29,478595880,478599355,-3475]
[5307,409,3,false,30,478686096,478687950,-1854]
[5308,409,4,false,29,478776312,478779600,-3288]
[5309,409,5,false,30,478866528,478868195,-1667]
[5310,409,6,false,29,478956744,478959845,-3101]
[5311,409,7,false,30,479046960,479048440,-1480]
[5312,409,8,false,29,479137176,479140090,-2914]
[5313,409,9,false,30,479227392,479228685,{"$f":"F5333-G5333","v":-1293}]
[5314,{"$f":"IF(C5334=1,B5333+1,B5333)","v":409},10,{"$f":"AND(OR(MOD(B5334,235)=0,MOD(B5334,10)=0),C5334=13)","v":false},{"$f":"IF(MOD(C5334,2)=1,30,29)-IF(D5334,1,0)","v":29},479317608,{"$f":"G5333+E5333*PPD","v":479320335},-2727]
[5315,409,11,false,30,{"$f":"F5334+PPM","v":479407824},479408930,-1106]
[5316,409,12,false,29,479498040,479500580,-2540]
[5317,409,13,false,30,479588256,479589175,-919]
[5318,410,1,false,30,479678472,479680825,-2353]
[5319,410,2,false,29,479768688,479772475,-3787]
[5320,410,3,false,30,479858904,479861070,-2166]
[5321,410,4,false,29,479949120,479952720,-3600]
[5322,410,5,false,30,480039336,480041315,-1979]
[5323,410,6,false,29,480129552,480132965,-3413]
[5324,410,7,false,30,480219768,480221560,-1792]
[5325,410,8,false,29,480309984,480313210,-3226]
[5326,410,9,false,30,480400200,480401805,-1605]
[5327,410,10,false,29,480490416,480493455,-3039]
[5328,410,11,false,30,480580632,480582050,-1418]
[5329,410,12,false,29,480670848,480673700,-2852]
[5330,410,13,true,29,480761064,480762295,-1231]
[5331,411,1,false,30,480851280,480850890,390]
[{"$f":"A5351+1","v":5332},411,{"$f":"IF(C5351=13,1,C5351+1)","v":2},false,29,480941496,480942540,-1044]
[5333,411,3,false,30,481031712,481031135,577]
[5334,411,4,false,29,481121928,481122785,-857]
[5335,411,5,false,30,481212144,481211380,764]
[5336,411,6,false,29,481302360,481303030,-670]
[5337,411,7,false,30,481392576,481391625,951]
[5338,411,8,false,29,481482792,481483275,-483]
[5339,411,9,false,30,481573008,481571870,1138]
[5340,411,10,false,29,481663224,481663520,-296]
[5341,411,11,false,30,481753440,481752115,1325]
[5342,411,12,false,29,481843656,481843765,-109]
[5343,411,13,false,30,481933872,481932360,1512]
[5344,412,1,false,30,482024088,482024010,78]
[5345,412,2,false,29,482114304,482115660,-1356]
[5346,412,3,false,30,482204520,482204255,265]
[5347,412,4,false,29,482294736,482295905,-1169]
[5348,412,5,false,30,482384952,482384500,452]
[5349,412,6,false,29,482475168,482476150,-982]
[5350,412,7,false,30,482565384,482564745,639]
[5351,412,8,false,29,482655600,482656395,-795]
[5352,412,9,false,30,482745816,482744990,826]
[5353,412,10,false,29,482836032,482836640,-608]
[5354,412,11,false,30,482926248,482925235,1013]
[5355,412,12,false,29,483016464,483016885,-421]
[5356,412,13,false,30,483106680,483105480,1200]
[5357,413,1,false,30,483196896,483197130,-234]
[5358,413,2,false,29,483287112,483288780,-1668]
[5359,413,3,false,30,483377328,483377375,-47]
[5360,413,4,false,29,483467544,483469025,-1481]
[5361,413,5,false,30,483557760,483557620,140]
[5362,413,6,false,29,483647976,483649270,-1294]
[5363,413,7,false,30,483738192,483737865,327]
[5364,413,8,false,29,483828408,483829515,-1107]
[5365,413,9,false,30,483918624,483918110,514]
[5366,413,10,false,29,484008840,484009760,-920]
[5367,413,11,false,30,484099056,484098355,701]
[5368,413,12,false,29,484189272,484190005,-733]
[5369,413,13,false,30,484279488,484278600,888]
[5370,414,1,false,30,484369704,484370250,-546]
[5371,414,2,false,29,484459920,484461900,-1980]
[5372,414,3,false,30,484550136,484550495,-359]
[5373,414,4,false,29,484640352,484642145,-1793]
[5374,414,5,false,30,484730568,484730740,-172]
[5375,414,6,false,29,484820784,484822390,-1606]
[5376,414,7,false,30,484911000,484910985,15]
[5377,414,8,false,29,485001216,485002635,{"$f":"F5397-G5397","v":-1419}]
[5378,{"$f":"IF(C5398=1,B5397+1,B5397)","v":414},9,{"$f":"AND(OR(MOD(B5398,235)=0,MOD(B5398,10)=0),C5398=13)","v":false},{"$f":"IF(MOD(C5398,2)=1,30,29)-IF(D5398,1,0)","v":30},485091432,{"$f":"G5397+E5397*PPD","v":485091230},202]
[5379,414,10,false,29,{"$f":"F5398+PPM","v":485181648},485182880,-1232]
[5380,414,11,false,30,485271864,485271475,389]
[5381,414,12,false,29,485362080,485363125,-1045]
[5382,414,13,false,30,485452296,485451720,576]
[5383,415,1,false,30,485542512,485543370,-858]
[5384,415,2,false,29,485632728,485635020,-2292]
[5385,415,3,false,30,485722944,485723615,-671]
[5386,415,4,false,29,485813160,485815265,-2105]
[5387,415,5,false,30,485903376,485903860,-484]
[5388,415,6,false,29,485993592,485995510,-1918]
[5389,415,7,false,30,486083808,486084105,-297]
[5390,415,8,false,29,486174024,486175755,-1731]
[5391,415,9,false,30,486264240,486264350,-110]
[5392,415,10,false,29,486354456,486356000,-1544]
[5393,415,11,false,30,486444672,486444595,77]
[5394,415,12,false,29,486534888,486536245,-1357]
[5395,415,13,false,30,486625104,486624840,264]
[{"$f":"A5415+1","v":5396},416,{"$f":"IF(C5415=13,1,C5415+1)","v":1},false,30,486715320,486716490,-1170]
[5397,416,2,false,29,486805536,486808140,-2604]
[5398,416,3,false,30,486895752,486896735,-983]
[5399,416,4,false,29,486985968,486988385,-2417]
[5400,416,5,false,30,487076184,487076980,-796]
[5401,416,6,false,29,487166400,487168630,-2230]
[5402,416,7,false,30,487256616,487257225,-609]
[5403,416,8,false,29,487346832,487348875,-2043]
[5404,416,9,false,30,487437048,487437470,-422]
[5405,416,10,false,29,487527264,487529120,-1856]
[5406,416,11,false,30,487617480,487617715,-235]
[5407,416,12,false,29,487707696,487709365,-1669]
[5408,416,13,false,30,487797912,487797960,-48]
[5409,417,1,false,30,487888128,487889610,-1482]
[5410,417,2,false,29,487978344,487981260,-2916]
[5411,417,3,false,30,488068560,488069855,-1295]
[5412,417,4,false,29,488158776,488161505,-2729]
[5413,417,5,false,30,488248992,488250100,-1108]
[5414,417,6,false,29,488339208,488341750,-2542]
[5415,417,7,false,30,488429424,488430345,-921]
[5416,417,8,false,29,488519640,488521995,-2355]
[5417,417,9,false,30,488609856,488610590,-734]
[5418,417,10,false,29,488700072,488702240,-2168]
[5419,417,11,false,30,488790288,488790835,-547]
[5420,417,12,false,29,488880504,488882485,-1981]
[5421,417,13,false,30,488970720,488971080,-360]
[5422,418,1,false,30,489060936,489062730,-1794]
[5423,418,2,false,29,489151152,489154380,-3228]
[5424,418,3,false,30,489241368,489242975,-1607]
[5425,418,4,false,29,489331584,489334625,-3041]
[5426,418,5,false,30,489421800,489423220,-1420]
[5427,418,6,false,29,489512016,489514870,-2854]
[5428,418,7,false,30,489602232,489603465,-1233]
[5429,418,8,false,29,489692448,489695115,-2667]
[5430,418,9,false,30,489782664,489783710,-1046]
[5431,418,10,false,29,489872880,489875360,-2480]
[5432,418,11,false,30,489963096,489963955,-859]
[5433,418,12,false,29,490053312,490055605,-2293]
[5434,418,13,false,30,490143528,490144200,-672]
[5435,419,1,false,30,490233744,490235850,-2106]
[5436,419,2,false,29,490323960,490327500,-3540]
[5437,419,3,false,30,490414176,490416095,-1919]
[5438,419,4,false,29,490504392,490507745,-3353]
[5439,419,5,false,30,490594608,490596340,-1732]
[5440,419,6,false,29,490684824,490687990,-3166]
[5441,419,7,false,30,490775040,490776585,{"$f":"F5461-G5461","v":-1545}]
[5442,{"$f":"IF(C5462=1,B5461+1,B5461)","v":419},8,{"$f":"AND(OR(MOD(B5462,235)=0,MOD(B5462,10)=0),C5462=13)","v":false},{"$f":"IF(MOD(C5462,2)=1,30,29)-IF(D5462,1,0)","v":29},490865256,{"$f":"G5461+E5461*PPD","v":490868235},-2979]
[5443,419,9,false,30,{"$f":"F5462+PPM","v":490955472},490956830,-1358]
[5444,419,10,false,29,491045688,491048480,-2792]
[5445,419,11,false,30,491135904,491137075,-1171]
[5446,419,12,false,29,491226120,491228725,-2605]
[5447,419,13,false,30,491316336,491317320,-984]
[5448,420,1,false,30,491406552,491408970,-2418]
[5449,420,2,false,29,491496768,491500620,-3852]
[5450,420,3,false,30,491586984,491589215,-2231]
[5451,420,4,false,29,491677200,491680865,-3665]
[5452,420,5,false,30,491767416,491769460,-2044]
[5453,420,6,false,29,491857632,491861110,-3478]
[5454,420,7,false,30,491947848,491949705,-1857]
[5455,420,8,false,29,492038064,492041355,-3291]
[5456,420,9,false,30,492128280,492129950,-1670]
[5457,420,10,false,29,492218496,492221600,-3104]
[5458,420,11,false,30,492308712,492310195,-1483]
[5459,420,12,false,29,492398928,492401845,-2917]
[{"$f":"A5479+1","v":5460},420,{"$f":"IF(C5479=13,1,C5479+1)","v":13},true,29,492489144,492490440,-1296]
[5461,421,1,false,30,492579360,492579035,325]
[5462,421,2,false,29,492669576,492670685,-1109]
[5463,421,3,false,30,492759792,492759280,512]
[5464,421,4,false,29,492850008,492850930,-922]
[5465,421,5,false,30,492940224,492939525,699]
[5466,421,6,false,29,493030440,493031175,-735]
[5467,421,7,false,30,493120656,493119770,886]
[5468,421,8,false,29,493210872,493211420,-548]
[5469,421,9,false,30,493301088,493300015,1073]
[5470,421,10,false,29,493391304,493391665,-361]
[5471,421,11,false,30,493481520,493480260,1260]
[5472,421,12,false,29,493571736,493571910,-174]
[5473,421,13,false,30,493661952,493660505,1447]
[5474,422,1,false,30,493752168,493752155,13]
[5475,422,2,false,29,493842384,493843805,-1421]
[5476,422,3,false,30,493932600,493932400,200]
[5477,422,4,false,29,494022816,494024050,-1234]
[5478,422,5,false,30,494113032,494112645,387]
[5479,422,6,false,29,494203248,494204295,-1047]
[5480,422,7,false,30,494293464,494292890,574]
[5481,422,8,false,29,494383680,494384540,-860]
[5482,422,9,false,30,494473896,494473135,761]
[5483,422,10,false,29,494564112,494564785,-673]
[5484,422,11,false,30,494654328,494653380,948]
[5485,422,12,false,29,494744544,494745030,-486]
[5486,422,13,false,30,494834760,494833625,1135]
[5487,423,1,false,30,494924976,494925275,-299]
[5488,423,2,false,29,495015192,495016925,-1733]
[5489,423,3,false,30,495105408,495105520,-112]
[5490,423,4,false,29,495195624,495197170,-1546]
[5491,423,5,false,30,495285840,495285765,75]
[5492,423,6,false,29,495376056,495377415,-1359]
[5493,423,7,false,30,495466272,495466010,262]
[5494,423,8,false,29,495556488,495557660,-1172]
[5495,423,9,false,30,495646704,495646255,449]
[5496,423,10,false,29,495736920,495737905,-985]
[5497,423,11,false,30,495827136,495826500,636]
[5498,423,12,false,29,495917352,495918150,-798]
[5499,423,13,false,30,496007568,496006745,823]
[5500,424,1,false,30,496097784,496098395,-611]
[5501,424,2,false,29,496188000,496190045,-2045]
[5502,424,3,false,30,496278216,496278640,-424]
[5503,424,4,false,29,496368432,496370290,-1858]
[5504,424,5,false,30,496458648,496458885,-237]
[5505,424,6,false,29,496548864,496550535,{"$f":"F5525-G5525","v":-1671}]
[5506,{"$f":"IF(C5526=1,B5525+1,B5525)","v":424},7,{"$f":"AND(OR(MOD(B5526,235)=0,MOD(B5526,10)=0),C5526=13)","v":false},{"$f":"IF(MOD(C5526,2)=1,30,29)-IF(D5526,1,0)","v":30},496639080,{"$f":"G5525+E5525*PPD","v":496639130},-50]
[5507,424,8,false,29,{"$f":"F5526+PPM","v":496729296},496730780,-1484]
[5508,424,9,false,30,496819512,496819375,137]
[5509,424,10,false,29,496909728,496911025,-1297]
[5510,424,11,false,30,496999944,496999620,324]
[5511,424,12,false,29,497090160,497091270,-1110]
[5512,424,13,false,30,497180376,497179865,511]
[5513,425,1,false,30,497270592,497271515,-923]
[5514,425,2,false,29,497360808,497363165,-2357]
[5515,425,3,false,30,497451024,497451760,-736]
[5516,425,4,false,29,497541240,497543410,-2170]
[5517,425,5,false,30,497631456,497632005,-549]
[5518,425,6,false,29,497721672,497723655,-1983]
[5519,425,7,false,30,497811888,497812250,-362]
[5520,425,8,false,29,497902104,497903900,-1796]
[5521,425,9,false,30,497992320,497992495,-175]
[5522,425,10,false,29,498082536,498084145,-1609]
[5523,425,11,false,30,498172752,498172740,12]
[{"$f":"A5543+1","v":5524},425,{"$f":"IF(C5543=13,1,C5543+1)","v":12},false,29,498262968,498264390,-1422]
[5525,425,13,false,30,498353184,498352985,199]
[5526,426,1,false,30,498443400,498444635,-1235]
[5527,426,2,false,29,498533616,498536285,-2669]
[5528,426,3,false,30,498623832,498624880,-1048]
[5529,426,4,false,29,498714048,498716530,-2482]
[5530,426,5,false,30,498804264,498805125,-861]
[5531,426,6,false,29,498894480,498896775,-2295]
[5532,426,7,false,30,498984696,498985370,-674]
[5533,426,8,false,29,499074912,499077020,-2108]
[5534,426,9,false,30,499165128,499165615,-487]
[5535,426,10,false,29,499255344,499257265,-1921]
[5536,426,11,false,30,499345560,499345860,-300]
[5537,426,12,false,29,499435776,499437510,-1734]
[5538,426,13,false,30,499525992,499526105,-113]
[5539,427,1,false,30,499616208,499617755,-1547]
[5540,427,2,false,29,499706424,499709405,-2981]
[5541,427,3,false,30,499796640,499798000,-1360]
[5542,427,4,false,29,499886856,499889650,-2794]
[5543,427,5,false,30,499977072,499978245,-1173]
[5544,427,6,false,29,500067288,500069895,-2607]
[5545,427,7,false,30,500157504,500158490,-986]
[5546,427,8,false,29,500247720,500250140,-2420]
[5547,427,9,false,30,500337936,500338735,-799]
[5548,427,10,false,29,500428152,500430385,-2233]
[5549,427,11,false,30,500518368,500518980,-612]
[5550,427,12,false,29,500608584,500610630,-2046]
[5551,427,13,false,30,500698800,500699225,-425]
[5552,428,1,false,30,500789016,500790875,-1859]
[5553,428,2,false,29,500879232,500882525,-3293]
[5554,428,3,false,30,500969448,500971120,-1672]
[5555,428,4,false,29,501059664,501062770,-3106]
[5556,428,5,false,30,501149880,501151365,-1485]
[5557,428,6,false,29,501240096,501243015,-2919]
[5558,428,7,false,30,501330312,501331610,-1298]
[5559,428,8,false,29,501420528,501423260,-2732]
[5560,428,9,false,30,501510744,501511855,-1111]
[5561,428,10,false,29,501600960,501603505,-2545]
[5562,428,11,false,30,501691176,501692100,-924]
[5563,428,12,false,29,501781392,501783750,-2358]
[5564,428,13,false,30,501871608,501872345,-737]
[5565,429,1,false,30,501961824,501963995,-2171]
[5566,429,2,false,29,502052040,502055645,-3605]
[5567,429,3,false,30,502142256,502144240,-1984]
[5568,429,4,false,29,502232472,502235890,-3418]
[5569,429,5,false,30,502322688,502324485,{"$f":"F5589-G5589","v":-1797}]
[5570,{"$f":"IF(C5590=1,B5589+1,B5589)","v":429},6,{"$f":"AND(OR(MOD(B5590,235)=0,MOD(B5590,10)=0),C5590=13)","v":false},{"$f":"IF(MOD(C5590,2)=1,30,29)-IF(D5590,1,0)","v":29},502412904,{"$f":"G5589+E5589*PPD","v":502416135},-3231]
[5571,429,7,false,30,{"$f":"F5590+PPM","v":502503120},502504730,-1610]
[5572,429,8,false,29,502593336,502596380,-3044]
[5573,429,9,false,30,502683552,502684975,-1423]
[5574,429,10,false,29,502773768,502776625,-2857]
[5575,429,11,false,30,502863984,502865220,-1236]
[5576,429,12,false,29,502954200,502956870,-2670]
[5577,429,13,false,30,503044416,503045465,-1049]
[5578,430,1,false,30,503134632,503137115,-2483]
[5579,430,2,false,29,503224848,503228765,-3917]
[5580,430,3,false,30,503315064,503317360,-2296]
[5581,430,4,false,29,503405280,503409010,-3730]
[5582,430,5,false,30,503495496,503497605,-2109]
[5583,430,6,false,29,503585712,503589255,-3543]
[5584,430,7,false,30,503675928,503677850,-1922]
[5585,430,8,false,29,503766144,503769500,-3356]
[5586,430,9,false,30,503856360,503858095,-1735]
[5587,430,10,false,29,503946576,503949745,-3169]
[{"$f":"A5607+1","v":5588},430,{"$f":"IF(C5607=13,1,C5607+1)","v":11},false,30,504036792,504038340,-1548]
[5589,430,12,false,29,504127008,504129990,-2982]
[5590,430,13,true,29,504217224,504218585,-1361]
[5591,431,1,false,30,504307440,504307180,260]
[5592,431,2,false,29,504397656,504398830,-1174]
[5593,431,3,false,30,504487872,504487425,447]
[5594,431,4,false,29,504578088,504579075,-987]
[5595,431,5,false,30,504668304,504667670,634]
[5596,431,6,false,29,504758520,504759320,-800]
[5597,431,7,false,30,504848736,504847915,821]
[5598,431,8,false,29,504938952,504939565,-613]
[5599,431,9,false,30,505029168,505028160,1008]
[5600,431,10,false,29,505119384,505119810,-426]
[5601,431,11,false,30,505209600,505208405,1195]
[5602,431,12,false,29,505299816,505300055,-239]
[5603,431,13,false,30,505390032,505388650,1382]
[5604,432,1,false,30,505480248,505480300,-52]
[5605,432,2,false,29,505570464,505571950,-1486]
[5606,432,3,false,30,505660680,505660545,135]
[5607,432,4,false,29,505750896,505752195,-1299]
[5608,432,5,false,30,505841112,505840790,322]
[5609,432,6,false,29,505931328,505932440,-1112]
[5610,432,7,false,30,506021544,506021035,509]
[5611,432,8,false,29,506111760,506112685,-925]
[5612,432,9,false,30,506201976,506201280,696]
[5613,432,10,false,29,506292192,506292930,-738]
[5614,432,11,false,30,506382408,506381525,883]
[5615,432,12,false,29,506472624,506473175,-551]
[5616,432,13,false,30,506562840,506561770,1070]
[5617,433,1,false,30,506653056,506653420,-364]
[5618,433,2,false,29,506743272,506745070,-1798]
[5619,433,3,false,30,506833488,506833665,-177]
[5620,433,4,false,29,506923704,506925315,-1611]
[5621,433,5,false,30,507013920,507013910,10]
[5622,433,6,false,29,507104136,507105560,-1424]
[5623,433,7,false,30,507194352,507194155,197]
[5624,433,8,false,29,507284568,507285805,-1237]
[5625,433,9,false,30,507374784,507374400,384]
[5626,433,10,false,29,507465000,507466050,-1050]
[5627,433,11,false,30,507555216,507554645,571]
[5628,433,12,false,29,507645432,507646295,-863]
[5629,433,13,false,30,507735648,507734890,758]
[5630,434,1,false,30,507825864,507826540,-676]
[5631,434,2,false,29,507916080,507918190,-2110]
[5632,434,3,false,30,508006296,508006785,-489]
[5633,434,4,false,29,508096512,508098435,{"$f":"F5653-G5653","v":-1923}]
[5634,{"$f":"IF(C5654=1,B5653+1,B5653)","v":434},5,{"$f":"AND(OR(MOD(B5654,235)=0,MOD(B5654,10)=0),C5654=13)","v":false},{"$f":"IF(MOD(C5654,2)=1,30,29)-IF(D5654,1,0)","v":30},508186728,{"$f":"G5653+E5653*PPD","v":508187030},-302]
[5635,434,6,false,29,{"$f":"F5654+PPM","v":508276944},508278680,-1736]
[5636,434,7,false,30,508367160,508367275,-115]
[5637,434,8,false,29,508457376,508458925,-1549]
[5638,434,9,false,30,508547592,508547520,72]
[5639,434,10,false,29,508637808,508639170,-1362]
[5640,434,11,false,30,508728024,508727765,259]
[5641,434,12,false,29,508818240,508819415,-1175]
[5642,434,13,false,30,508908456,508908010,446]
[5643,435,1,false,30,508998672,508999660,-988]
[5644,435,2,false,29,509088888,509091310,-2422]
[5645,435,3,false,30,509179104,509179905,-801]
[5646,435,4,false,29,509269320,509271555,-2235]
[5647,435,5,false,30,509359536,509360150,-614]
[5648,435,6,false,29,509449752,509451800,-2048]
[5649,435,7,false,30,509539968,509540395,-427]
[5650,435,8,false,29,509630184,509632045,-1861]
[5651,435,9,false,30,509720400,509720640,-240]
[{"$f":"A5671+1","v":5652},435,{"$f":"IF(C5671=13,1,C5671+1)","v":10},false,29,509810616,509812290,-1674]
[5653,435,11,false,30,509900832,509900885,-53]
[5654,435,12,false,29,509991048,509992535,-1487]
[5655,435,13,false,30,510081264,510081130,134]
[5656,436,1,false,30,510171480,510172780,-1300]
[5657,436,2,false,29,510261696,510264430,-2734]
[5658,436,3,false,30,510351912,510353025,-1113]
[5659,436,4,false,29,510442128,510444675,-2547]
[5660,436,5,false,30,510532344,510533270,-926]
[5661,436,6,false,29,510622560,510624920,-2360]
[5662,436,7,false,30,510712776,510713515,-739]
[5663,436,8,false,29,510802992,510805165,-2173]
[5664,436,9,false,30,510893208,510893760,-552]
[5665,436,10,false,29,510983424,510985410,-1986]
[5666,436,11,false,30,511073640,511074005,-365]
[5667,436,12,false,29,511163856,511165655,-1799]
[5668,436,13,false,30,511254072,511254250,-178]
[5669,437,1,false,30,511344288,511345900,-1612]
[5670,437,2,false,29,511434504,511437550,-3046]
[5671,437,3,false,30,511524720,511526145,-1425]
[5672,437,4,false,29,511614936,511617795,-2859]
[5673,437,5,false,30,511705152,511706390,-1238]
[5674,437,6,false,29,511795368,511798040,-2672]
[5675,437,7,false,30,511885584,511886635,-1051]
[5676,437,8,false,29,511975800,511978285,-2485]
[5677,437,9,false,30,512066016,512066880,-864]
[5678,437,10,false,29,512156232,512158530,-2298]
[5679,437,11,false,30,512246448,512247125,-677]
[5680,437,12,false,29,512336664,512338775,-2111]
[5681,437,13,false,30,512426880,512427370,-490]
[5682,438,1,false,30,512517096,512519020,-1924]
[5683,438,2,false,29,512607312,512610670,-3358]
[5684,438,3,false,30,512697528,512699265,-1737]
[5685,438,4,false,29,512787744,512790915,-3171]
[5686,438,5,false,30,512877960,512879510,-1550]
[5687,438,6,false,29,512968176,512971160,-2984]
[5688,438,7,false,30,513058392,513059755,-1363]
[5689,438,8,false,29,513148608,513151405,-2797]
[5690,438,9,false,30,513238824,513240000,-1176]
[5691,438,10,false,29,513329040,513331650,-2610]
[5692,438,11,false,30,513419256,513420245,-989]
[5693,438,12,false,29,513509472,513511895,-2423]
[5694,438,13,false,30,513599688,513600490,-802]
[5695,439,1,false,30,513689904,513692140,-2236]
[5696,439,2,false,29,513780120,513783790,-3670]
[5697,439,3,false,30,513870336,513872385,{"$f":"F5717-G5717","v":-2049}]
[5698,{"$f":"IF(C5718=1,B5717+1,B5717)","v":439},4,{"$f":"AND(OR(MOD(B5718,235)=0,MOD(B5718,10)=0),C5718=13)","v":false},{"$f":"IF(MOD(C5718,2)=1,30,29)-IF(D5718,1,0)","v":29},513960552,{"$f":"G5717+E5717*PPD","v":513964035},-3483]
[5699,439,5,false,30,{"$f":"F5718+PPM","v":514050768},514052630,-1862]
[5700,439,6,false,29,514140984,514144280,-3296]
[5701,439,7,false,30,514231200,514232875,-1675]
[5702,439,8,false,29,514321416,514324525,-3109]
[5703,439,9,false,30,514411632,514413120,-1488]
[5704,439,10,false,29,514501848,514504770,-2922]
[5705,439,11,false,30,514592064,514593365,-1301]
[5706,439,12,false,29,514682280,514685015,-2735]
[5707,439,13,false,30,514772496,514773610,-1114]
[5708,440,1,false,30,514862712,514865260,-2548]
[5709,440,2,false,29,514952928,514956910,-3982]
[5710,440,3,false,30,515043144,515045505,-2361]
[5711,440,4,false,29,515133360,515137155,-3795]
[5712,440,5,false,30,515223576,515225750,-2174]
[5713,440,6,false,29,515313792,515317400,-3608]
[5714,440,7,false,30,515404008,515405995,-1987]
[5715,440,8,false,29,515494224,515497645,-3421]
[{"$f":"A5735+1","v":5716},440,{"$f":"IF(C5735=13,1,C5735+1)","v":9},false,30,515584440,515586240,-1800]
[5717,440,10,false,29,515674656,515677890,-3234]
[5718,440,11,false,30,515764872,515766485,-1613]
[5719,440,12,false,29,515855088,515858135,-3047]
[5720,440,13,true,29,515945304,515946730,-1426]
[5721,441,1,false,30,516035520,516035325,195]
[5722,441,2,false,29,516125736,516126975,-1239]
[5723,441,3,false,30,516215952,516215570,382]
[5724,441,4,false,29,516306168,516307220,-1052]
[5725,441,5,false,30,516396384,516395815,569]
[5726,441,6,false,29,516486600,516487465,-865]
[5727,441,7,false,30,516576816,516576060,756]
[5728,441,8,false,29,516667032,516667710,-678]
[5729,441,9,false,30,516757248,516756305,943]
[5730,441,10,false,29,516847464,516847955,-491]
[5731,441,11,false,30,516937680,516936550,1130]
[5732,441,12,false,29,517027896,517028200,-304]
[5733,441,13,false,30,517118112,517116795,1317]
[5734,442,1,false,30,517208328,517208445,-117]
[5735,442,2,false,29,517298544,517300095,-1551]
[5736,442,3,false,30,517388760,517388690,70]
[5737,442,4,false,29,517478976,517480340,-1364]
[5738,442,5,false,30,517569192,517568935,257]
[5739,442,6,false,29,517659408,517660585,-1177]
[5740,442,7,false,30,517749624,517749180,444]
[5741,442,8,false,29,517839840,517840830,-990]
[5742,442,9,false,30,517930056,517929425,631]
[5743,442,10,false,29,518020272,518021075,-803]
[5744,442,11,false,30,518110488,518109670,818]
[5745,442,12,false,29,518200704,518201320,-616]
[5746,442,13,false,30,518290920,518289915,1005]
[5747,443,1,false,30,518381136,518381565,-429]
[5748,443,2,false,29,518471352,518473215,-1863]
[5749,443,3,false,30,518561568,518561810,-242]
[5750,443,4,false,29,518651784,518653460,-1676]
[5751,443,5,false,30,518742000,518742055,-55]
[5752,443,6,false,29,518832216,518833705,-1489]
[5753,443,7,false,30,518922432,518922300,132]
[5754,443,8,false,29,519012648,519013950,-1302]
[5755,443,9,false,30,519102864,519102545,319]
[5756,443,10,false,29,519193080,519194195,-1115]
[5757,443,11,false,30,519283296,519282790,506]
[5758,443,12,false,29,519373512,519374440,-928]
[5759,443,13,false,30,519463728,519463035,693]
[5760,444,1,false,30,519553944,519554685,-741]
[5761,444,2,false,29,519644160,519646335,{"$f":"F5781-G5781","v":-2175}]
[5762,{"$f":"IF(C5782=1,B5781+1,B5781)","v":444},3,{"$f":"AND(OR(MOD(B5782,235)=0,MOD(B5782,10)=0),C5782=13)","v":false},{"$f":"IF(MOD(C5782,2)=1,30,29)-IF(D5782,1,0)","v":30},519734376,{"$f":"G5781+E5781*PPD","v":519734930},-554]
[5763,444,4,false,29,{"$f":"F5782+PPM","v":519824592},519826580,-1988]
[5764,444,5,false,30,519914808,519915175,-367]
[5765,444,6,false,29,520005024,520006825,-1801]
[5766,444,7,false,30,520095240,520095420,-180]
[5767,444,8,false,29,520185456,520187070,-1614]
[5768,444,9,false,30,520275672,520275665,7]
[5769,444,10,false,29,520365888,520367315,-1427]
[5770,444,11,false,30,520456104,520455910,194]
[5771,444,12,false,29,520546320,520547560,-1240]
[5772,444,13,false,30,520636536,520636155,381]
[5773,445,1,false,30,520726752,520727805,-1053]
[5774,445,2,false,29,520816968,520819455,-2487]
[5775,445,3,false,30,520907184,520908050,-866]
[5776,445,4,false,29,520997400,520999700,-2300]
[5777,445,5,false,30,521087616,521088295,-679]
[5778,445,6,false,29,521177832,521179945,-2113]
[5779,445,7,false,30,521268048,521268540,-492]
[{"$f":"A5799+1","v":5780},445,{"$f":"IF(C5799=13,1,C5799+1)","v":8},false,29,521358264,521360190,-1926]
[5781,445,9,false,30,521448480,521448785,-305]
[5782,445,10,false,29,521538696,521540435,-1739]
[5783,445,11,false,30,521628912,521629030,-118]
[5784,445,12,false,29,521719128,521720680,-1552]
[5785,445,13,false,30,521809344,521809275,69]
[5786,446,1,false,30,521899560,521900925,-1365]
[5787,446,2,false,29,521989776,521992575,-2799]
[5788,446,3,false,30,522079992,522081170,-1178]
[5789,446,4,false,29,522170208,522172820,-2612]
[5790,446,5,false,30,522260424,522261415,-991]
[5791,446,6,false,29,522350640,522353065,-2425]
[5792,446,7,false,30,522440856,522441660,-804]
[5793,446,8,false,29,522531072,522533310,-2238]
[5794,446,9,false,30,522621288,522621905,-617]
[5795,446,10,false,29,522711504,522713555,-2051]
[5796,446,11,false,30,522801720,522802150,-430]
[5797,446,12,false,29,522891936,522893800,-1864]
[5798,446,13,false,30,522982152,522982395,-243]
[5799,447,1,false,30,523072368,523074045,-1677]
[5800,447,2,false,29,523162584,523165695,-3111]
[5801,447,3,false,30,523252800,523254290,-1490]
[5802,447,4,false,29,523343016,523345940,-2924]
[5803,447,5,false,30,523433232,523434535,-1303]
[5804,447,6,false,29,523523448,523526185,-2737]
[5805,447,7,false,30,523613664,523614780,-1116]
[5806,447,8,false,29,523703880,523706430,-2550]
[5807,447,9,false,30,523794096,523795025,-929]
[5808,447,10,false,29,523884312,523886675,-2363]
[5809,447,11,false,30,523974528,523975270,-742]
[5810,447,12,false,29,524064744,524066920,-2176]
[5811,447,13,false,30,524154960,524155515,-555]
[5812,448,1,false,30,524245176,524247165,-1989]
[5813,448,2,false,29,524335392,524338815,-3423]
[5814,448,3,false,30,524425608,524427410,-1802]
[5815,448,4,false,29,524515824,524519060,-3236]
[5816,448,5,false,30,524606040,524607655,-1615]
[5817,448,6,false,29,524696256,524699305,-3049]
[5818,448,7,false,30,524786472,524787900,-1428]
[5819,448,8,false,29,524876688,524879550,-2862]
[5820,448,9,false,30,524966904,524968145,-1241]
[5821,448,10,false,29,525057120,525059795,-2675]
[5822,448,11,false,30,525147336,525148390,-1054]
[5823,448,12,false,29,525237552,525240040,-2488]
[5824,448,13,false,30,525327768,525328635,-867]
[5825,449,1,false,30,525417984,525420285,{"$f":"F5845-G5845","v":-2301}]
[5826,{"$f":"IF(C5846=1,B5845+1,B5845)","v":449},2,{"$f":"AND(OR(MOD(B5846,235)=0,MOD(B5846,10)=0),C5846=13)","v":false},{"$f":"IF(MOD(C5846,2)=1,30,29)-IF(D5846,1,0)","v":29},525508200,{"$f":"G5845+E5845*PPD","v":525511935},-3735]
[5827,449,3,false,30,{"$f":"F5846+PPM","v":525598416},525600530,-2114]
[5828,449,4,false,29,525688632,525692180,-3548]
[5829,449,5,false,30,525778848,525780775,-1927]
[5830,449,6,false,29,525869064,525872425,-3361]
[5831,449,7,false,30,525959280,525961020,-1740]
[5832,449,8,false,29,526049496,526052670,-3174]
[5833,449,9,false,30,526139712,526141265,-1553]
[5834,449,10,false,29,526229928,526232915,-2987]
[5835,449,11,false,30,526320144,526321510,-1366]
[5836,449,12,false,29,526410360,526413160,-2800]
[5837,449,13,false,30,526500576,526501755,-1179]
[5838,450,1,false,30,526590792,526593405,-2613]
[5839,450,2,false,29,526681008,526685055,-4047]
[5840,450,3,false,30,526771224,526773650,-2426]
[5841,450,4,false,29,526861440,526865300,-3860]
[5842,450,5,false,30,526951656,526953895,-2239]
[5843,450,6,false,29,527041872,527045545,-3673]
[{"$f":"A5863+1","v":5844},450,{"$f":"IF(C5863=13,1,C5863+1)","v":7},false,30,527132088,527134140,-2052]
[5845,450,8,false,29,527222304,527225790,-3486]
[5846,450,9,false,30,527312520,527314385,-1865]
[5847,450,10,false,29,527402736,527406035,-3299]
[5848,450,11,false,30,527492952,527494630,-1678]
[5849,450,12,false,29,527583168,527586280,-3112]
[5850,450,13,true,29,527673384,527674875,-1491]
[5851,451,1,false,30,527763600,527763470,130]
[5852,451,2,false,29,527853816,527855120,-1304]
[5853,451,3,false,30,527944032,527943715,317]
[5854,451,4,false,29,528034248,528035365,-1117]
[5855,451,5,false,30,528124464,528123960,504]
[5856,451,6,false,29,528214680,528215610,-930]
[5857,451,7,false,30,528304896,528304205,691]
[5858,451,8,false,29,528395112,528395855,-743]
[5859,451,9,false,30,528485328,528484450,878]
[5860,451,10,false,29,528575544,528576100,-556]
[5861,451,11,false,30,528665760,528664695,1065]
[5862,451,12,false,29,528755976,528756345,-369]
[5863,451,13,false,30,528846192,528844940,1252]
[5864,452,1,false,30,528936408,528936590,-182]
[5865,452,2,false,29,529026624,529028240,-1616]
[5866,452,3,false,30,529116840,529116835,5]
[5867,452,4,false,29,529207056,529208485,-1429]
[5868,452,5,false,30,529297272,529297080,192]
[5869,452,6,false,29,529387488,529388730,-1242]
[5870,452,7,false,30,529477704,529477325,379]
[5871,452,8,false,29,529567920,529568975,-1055]
[5872,452,9,false,30,529658136,529657570,566]
[5873,452,10,false,29,529748352,529749220,-868]
[5874,452,11,false,30,529838568,529837815,753]
[5875,452,12,false,29,529928784,529929465,-681]
[5876,452,13,false,30,530019000,530018060,940]
[5877,453,1,false,30,530109216,530109710,-494]
[5878,453,2,false,29,530199432,530201360,-1928]
[5879,453,3,false,30,530289648,530289955,-307]
[5880,453,4,false,29,530379864,530381605,-1741]
[5881,453,5,false,30,530470080,530470200,-120]
[5882,453,6,false,29,530560296,530561850,-1554]
[5883,453,7,false,30,530650512,530650445,67]
[5884,453,8,false,29,530740728,530742095,-1367]
[5885,453,9,false,30,530830944,530830690,254]
[5886,453,10,false,29,530921160,530922340,-1180]
[5887,453,11,false,30,531011376,531010935,441]
[5888,453,12,false,29,531101592,531102585,-993]
[5889,453,13,false,30,531191808,531191180,{"$f":"F5909-G5909","v":628}]
[5890,{"$f":"IF(C5910=1,B5909+1,B5909)","v":454},1,{"$f":"AND(OR(MOD(B5910,235)=0,MOD(B5910,10)=0),C5910=13)","v":false},{"$f":"IF(MOD(C5910,2)=1,30,29)-IF(D5910,1,0)","v":30},531282024,{"$f":"G5909+E5909*PPD","v":531282830},-806]
[5891,454,2,false,29,{"$f":"F5910+PPM","v":531372240},531374480,-2240]
[5892,454,3,false,30,531462456,531463075,-619]
[5893,454,4,false,29,531552672,531554725,-2053]
[5894,454,5,false,30,531642888,531643320,-432]
[5895,454,6,false,29,531733104,531734970,-1866]
[5896,454,7,false,30,531823320,531823565,-245]
[5897,454,8,false,29,531913536,531915215,-1679]
[5898,454,9,false,30,532003752,532003810,-58]
[5899,454,10,false,29,532093968,532095460,-1492]
[5900,454,11,false,30,532184184,532184055,129]
[5901,454,12,false,29,532274400,532275705,-1305]
[5902,454,13,false,30,532364616,532364300,316]
[5903,455,1,false,30,532454832,532455950,-1118]
[5904,455,2,false,29,532545048,532547600,-2552]
[5905,455,3,false,30,532635264,532636195,-931]
[5906,455,4,false,29,532725480,532727845,-2365]
[5907,455,5,false,30,532815696,532816440,-744]
[{"$f":"A5927+1","v":5908},455,{"$f":"IF(C5927=13,1,C5927+1)","v":6},false,29,532905912,532908090,-2178]
[5909,455,7,false,30,532996128,532996685,-557]
[5910,455,8,false,29,533086344,533088335,-1991]
[5911,455,9,false,30,533176560,533176930,-370]
[5912,455,10,false,29,533266776,533268580,-1804]
[5913,455,11,false,30,533356992,533357175,-183]
[5914,455,12,false,29,533447208,533448825,-1617]
[5915,455,13,false,30,533537424,533537420,4]
[5916,456,1,false,30,533627640,533629070,-1430]
[5917,456,2,false,29,533717856,533720720,-2864]
[5918,456,3,false,30,533808072,533809315,-1243]
[5919,456,4,false,29,533898288,533900965,-2677]
[5920,456,5,false,30,533988504,533989560,-1056]
[5921,456,6,false,29,534078720,534081210,-2490]
[5922,456,7,false,30,534168936,534169805,-869]
[5923,456,8,false,29,534259152,534261455,-2303]
[5924,456,9,false,30,534349368,534350050,-682]
[5925,456,10,false,29,534439584,534441700,-2116]
[5926,456,11,false,30,534529800,534530295,-495]
[5927,456,12,false,29,534620016,534621945,-1929]
[5928,456,13,false,30,534710232,534710540,-308]
[5929,457,1,false,30,534800448,534802190,-1742]
[5930,457,2,false,29,534890664,534893840,-3176]
[5931,457,3,false,30,534980880,534982435,-1555]
[5932,457,4,false,29,535071096,535074085,-2989]
[5933,457,5,false,30,535161312,535162680,-1368]
[5934,457,6,false,29,535251528,535254330,-2802]
[5935,457,7,false,30,535341744,535342925,-1181]
[5936,457,8,false,29,535431960,535434575,-2615]
[5937,457,9,false,30,535522176,535523170,-994]
[5938,457,10,false,29,535612392,535614820,-2428]
[5939,457,11,false,30,535702608,535703415,-807]
[5940,457,12,false,29,535792824,535795065,-2241]
[5941,457,13,false,30,535883040,535883660,-620]
[5942,458,1,false,30,535973256,535975310,-2054]
[5943,458,2,false,29,536063472,536066960,-3488]
[5944,458,3,false,30,536153688,536155555,-1867]
[5945,458,4,false,29,536243904,536247205,-3301]
[5946,458,5,false,30,536334120,536335800,-1680]
[5947,458,6,false,29,536424336,536427450,-3114]
[5948,458,7,false,30,536514552,536516045,-1493]
[5949,458,8,false,29,536604768,536607695,-2927]
[5950,458,9,false,30,536694984,536696290,-1306]
[5951,458,10,false,29,536785200,536787940,-2740]
[5952,458,11,false,30,536875416,536876535,-1119]
[5953,458,12,false,29,536965632,536968185,{"$f":"F5973-G5973","v":-2553}]
[5954,{"$f":"IF(C5974=1,B5973+1,B5973)","v":458},13,{"$f":"AND(OR(MOD(B5974,235)=0,MOD(B5974,10)=0),C5974=13)","v":false},{"$f":"IF(MOD(C5974,2)=1,30,29)-IF(D5974,1,0)","v":30},537055848,{"$f":"G5973+E5973*PPD","v":537056780},-932]
[5955,459,1,false,30,{"$f":"F5974+PPM","v":537146064},537148430,-2366]
[5956,459,2,false,29,537236280,537240080,-3800]
[5957,459,3,false,30,537326496,537328675,-2179]
[5958,459,4,false,29,537416712,537420325,-3613]
[5959,459,5,false,30,537506928,537508920,-1992]
[5960,459,6,false,29,537597144,537600570,-3426]
[5961,459,7,false,30,537687360,537689165,-1805]
[5962,459,8,false,29,537777576,537780815,-3239]
[5963,459,9,false,30,537867792,537869410,-1618]
[5964,459,10,false,29,537958008,537961060,-3052]
[5965,459,11,false,30,538048224,538049655,-1431]
[5966,459,12,false,29,538138440,538141305,-2865]
[5967,459,13,false,30,538228656,538229900,-1244]
[5968,460,1,false,30,538318872,538321550,-2678]
[5969,460,2,false,29,538409088,538413200,-4112]
[5970,460,3,false,30,538499304,538501795,-2491]
[5971,460,4,false,29,538589520,538593445,-3925]
[{"$f":"A5991+1","v":5972},460,{"$f":"IF(C5991=13,1,C5991+1)","v":5},false,30,538679736,538682040,-2304]
[5973,460,6,false,29,538769952,538773690,-3738]
[5974,460,7,false,30,538860168,538862285,-2117]
[5975,460,8,false,29,538950384,538953935,-3551]
[5976,460,9,false,30,539040600,539042530,-1930]
[5977,460,10,false,29,539130816,539134180,-3364]
[5978,460,11,false,30,539221032,539222775,-1743]
[5979,460,12,false,29,539311248,539314425,-3177]
[5980,460,13,true,29,539401464,539403020,-1556]
[5981,461,1,false,30,539491680,539491615,65]
[5982,461,2,false,29,539581896,539583265,-1369]
[5983,461,3,false,30,539672112,539671860,252]
[5984,461,4,false,29,539762328,539763510,-1182]
[5985,461,5,false,30,539852544,539852105,439]
[5986,461,6,false,29,539942760,539943755,-995]
[5987,461,7,false,30,540032976,540032350,626]
[5988,461,8,false,29,540123192,540124000,-808]
[5989,461,9,false,30,540213408,540212595,813]
[5990,461,10,false,29,540303624,540304245,-621]
[5991,461,11,false,30,540393840,540392840,1000]
[5992,461,12,false,29,540484056,540484490,-434]
[5993,461,13,false,30,540574272,540573085,1187]
[5994,462,1,false,30,540664488,540664735,-247]
[5995,462,2,false,29,540754704,540756385,-1681]
[5996,462,3,false,30,540844920,540844980,-60]
[5997,462,4,false,29,540935136,540936630,-1494]
[{"$f":"A6017+1","v":5998},462,{"$f":"IF(C6017=13,1,C6017+1)","v":5},false,30,541025352,541025225,127]
[5999,462,6,false,29,541115568,541116875,-1307]
[6000,462,7,false,30,541205784,541205470,314]
[6001,462,8,false,29,541296000,541297120,-1120]
[6002,462,9,false,30,541386216,541385715,501]
[6003,462,10,false,29,541476432,541477365,-933]
[6004,462,11,false,30,541566648,541565960,688]
[6005,462,12,false,29,541656864,541657610,-746]
[6006,462,13,false,30,541747080,541746205,875]
[6007,463,1,false,30,541837296,541837855,-559]
[6008,463,2,false,29,541927512,541929505,-1993]
[6009,463,3,false,30,542017728,542018100,-372]
[6010,463,4,false,29,542107944,542109750,-1806]
[6011,463,5,false,30,542198160,542198345,-185]
[6012,463,6,false,29,542288376,542289995,-1619]
[6013,463,7,false,30,542378592,542378590,2]
[6014,463,8,false,29,542468808,542470240,-1432]
[6015,463,9,false,30,542559024,542558835,189]
[6016,463,10,false,29,542649240,542650485,-1245]
[6017,463,11,false,30,542739456,542739080,{"$f":"F6037-G6037","v":376}]
[6018,{"$f":"IF(C6038=1,B6037+1,B6037)","v":463},12,{"$f":"AND(OR(MOD(B6038,235)=0,MOD(B6038,10)=0),C6038=13)","v":false},{"$f":"IF(MOD(C6038,2)=1,30,29)-IF(D6038,1,0)","v":29},542829672,{"$f":"G6037+E6037*PPD","v":542830730},-1058]
[6019,463,13,false,30,{"$f":"F6038+PPM","v":542919888},542919325,563]
[6020,464,1,false,30,543010104,543010975,-871]
[6021,464,2,false,29,543100320,543102625,-2305]
[6022,464,3,false,30,543190536,543191220,-684]
[6023,464,4,false,29,543280752,543282870,-2118]
[6024,464,5,false,30,543370968,543371465,-497]
[6025,464,6,false,29,543461184,543463115,-1931]
[6026,464,7,false,30,543551400,543551710,-310]
[6027,464,8,false,29,543641616,543643360,-1744]
[6028,464,9,false,30,543731832,543731955,-123]
[6029,464,10,false,29,543822048,543823605,-1557]
[6030,464,11,false,30,543912264,543912200,64]
[6031,464,12,false,29,544002480,544003850,-1370]
[6032,464,13,false,30,544092696,544092445,251]
[6033,465,1,false,30,544182912,544184095,-1183]
[6034,465,2,false,29,544273128,544275745,-2617]
[6035,465,3,false,30,544363344,544364340,-996]
[6036,465,4,false,29,544453560,544455990,-2430]
[6037,465,5,false,30,544543776,544544585,-809]
[6038,465,6,false,29,544633992,544636235,-2243]
[6039,465,7,false,30,544724208,544724830,-622]
[6040,465,8,false,29,544814424,544816480,-2056]
[6041,465,9,false,30,544904640,544905075,-435]
[6042,465,10,false,29,544994856,544996725,-1869]
[6043,465,11,false,30,545085072,545085320,-248]
[6044,465,12,false,29,545175288,545176970,-1682]
[6045,465,13,false,30,545265504,545265565,-61]
[6046,466,1,false,30,545355720,545357215,-1495]
[6047,466,2,false,29,545445936,545448865,-2929]
[6048,466,3,false,30,545536152,545537460,-1308]
[6049,466,4,false,29,545626368,545629110,-2742]
[6050,466,5,false,30,545716584,545717705,-1121]
[6051,466,6,false,29,545806800,545809355,-2555]
[6052,466,7,false,30,545897016,545897950,-934]
[6053,466,8,false,29,545987232,545989600,-2368]
[6054,466,9,false,30,546077448,546078195,-747]
[6055,466,10,false,29,546167664,546169845,-2181]
[6056,466,11,false,30,546257880,546258440,-560]
[6057,466,12,false,29,546348096,546350090,-1994]
[6058,466,13,false,30,546438312,546438685,-373]
[6059,467,1,false,30,546528528,546530335,-1807]
[6060,467,2,false,29,546618744,546621985,-3241]
[6061,467,3,false,30,546708960,546710580,-1620]
[{"$f":"A6081+1","v":6062},467,{"$f":"IF(C6081=13,1,C6081+1)","v":4},false,29,546799176,546802230,-3054]
[6063,467,5,false,30,546889392,546890825,-1433]
[6064,467,6,false,29,546979608,546982475,-2867]
[6065,467,7,false,30,547069824,547071070,-1246]
[6066,467,8,false,29,547160040,547162720,-2680]
[6067,467,9,false,30,547250256,547251315,-1059]
[6068,467,10,false,29,547340472,547342965,-2493]
[6069,467,11,false,30,547430688,547431560,-872]
[6070,467,12,false,29,547520904,547523210,-2306]
[6071,467,13,false,30,547611120,547611805,-685]
[6072,468,1,false,30,547701336,547703455,-2119]
[6073,468,2,false,29,547791552,547795105,-3553]
[6074,468,3,false,30,547881768,547883700,-1932]
[6075,468,4,false,29,547971984,547975350,-3366]
[6076,468,5,false,30,548062200,548063945,-1745]
[6077,468,6,false,29,548152416,548155595,-3179]
[6078,468,7,false,30,548242632,548244190,-1558]
[6079,468,8,false,29,548332848,548335840,-2992]
[6080,468,9,false,30,548423064,548424435,-1371]
[6081,468,10,false,29,548513280,548516085,{"$f":"F6101-G6101","v":-2805}]
[6082,{"$f":"IF(C6102=1,B6101+1,B6101)","v":468},11,{"$f":"AND(OR(MOD(B6102,235)=0,MOD(B6102,10)=0),C6102=13)","v":false},{"$f":"IF(MOD(C6102,2)=1,30,29)-IF(D6102,1,0)","v":30},548603496,{"$f":"G6101+E6101*PPD","v":548604680},-1184]
[6083,468,12,false,29,{"$f":"F6102+PPM","v":548693712},548696330,-2618]
[6084,468,13,false,30,548783928,548784925,-997]
[6085,469,1,false,30,548874144,548876575,-2431]
[6086,469,2,false,29,548964360,548968225,-3865]
[6087,469,3,false,30,549054576,549056820,-2244]
[6088,469,4,false,29,549144792,549148470,-3678]
[6089,469,5,false,30,549235008,549237065,-2057]
[6090,469,6,false,29,549325224,549328715,-3491]
[6091,469,7,false,30,549415440,549417310,-1870]
[6092,469,8,false,29,549505656,549508960,-3304]
[6093,469,9,false,30,549595872,549597555,-1683]
[6094,469,10,false,29,549686088,549689205,-3117]
[6095,469,11,false,30,549776304,549777800,-1496]
[6096,469,12,false,29,549866520,549869450,-2930]
[6097,469,13,false,30,549956736,549958045,-1309]
[6098,470,1,false,30,550046952,550049695,-2743]
[6099,470,2,false,29,550137168,550141345,-4177]
[6100,470,3,false,30,550227384,550229940,-2556]
[6101,470,4,false,29,550317600,550321590,-3990]
[6102,470,5,false,30,550407816,550410185,-2369]
[6103,470,6,false,29,550498032,550501835,-3803]
[6104,470,7,false,30,550588248,550590430,-2182]
[6105,470,8,false,29,550678464,550682080,-3616]
[6106,470,9,false,30,550768680,550770675,-1995]
[6107,470,10,false,29,550858896,550862325,-3429]
[6108,470,11,false,30,550949112,550950920,-1808]
[6109,470,12,false,29,551039328,551042570,-3242]
[6110,470,13,true,29,551129544,551131165,-1621]
[6111,471,1,false,30,551219760,551219760,0]
[{"$f":"A6131+1","v":6112},471,{"$f":"IF(C6131=13,1,C6131+1)","v":2},false,29,{"$f":"F6131+PPM","v":551309976},551311410,-1434]
[6113,471,3,false,30,551400192,551400005,187]
[6114,471,4,false,29,551490408,551491655,-1247]
[6115,471,5,false,30,551580624,551580250,374]
[6116,471,6,false,29,551670840,551671900,-1060]
[6117,471,7,false,30,551761056,551760495,561]
[6118,471,8,false,29,551851272,551852145,-873]
[6119,471,9,false,30,551941488,551940740,748]
[6120,471,10,false,29,552031704,552032390,-686]
[6121,471,11,false,30,552121920,552120985,935]
[6122,471,12,false,29,552212136,552212635,-499]
[6123,471,13,false,30,552302352,552301230,1122]

{"sheet":"Years","index":2,"n_rows":472,"n_cols":5,"rows_kept":472}
["Month in Cycle","Lunar Year","New Year Moment","Elapsed","Difference"]
[{"$f":"StartMonth","v":13},1,{"$f":"(A2-1)*PPM","v":1082592},{"$f":"LOOKUP(A2,Data!A$21:A$6143,Data!G$21:G$6143)","v":1081470},{"$f":"C2-D2","v":1122}]
[{"$f":"A2+13","v":26},{"$f":"B2+1","v":2},{"$f":"(A3-1)*PPM","v":2255400},{"$f":"LOOKUP(A3,Data!A$21:A$6143,Data!G$21:G$6143)","v":2254590},{"$f":"C3-D3","v":810}]
[{"$f":"A3+13","v":39},{"$f":"B3+1","v":3},3428208,{"$f":"LOOKUP(A4,Data!A$21:A$6143,Data!G$21:G$6143)","v":3427710},498]
[52,4,4601016,{"$f":"LOOKUP(A5,Data!A$21:A$6143,Data!G$21:G$6143)","v":4600830},186]
[65,5,5773824,{"$f":"LOOKUP(A6,Data!A$21:A$6143,Data!G$21:G$6143)","v":5773950},-126]
[78,6,6946632,{"$f":"LOOKUP(A7,Data!A$21:A$6143,Data!G$21:G$6143)","v":6947070},-438]
[91,7,8119440,{"$f":"LOOKUP(A8,Data!A$21:A$6143,Data!G$21:G$6143)","v":8120190},-750]
[104,8,9292248,{"$f":"LOOKUP(A9,Data!A$21:A$6143,Data!G$21:G$6143)","v":9293310},-1062]
[117,9,10465056,{"$f":"LOOKUP(A10,Data!A$21:A$6143,Data!G$21:G$6143)","v":10466430},-1374]
[130,10,11637864,{"$f":"LOOKUP(A11,Data!A$21:A$6143,Data!G$21:G$6143)","v":11639550},-1686]
[143,11,12810672,{"$f":"LOOKUP(A12,Data!A$21:A$6143,Data!G$21:G$6143)","v":12809615},1057]
[156,12,13983480,{"$f":"LOOKUP(A13,Data!A$21:A$6143,Data!G$21:G$6143)","v":13982735},745]
[169,13,15156288,{"$f":"LOOKUP(A14,Data!A$21:A$6143,Data!G$21:G$6143)","v":15155855},433]
[182,14,16329096,{"$f":"LOOKUP(A15,Data!A$21:A$6143,Data!G$21:G$6143)","v":16328975},121]
[195,15,17501904,{"$f":"LOOKUP(A16,Data!A$21:A$6143,Data!G$21:G$6143)","v":17502095},-191]
[208,16,18674712,{"$f":"LOOKUP(A17,Data!A$21:A$6143,Data!G$21:G$6143)","v":18675215},-503]
[221,17,19847520,{"$f":"LOOKUP(A18,Data!A$21:A$6143,Data!G$21:G$6143)","v":19848335},-815]
[234,18,21020328,{"$f":"LOOKUP(A19,Data!A$21:A$6143,Data!G$21:G$6143)","v":21021455},-1127]
[247,19,22193136,{"$f":"LOOKUP(A20,Data!A$21:A$6143,Data!G$21:G$6143)","v":22194575},-1439]
[260,20,23365944,{"$f":"LOOKUP(A21,Data!A$21:A$6143,Data!G$21:G$6143)","v":23367695},-1751]
[273,21,24538752,{"$f":"LOOKUP(A22,Data!A$21:A$6143,Data!G$21:G$6143)","v":24537760},992]
[286,22,25711560,{"$f":"LOOKUP(A23,Data!A$21:A$6143,Data!G$21:G$6143)","v":25710880},680]
[299,23,26884368,{"$f":"LOOKUP(A24,Data!A$21:A$6143,Data!G$21:G$6143)","v":26884000},368]
[312,24,28057176,{"$f":"LOOKUP(A25,Data!A$21:A$6143,Data!G$21:G$6143)","v":28057120},56]
[325,25,29229984,{"$f":"LOOKUP(A26,Data!A$21:A$6143,Data!G$21:G$6143)","v":29230240},-256]
[338,26,30402792,{"$f":"LOOKUP(A27,Data!A$21:A$6143,Data!G$21:G$6143)","v":30403360},-568]
[351,27,31575600,{"$f":"LOOKUP(A28,Data!A$21:A$6143,Data!G$21:G$6143)","v":31576480},-880]
[364,28,32748408,{"$f":"LOOKUP(A29,Data!A$21:A$6143,Data!G$21:G$6143)","v":32749600},-1192]
[377,29,33921216,{"$f":"LOOKUP(A30,Data!A$21:A$6143,Data!G$21:G$6143)","v":33922720},-1504]
[390,30,35094024,{"$f":"LOOKUP(A31,Data!A$21:A$6143,Data!G$21:G$6143)","v":35095840},-1816]
[403,31,36266832,{"$f":"LOOKUP(A32,Data!A$21:A$6143,Data!G$21:G$6143)","v":36265905},927]
[416,32,37439640,{"$f":"LOOKUP(A33,Data!A$21:A$6143,Data!G$21:G$6143)","v":37439025},615]
[429,33,38612448,{"$f":"LOOKUP(A34,Data!A$21:A$6143,Data!G$21:G$6143)","v":38612145},303]
[442,34,39785256,{"$f":"LOOKUP(A35,Data!A$21:A$6143,Data!G$21:G$6143)","v":39785265},-9]
[455,35,40958064,{"$f":"LOOKUP(A36,Data!A$21:A$6143,Data!G$21:G$6143)","v":40958385},-321]
[468,36,42130872,{"$f":"LOOKUP(A37,Data!A$21:A$6143,Data!G$21:G$6143)","v":42131505},-633]
[481,37,43303680,{"$f":"LOOKUP(A38,Data!A$21:A$6143,Data!G$21:G$6143)","v":43304625},-945]
[494,38,44476488,{"$f":"LOOKUP(A39,Data!A$21:A$6143,Data!G$21:G$6143)","v":44477745},-1257]
[507,39,45649296,{"$f":"LOOKUP(A40,Data!A$21:A$6143,Data!G$21:G$6143)","v":45650865},-1569]
[520,40,46822104,{"$f":"LOOKUP(A41,Data!A$21:A$6143,Data!G$21:G$6143)","v":46823985},-1881]
[533,41,47994912,{"$f":"LOOKUP(A42,Data!A$21:A$6143,Data!G$21:G$6143)","v":47994050},862]
[546,42,49167720,{"$f":"LOOKUP(A43,Data!A$21:A$6143,Data!G$21:G$6143)","v":49167170},550]
[559,43,50340528,{"$f":"LOOKUP(A44,Data!A$21:A$6143,Data!G$21:G$6143)","v":50340290},238]
[572,44,51513336,{"$f":"LOOKUP(A45,Data!A$21:A$6143,Data!G$21:G$6143)","v":51513410},-74]
[585,45,52686144,{"$f":"LOOKUP(A46,Data!A$21:A$6143,Data!G$21:G$6143)","v":52686530},-386]
[598,46,53858952,{"$f":"LOOKUP(A47,Data!A$21:A$6143,Data!G$21:G$6143)","v":53859650},-698]
[611,47,55031760,{"$f":"LOOKUP(A48,Data!A$21:A$6143,Data!G$21:G$6143)","v":55032770},-1010]
[624,48,56204568,{"$f":"LOOKUP(A49,Data!A$21:A$6143,Data!G$21:G$6143)","v":56205890},-1322]
[637,49,57377376,{"$f":"LOOKUP(A50,Data!A$21:A$6143,Data!G$21:G$6143)","v":57379010},-1634]
[650,50,58550184,{"$f":"LOOKUP(A51,Data!A$21:A$6143,Data!G$21:G$6143)","v":58552130},-1946]
[663,51,59722992,{"$f":"LOOKUP(A52,Data!A$21:A$6143,Data!G$21:G$6143)","v":59722195},797]
[676,52,60895800,{"$f":"LOOKUP(A53,Data!A$21:A$6143,Data!G$21:G$6143)","v":60895315},485]
[689,53,62068608,{"$f":"LOOKUP(A54,Data!A$21:A$6143,Data!G$21:G$6143)","v":62068435},173]
[702,54,63241416,{"$f":"LOOKUP(A55,Data!A$21:A$6143,Data!G$21:G$6143)","v":63241555},-139]
[715,55,64414224,{"$f":"LOOKUP(A56,Data!A$21:A$6143,Data!G$21:G$6143)","v":64414675},-451]
[728,56,65587032,{"$f":"LOOKUP(A57,Data!A$21:A$6143,Data!G$21:G$6143)","v":65587795},-763]
[741,57,66759840,{"$f":"LOOKUP(A58,Data!A$21:A$6143,Data!G$21:G$6143)","v":66760915},-1075]
[754,58,67932648,{"$f":"LOOKUP(A59,Data!A$21:A$6143,Data!G$21:G$6143)","v":67934035},-1387]
[767,59,69105456,{"$f":"LOOKUP(A60,Data!A$21:A$6143,Data!G$21:G$6143)","v":69107155},-1699]
[780,60,70278264,{"$f":"LOOKUP(A61,Data!A$21:A$6143,Data!G$21:G$6143)","v":70280275},-2011]
[793,61,71451072,{"$f":"LOOKUP(A62,Data!A$21:A$6143,Data!G$21:G$6143)","v":71450340},732]
[806,62,72623880,{"$f":"LOOKUP(A63,Data!A$21:A$6143,Data!G$21:G$6143)","v":72623460},420]
[819,63,73796688,{"$f":"LOOKUP(A64,Data!A$21:A$6143,Data!G$21:G$6143)","v":73796580},108]
[832,64,74969496,{"$f":"LOOKUP(A65,Data!A$21:A$6143,Data!G$21:G$6143)","v":74969700},-204]
[845,65,76142304,{"$f":"LOOKUP(A66,Data!A$21:A$6143,Data!G$21:G$6143)","v":76142820},{"$f":"C66-D66","v":-516}]
[858,66,{"$f":"(A67-1)*PPM","v":77315112},{"$f":"LOOKUP(A67,Data!A$21:A$6143,Data!G$21:G$6143)","v":77315940},-828]
[{"$f":"A67+13","v":871},{"$f":"B67+1","v":67},78487920,{"$f":"LOOKUP(A68,Data!A$21:A$6143,Data!G$21:G$6143)","v":78489060},-1140]
[884,68,79660728,{"$f":"LOOKUP(A69,Data!A$21:A$6143,Data!G$21:G$6143)","v":79662180},-1452]
[897,69,80833536,{"$f":"LOOKUP(A70,Data!A$21:A$6143,Data!G$21:G$6143)","v":80835300},-1764]
[910,70,82006344,{"$f":"LOOKUP(A71,Data!A$21:A$6143,Data!G$21:G$6143)","v":82008420},-2076]
[923,71,83179152,{"$f":"LOOKUP(A72,Data!A$21:A$6143,Data!G$21:G$6143)","v":83178485},667]
[936,72,84351960,{"$f":"LOOKUP(A73,Data!A$21:A$6143,Data!G$21:G$6143)","v":84351605},355]
[949,73,85524768,{"$f":"LOOKUP(A74,Data!A$21:A$6143,Data!G$21:G$6143)","v":85524725},43]
[962,74,86697576,{"$f":"LOOKUP(A75,Data!A$21:A$6143,Data!G$21:G$6143)","v":86697845},-269]
[975,75,87870384,{"$f":"LOOKUP(A76,Data!A$21:A$6143,Data!G$21:G$6143)","v":87870965},-581]
[988,76,89043192,{"$f":"LOOKUP(A77,Data!A$21:A$6143,Data!G$21:G$6143)","v":89044085},-893]
[1001,77,90216000,{"$f":"LOOKUP(A78,Data!A$21:A$6143,Data!G$21:G$6143)","v":90217205},-1205]
[1014,78,91388808,{"$f":"LOOKUP(A79,Data!A$21:A$6143,Data!G$21:G$6143)","v":91390325},-1517]
[1027,79,92561616,{"$f":"LOOKUP(A80,Data!A$21:A$6143,Data!G$21:G$6143)","v":92563445},-1829]
[1040,80,93734424,{"$f":"LOOKUP(A81,Data!A$21:A$6143,Data!G$21:G$6143)","v":93736565},-2141]
[1053,81,94907232,{"$f":"LOOKUP(A82,Data!A$21:A$6143,Data!G$21:G$6143)","v":94906630},602]
[1066,82,96080040,{"$f":"LOOKUP(A83,Data!A$21:A$6143,Data!G$21:G$6143)","v":96079750},290]
[1079,83,97252848,{"$f":"LOOKUP(A84,Data!A$21:A$6143,Data!G$21:G$6143)","v":97252870},-22]
[1092,84,98425656,{"$f":"LOOKUP(A85,Data!A$21:A$6143,Data!G$21:G$6143)","v":98425990},-334]
[1105,85,99598464,{"$f":"LOOKUP(A86,Data!A$21:A$6143,Data!G$21:G$6143)","v":99599110},-646]
[1118,86,100771272,{"$f":"LOOKUP(A87,Data!A$21:A$6143,Data!G$21:G$6143)","v":100772230},-958]
[1131,87,101944080,{"$f":"LOOKUP(A88,Data!A$21:A$6143,Data!G$21:G$6143)","v":101945350},-1270]
[1144,88,103116888,{"$f":"LOOKUP(A89,Data!A$21:A$6143,Data!G$21:G$6143)","v":103118470},-1582]
[1157,89,104289696,{"$f":"LOOKUP(A90,Data!A$21:A$6143,Data!G$21:G$6143)","v":104291590},-1894]
[1170,90,105462504,{"$f":"LOOKUP(A91,Data!A$21:A$6143,Data!G$21:G$6143)","v":105464710},-2206]
[1183,91,106635312,{"$f":"LOOKUP(A92,Data!A$21:A$6143,Data!G$21:G$6143)","v":106634775},537]
[1196,92,107808120,{"$f":"LOOKUP(A93,Data!A$21:A$6143,Data!G$21:G$6143)","v":107807895},225]
[1209,93,108980928,{"$f":"LOOKUP(A94,Data!A$21:A$6143,Data!G$21:G$6143)","v":108981015},-87]
[1222,94,110153736,{"$f":"LOOKUP(A95,Data!A$21:A$6143,Data!G$21:G$6143)","v":110154135},-399]
[1235,95,111326544,{"$f":"LOOKUP(A96,Data!A$21:A$6143,Data!G$21:G$6143)","v":111327255},-711]
[1248,96,112499352,{"$f":"LOOKUP(A97,Data!A$21:A$6143,Data!G$21:G$6143)","v":112500375},-1023]
[1261,97,113672160,{"$f":"LOOKUP(A98,Data!A$21:A$6143,Data!G$21:G$6143)","v":113673495},-1335]
[1274,98,114844968,{"$f":"LOOKUP(A99,Data!A$21:A$6143,Data!G$21:G$6143)","v":114846615},-1647]
[1287,99,116017776,{"$f":"LOOKUP(A100,Data!A$21:A$6143,Data!G$21:G$6143)","v":116019735},-1959]
[1300,100,117190584,{"$f":"LOOKUP(A101,Data!A$21:A$6143,Data!G$21:G$6143)","v":117192855},-2271]
[1313,101,118363392,{"$f":"LOOKUP(A102,Data!A$21:A$6143,Data!G$21:G$6143)","v":118362920},472]
[1326,102,119536200,{"$f":"LOOKUP(A103,Data!A$21:A$6143,Data!G$21:G$6143)","v":119536040},160]
[1339,103,120709008,{"$f":"LOOKUP(A104,Data!A$21:A$6143,Data!G$21:G$6143)","v":120709160},-152]
[1352,104,121881816,{"$f":"LOOKUP(A105,Data!A$21:A$6143,Data!G$21:G$6143)","v":121882280},-464]
[1365,105,123054624,{"$f":"LOOKUP(A106,Data!A$21:A$6143,Data!G$21:G$6143)","v":123055400},-776]
[1378,106,124227432,{"$f":"LOOKUP(A107,Data!A$21:A$6143,Data!G$21:G$6143)","v":124228520},-1088]
[1391,107,125400240,{"$f":"LOOKUP(A108,Data!A$21:A$6143,Data!G$21:G$6143)","v":125401640},-1400]
[1404,108,126573048,{"$f":"LOOKUP(A109,Data!A$21:A$6143,Data!G$21:G$6143)","v":126574760},-1712]
[1417,109,127745856,{"$f":"LOOKUP(A110,Data!A$21:A$6143,Data!G$21:G$6143)","v":127747880},-2024]
[1430,110,128918664,{"$f":"LOOKUP(A111,Data!A$21:A$6143,Data!G$21:G$6143)","v":128921000},-2336]
[1443,111,130091472,{"$f":"LOOKUP(A112,Data!A$21:A$6143,Data!G$21:G$6143)","v":130091065},407]
[1456,112,131264280,{"$f":"LOOKUP(A113,Data!A$21:A$6143,Data!G$21:G$6143)","v":131264185},95]
[1469,113,132437088,{"$f":"LOOKUP(A114,Data!A$21:A$6143,Data!G$21:G$6143)","v":132437305},-217]
[1482,114,133609896,{"$f":"LOOKUP(A115,Data!A$21:A$6143,Data!G$21:G$6143)","v":133610425},-529]
[1495,115,134782704,{"$f":"LOOKUP(A116,Data!A$21:A$6143,Data!G$21:G$6143)","v":134783545},-841]
[1508,116,135955512,{"$f":"LOOKUP(A117,Data!A$21:A$6143,Data!G$21:G$6143)","v":135956665},-1153]
[1521,117,137128320,{"$f":"LOOKUP(A118,Data!A$21:A$6143,Data!G$21:G$6143)","v":137129785},-1465]
[1534,118,138301128,{"$f":"LOOKUP(A119,Data!A$21:A$6143,Data!G$21:G$6143)","v":138302905},-1777]
[1547,119,139473936,{"$f":"LOOKUP(A120,Data!A$21:A$6143,Data!G$21:G$6143)","v":139476025},-2089]
[1560,120,140646744,{"$f":"LOOKUP(A121,Data!A$21:A$6143,Data!G$21:G$6143)","v":140649145},-2401]
[1573,121,141819552,{"$f":"LOOKUP(A122,Data!A$21:A$6143,Data!G$21:G$6143)","v":141819210},342]
[1586,122,142992360,{"$f":"LOOKUP(A123,Data!A$21:A$6143,Data!G$21:G$6143)","v":142992330},30]
[1599,123,144165168,{"$f":"LOOKUP(A124,Data!A$21:A$6143,Data!G$21:G$6143)","v":144165450},-282]
[1612,124,145337976,{"$f":"LOOKUP(A125,Data!A$21:A$6143,Data!G$21:G$6143)","v":145338570},-594]
[1625,125,146510784,{"$f":"LOOKUP(A126,Data!A$21:A$6143,Data!G$21:G$6143)","v":146511690},-906]
[1638,126,147683592,{"$f":"LOOKUP(A127,Data!A$21:A$6143,Data!G$21:G$6143)","v":147684810},-1218]
[1651,127,148856400,{"$f":"LOOKUP(A128,Data!A$21:A$6143,Data!G$21:G$6143)","v":148857930},-1530]
[1664,128,150029208,{"$f":"LOOKUP(A129,Data!A$21:A$6143,Data!G$21:G$6143)","v":150031050},-1842]
[1677,129,151202016,{"$f":"LOOKUP(A130,Data!A$21:A$6143,Data!G$21:G$6143)","v":151204170},{"$f":"C130-D130","v":-2154}]
[1690,130,{"$f":"(A131-1)*PPM","v":152374824},{"$f":"LOOKUP(A131,Data!A$21:A$6143,Data!G$21:G$6143)","v":152377290},-2466]
[{"$f":"A131+13","v":1703},{"$f":"B131+1","v":131},153547632,{"$f":"LOOKUP(A132,Data!A$21:A$6143,Data!G$21:G$6143)","v":153547355},277]
[1716,132,154720440,{"$f":"LOOKUP(A133,Data!A$21:A$6143,Data!G$21:G$6143)","v":154720475},-35]
[1729,133,155893248,{"$f":"LOOKUP(A134,Data!A$21:A$6143,Data!G$21:G$6143)","v":155893595},-347]
[1742,134,157066056,{"$f":"LOOKUP(A135,Data!A$21:A$6143,Data!G$21:G$6143)","v":157066715},-659]
[1755,135,158238864,{"$f":"LOOKUP(A136,Data!A$21:A$6143,Data!G$21:G$6143)","v":158239835},-971]
[1768,136,159411672,{"$f":"LOOKUP(A137,Data!A$21:A$6143,Data!G$21:G$6143)","v":159412955},-1283]
[1781,137,160584480,{"$f":"LOOKUP(A138,Data!A$21:A$6143,Data!G$21:G$6143)","v":160586075},-1595]
[1794,138,161757288,{"$f":"LOOKUP(A139,Data!A$21:A$6143,Data!G$21:G$6143)","v":161759195},-1907]
[1807,139,162930096,{"$f":"LOOKUP(A140,Data!A$21:A$6143,Data!G$21:G$6143)","v":162932315},-2219]
[1820,140,164102904,{"$f":"LOOKUP(A141,Data!A$21:A$6143,Data!G$21:G$6143)","v":164105435},-2531]
[1833,141,165275712,{"$f":"LOOKUP(A142,Data!A$21:A$6143,Data!G$21:G$6143)","v":165275500},212]
[1846,142,166448520,{"$f":"LOOKUP(A143,Data!A$21:A$6143,Data!G$21:G$6143)","v":166448620},-100]
[1859,143,167621328,{"$f":"LOOKUP(A144,Data!A$21:A$6143,Data!G$21:G$6143)","v":167621740},-412]
[1872,144,168794136,{"$f":"LOOKUP(A145,Data!A$21:A$6143,Data!G$21:G$6143)","v":168794860},-724]
[1885,145,169966944,{"$f":"LOOKUP(A146,Data!A$21:A$6143,Data!G$21:G$6143)","v":169967980},-1036]
[1898,146,171139752,{"$f":"LOOKUP(A147,Data!A$21:A$6143,Data!G$21:G$6143)","v":171141100},-1348]
[1911,147,172312560,{"$f":"LOOKUP(A148,Data!A$21:A$6143,Data!G$21:G$6143)","v":172314220},-1660]
[1924,148,173485368,{"$f":"LOOKUP(A149,Data!A$21:A$6143,Data!G$21:G$6143)","v":173487340},-1972]
[1937,149,174658176,{"$f":"LOOKUP(A150,Data!A$21:A$6143,Data!G$21:G$6143)","v":174660460},-2284]
[1950,150,175830984,{"$f":"LOOKUP(A151,Data!A$21:A$6143,Data!G$21:G$6143)","v":175833580},-2596]
[1963,151,177003792,{"$f":"LOOKUP(A152,Data!A$21:A$6143,Data!G$21:G$6143)","v":177003645},147]
[1976,152,178176600,{"$f":"LOOKUP(A153,Data!A$21:A$6143,Data!G$21:G$6143)","v":178176765},-165]
[1989,153,179349408,{"$f":"LOOKUP(A154,Data!A$21:A$6143,Data!G$21:G$6143)","v":179349885},-477]
[2002,154,180522216,{"$f":"LOOKUP(A155,Data!A$21:A$6143,Data!G$21:G$6143)","v":180523005},-789]
[2015,155,181695024,{"$f":"LOOKUP(A156,Data!A$21:A$6143,Data!G$21:G$6143)","v":181696125},-1101]
[2028,156,182867832,{"$f":"LOOKUP(A157,Data!A$21:A$6143,Data!G$21:G$6143)","v":182869245},-1413]
[2041,157,184040640,{"$f":"LOOKUP(A158,Data!A$21:A$6143,Data!G$21:G$6143)","v":184042365},-1725]
[2054,158,185213448,{"$f":"LOOKUP(A159,Data!A$21:A$6143,Data!G$21:G$6143)","v":185215485},-2037]
[2067,159,186386256,{"$f":"LOOKUP(A160,Data!A$21:A$6143,Data!G$21:G$6143)","v":186388605},-2349]
[2080,160,187559064,{"$f":"LOOKUP(A161,Data!A$21:A$6143,Data!G$21:G$6143)","v":187561725},-2661]
[2093,161,188731872,{"$f":"LOOKUP(A162,Data!A$21:A$6143,Data!G$21:G$6143)","v":188731790},82]
[2106,162,189904680,{"$f":"LOOKUP(A163,Data!A$21:A$6143,Data!G$21:G$6143)","v":189904910},-230]
[2119,163,191077488,{"$f":"LOOKUP(A164,Data!A$21:A$6143,Data!G$21:G$6143)","v":191078030},-542]
[2132,164,192250296,{"$f":"LOOKUP(A165,Data!A$21:A$6143,Data!G$21:G$6143)","v":192251150},-854]
[2145,165,193423104,{"$f":"LOOKUP(A166,Data!A$21:A$6143,Data!G$21:G$6143)","v":193424270},-1166]
[2158,166,194595912,{"$f":"LOOKUP(A167,Data!A$21:A$6143,Data!G$21:G$6143)","v":194597390},-1478]
[2171,167,195768720,{"$f":"LOOKUP(A168,Data!A$21:A$6143,Data!G$21:G$6143)","v":195770510},-1790]
[2184,168,196941528,{"$f":"LOOKUP(A169,Data!A$21:A$6143,Data!G$21:G$6143)","v":196943630},-2102]
[2197,169,198114336,{"$f":"LOOKUP(A170,Data!A$21:A$6143,Data!G$21:G$6143)","v":198116750},-2414]
[2210,170,199287144,{"$f":"LOOKUP(A171,Data!A$21:A$6143,Data!G$21:G$6143)","v":199289870},-2726]
[2223,171,200459952,{"$f":"LOOKUP(A172,Data!A$21:A$6143,Data!G$21:G$6143)","v":200459935},17]
[2236,172,201632760,{"$f":"LOOKUP(A173,Data!A$21:A$6143,Data!G$21:G$6143)","v":201633055},-295]
[2249,173,202805568,{"$f":"LOOKUP(A174,Data!A$21:A$6143,Data!G$21:G$6143)","v":202806175},-607]
[2262,174,203978376,{"$f":"LOOKUP(A175,Data!A$21:A$6143,Data!G$21:G$6143)","v":203979295},-919]
[2275,175,205151184,{"$f":"LOOKUP(A176,Data!A$21:A$6143,Data!G$21:G$6143)","v":205152415},-1231]
[2288,176,206323992,{"$f":"LOOKUP(A177,Data!A$21:A$6143,Data!G$21:G$6143)","v":206325535},-1543]
[2301,177,207496800,{"$f":"LOOKUP(A178,Data!A$21:A$6143,Data!G$21:G$6143)","v":207498655},-1855]
[2314,178,208669608,{"$f":"LOOKUP(A179,Data!A$21:A$6143,Data!G$21:G$6143)","v":208671775},-2167]
[2327,179,209842416,{"$f":"LOOKUP(A180,Data!A$21:A$6143,Data!G$21:G$6143)","v":209844895},-2479]
[2340,180,211015224,{"$f":"LOOKUP(A181,Data!A$21:A$6143,Data!G$21:G$6143)","v":211018015},-2791]
[2353,181,212188032,{"$f":"LOOKUP(A182,Data!A$21:A$6143,Data!G$21:G$6143)","v":212188080},-48]
[2366,182,213360840,{"$f":"LOOKUP(A183,Data!A$21:A$6143,Data!G$21:G$6143)","v":213361200},-360]
[2379,183,214533648,{"$f":"LOOKUP(A184,Data!A$21:A$6143,Data!G$21:G$6143)","v":214534320},-672]
[2392,184,215706456,{"$f":"LOOKUP(A185,Data!A$21:A$6143,Data!G$21:G$6143)","v":215707440},-984]
[2405,185,216879264,{"$f":"LOOKUP(A186,Data!A$21:A$6143,Data!G$21:G$6143)","v":216880560},-1296]
[2418,186,218052072,{"$f":"LOOKUP(A187,Data!A$21:A$6143,Data!G$21:G$6143)","v":218053680},-1608]
[2431,187,219224880,{"$f":"LOOKUP(A188,Data!A$21:A$6143,Data!G$21:G$6143)","v":219226800},-1920]
[2444,188,220397688,{"$f":"LOOKUP(A189,Data!A$21:A$6143,Data!G$21:G$6143)","v":220399920},-2232]
[2457,189,221570496,{"$f":"LOOKUP(A190,Data!A$21:A$6143,Data!G$21:G$6143)","v":221573040},-2544]
[2470,190,222743304,{"$f":"LOOKUP(A191,Data!A$21:A$6143,Data!G$21:G$6143)","v":222746160},-2856]
[2483,191,223916112,{"$f":"LOOKUP(A192,Data!A$21:A$6143,Data!G$21:G$6143)","v":223916225},-113]
[2496,192,225088920,{"$f":"LOOKUP(A193,Data!A$21:A$6143,Data!G$21:G$6143)","v":225089345},-425]
[2509,193,226261728,{"$f":"LOOKUP(A194,Data!A$21:A$6143,Data!G$21:G$6143)","v":226262465},{"$f":"C194-D194","v":-737}]
[2522,194,{"$f":"(A195-1)*PPM","v":227434536},{"$f":"LOOKUP(A195,Data!A$21:A$6143,Data!G$21:G$6143)","v":227435585},-1049]
[{"$f":"A195+13","v":2535},{"$f":"B195+1","v":195},228607344,{"$f":"LOOKUP(A196,Data!A$21:A$6143,Data!G$21:G$6143)","v":228608705},-1361]
[2548,196,229780152,{"$f":"LOOKUP(A197,Data!A$21:A$6143,Data!G$21:G$6143)","v":229781825},-1673]
[2561,197,230952960,{"$f":"LOOKUP(A198,Data!A$21:A$6143,Data!G$21:G$6143)","v":230954945},-1985]
[2574,198,232125768,{"$f":"LOOKUP(A199,Data!A$21:A$6143,Data!G$21:G$6143)","v":232128065},-2297]
[2587,199,233298576,{"$f":"LOOKUP(A200,Data!A$21:A$6143,Data!G$21:G$6143)","v":233301185},-2609]
[2600,200,234471384,{"$f":"LOOKUP(A201,Data!A$21:A$6143,Data!G$21:G$6143)","v":234474305},-2921]
[2613,201,235644192,{"$f":"LOOKUP(A202,Data!A$21:A$6143,Data!G$21:G$6143)","v":235644370},-178]
[2626,202,236817000,{"$f":"LOOKUP(A203,Data!A$21:A$6143,Data!G$21:G$6143)","v":236817490},-490]
[2639,203,237989808,{"$f":"LOOKUP(A204,Data!A$21:A$6143,Data!G$21:G$6143)","v":237990610},-802]
[2652,204,239162616,{"$f":"LOOKUP(A205,Data!A$21:A$6143,Data!G$21:G$6143)","v":239163730},-1114]
[2665,205,240335424,{"$f":"LOOKUP(A206,Data!A$21:A$6143,Data!G$21:G$6143)","v":240336850},-1426]
[2678,206,241508232,{"$f":"LOOKUP(A207,Data!A$21:A$6143,Data!G$21:G$6143)","v":241509970},-1738]
[2691,207,242681040,{"$f":"LOOKUP(A208,Data!A$21:A$6143,Data!G$21:G$6143)","v":242683090},-2050]
[2704,208,243853848,{"$f":"LOOKUP(A209,Data!A$21:A$6143,Data!G$21:G$6143)","v":243856210},-2362]
[2717,209,245026656,{"$f":"LOOKUP(A210,Data!A$21:A$6143,Data!G$21:G$6143)","v":245029330},-2674]
[2730,210,246199464,{"$f":"LOOKUP(A211,Data!A$21:A$6143,Data!G$21:G$6143)","v":246202450},-2986]
[2743,211,247372272,{"$f":"LOOKUP(A212,Data!A$21:A$6143,Data!G$21:G$6143)","v":247372515},-243]
[2756,212,248545080,{"$f":"LOOKUP(A213,Data!A$21:A$6143,Data!G$21:G$6143)","v":248545635},-555]
[2769,213,249717888,{"$f":"LOOKUP(A214,Data!A$21:A$6143,Data!G$21:G$6143)","v":249718755},-867]
[2782,214,250890696,{"$f":"LOOKUP(A215,Data!A$21:A$6143,Data!G$21:G$6143)","v":250891875},-1179]
[2795,215,252063504,{"$f":"LOOKUP(A216,Data!A$21:A$6143,Data!G$21:G$6143)","v":252064995},-1491]
[2808,216,253236312,{"$f":"LOOKUP(A217,Data!A$21:A$6143,Data!G$21:G$6143)","v":253238115},-1803]
[2821,217,254409120,{"$f":"LOOKUP(A218,Data!A$21:A$6143,Data!G$21:G$6143)","v":254411235},-2115]
[2834,218,255581928,{"$f":"LOOKUP(A219,Data!A$21:A$6143,Data!G$21:G$6143)","v":255584355},-2427]
[2847,219,256754736,{"$f":"LOOKUP(A220,Data!A$21:A$6143,Data!G$21:G$6143)","v":256757475},-2739]
[2860,220,257927544,{"$f":"LOOKUP(A221,Data!A$21:A$6143,Data!G$21:G$6143)","v":257930595},-3051]
[2873,221,259100352,{"$f":"LOOKUP(A222,Data!A$21:A$6143,Data!G$21:G$6143)","v":259100660},-308]
[2886,222,260273160,{"$f":"LOOKUP(A223,Data!A$21:A$6143,Data!G$21:G$6143)","v":260273780},-620]
[2899,223,261445968,{"$f":"LOOKUP(A224,Data!A$21:A$6143,Data!G$21:G$6143)","v":261446900},-932]
[2912,224,262618776,{"$f":"LOOKUP(A225,Data!A$21:A$6143,Data!G$21:G$6143)","v":262620020},-1244]
[2925,225,263791584,{"$f":"LOOKUP(A226,Data!A$21:A$6143,Data!G$21:G$6143)","v":263793140},-1556]
[2938,226,264964392,{"$f":"LOOKUP(A227,Data!A$21:A$6143,Data!G$21:G$6143)","v":264966260},-1868]
[2951,227,266137200,{"$f":"LOOKUP(A228,Data!A$21:A$6143,Data!G$21:G$6143)","v":266139380},-2180]
[2964,228,267310008,{"$f":"LOOKUP(A229,Data!A$21:A$6143,Data!G$21:G$6143)","v":267312500},-2492]
[2977,229,268482816,{"$f":"LOOKUP(A230,Data!A$21:A$6143,Data!G$21:G$6143)","v":268485620},-2804]
[2990,230,269655624,{"$f":"LOOKUP(A231,Data!A$21:A$6143,Data!G$21:G$6143)","v":269658740},-3116]
[3003,231,270828432,{"$f":"LOOKUP(A232,Data!A$21:A$6143,Data!G$21:G$6143)","v":270828805},-373]
[3016,232,272001240,{"$f":"LOOKUP(A233,Data!A$21:A$6143,Data!G$21:G$6143)","v":272001925},-685]
[3029,233,273174048,{"$f":"LOOKUP(A234,Data!A$21:A$6143,Data!G$21:G$6143)","v":273175045},-997]
[3042,234,274346856,{"$f":"LOOKUP(A235,Data!A$21:A$6143,Data!G$21:G$6143)","v":274348165},-1309]
[3055,235,275519664,{"$f":"LOOKUP(A236,Data!A$21:A$6143,Data!G$21:G$6143)","v":275521285},-1621]
[3068,236,276692472,{"$f":"LOOKUP(A237,Data!A$21:A$6143,Data!G$21:G$6143)","v":276691350},1122]
[3081,237,277865280,{"$f":"LOOKUP(A238,Data!A$21:A$6143,Data!G$21:G$6143)","v":277864470},810]
[3094,238,279038088,{"$f":"LOOKUP(A239,Data!A$21:A$6143,Data!G$21:G$6143)","v":279037590},498]
[3107,239,280210896,{"$f":"LOOKUP(A240,Data!A$21:A$6143,Data!G$21:G$6143)","v":280210710},186]
[3120,240,281383704,{"$f":"LOOKUP(A241,Data!A$21:A$6143,Data!G$21:G$6143)","v":281383830},-126]
[3133,241,282556512,{"$f":"LOOKUP(A242,Data!A$21:A$6143,Data!G$21:G$6143)","v":282553895},2617]
[3146,242,283729320,{"$f":"LOOKUP(A243,Data!A$21:A$6143,Data!G$21:G$6143)","v":283727015},2305]
[3159,243,284902128,{"$f":"LOOKUP(A244,Data!A$21:A$6143,Data!G$21:G$6143)","v":284900135},1993]
[3172,244,286074936,{"$f":"LOOKUP(A245,Data!A$21:A$6143,Data!G$21:G$6143)","v":286073255},1681]
[3185,245,287247744,{"$f":"LOOKUP(A246,Data!A$21:A$6143,Data!G$21:G$6143)","v":287246375},1369]
[3198,246,288420552,{"$f":"LOOKUP(A247,Data!A$21:A$6143,Data!G$21:G$6143)","v":288419495},1057]
[3211,247,289593360,{"$f":"LOOKUP(A248,Data!A$21:A$6143,Data!G$21:G$6143)","v":289592615},745]
[3224,248,290766168,{"$f":"LOOKUP(A249,Data!A$21:A$6143,Data!G$21:G$6143)","v":290765735},433]
[3237,249,291938976,{"$f":"LOOKUP(A250,Data!A$21:A$6143,Data!G$21:G$6143)","v":291938855},121]
[3250,250,293111784,{"$f":"LOOKUP(A251,Data!A$21:A$6143,Data!G$21:G$6143)","v":293111975},-191]
[3263,251,294284592,{"$f":"LOOKUP(A252,Data!A$21:A$6143,Data!G$21:G$6143)","v":294282040},2552]
[3276,252,295457400,{"$f":"LOOKUP(A253,Data!A$21:A$6143,Data!G$21:G$6143)","v":295455160},2240]
[3289,253,296630208,{"$f":"LOOKUP(A254,Data!A$21:A$6143,Data!G$21:G$6143)","v":296628280},1928]
[3302,254,297803016,{"$f":"LOOKUP(A255,Data!A$21:A$6143,Data!G$21:G$6143)","v":297801400},1616]
[3315,255,298975824,{"$f":"LOOKUP(A256,Data!A$21:A$6143,Data!G$21:G$6143)","v":298974520},1304]
[3328,256,300148632,{"$f":"LOOKUP(A257,Data!A$21:A$6143,Data!G$21:G$6143)","v":300147640},992]
[3341,257,301321440,{"$f":"LOOKUP(A258,Data!A$21:A$6143,Data!G$21:G$6143)","v":301320760},{"$f":"C258-D258","v":680}]
[3354,258,{"$f":"(A259-1)*PPM","v":302494248},{"$f":"LOOKUP(A259,Data!A$21:A$6143,Data!G$21:G$6143)","v":302493880},368]
[{"$f":"A259+13","v":3367},{"$f":"B259+1","v":259},303667056,{"$f":"LOOKUP(A260,Data!A$21:A$6143,Data!G$21:G$6143)","v":303667000},56]
[3380,260,304839864,{"$f":"LOOKUP(A261,Data!A$21:A$6143,Data!G$21:G$6143)","v":304840120},-256]
[3393,261,306012672,{"$f":"LOOKUP(A262,Data!A$21:A$6143,Data!G$21:G$6143)","v":306010185},2487]
[3406,262,307185480,{"$f":"LOOKUP(A263,Data!A$21:A$6143,Data!G$21:G$6143)","v":307183305},2175]
[3419,263,308358288,{"$f":"LOOKUP(A264,Data!A$21:A$6143,Data!G$21:G$6143)","v":308356425},1863]
[3432,264,309531096,{"$f":"LOOKUP(A265,Data!A$21:A$6143,Data!G$21:G$6143)","v":309529545},1551]
[3445,265,310703904,{"$f":"LOOKUP(A266,Data!A$21:A$6143,Data!G$21:G$6143)","v":310702665},1239]
[3458,266,311876712,{"$f":"LOOKUP(A267,Data!A$21:A$6143,Data!G$21:G$6143)","v":311875785},927]
[3471,267,313049520,{"$f":"LOOKUP(A268,Data!A$21:A$6143,Data!G$21:G$6143)","v":313048905},615]
[3484,268,314222328,{"$f":"LOOKUP(A269,Data!A$21:A$6143,Data!G$21:G$6143)","v":314222025},303]
[3497,269,315395136,{"$f":"LOOKUP(A270,Data!A$21:A$6143,Data!G$21:G$6143)","v":315395145},-9]
[3510,270,316567944,{"$f":"LOOKUP(A271,Data!A$21:A$6143,Data!G$21:G$6143)","v":316568265},-321]
[3523,271,317740752,{"$f":"LOOKUP(A272,Data!A$21:A$6143,Data!G$21:G$6143)","v":317738330},2422]
[3536,272,318913560,{"$f":"LOOKUP(A273,Data!A$21:A$6143,Data!G$21:G$6143)","v":318911450},2110]
[3549,273,320086368,{"$f":"LOOKUP(A274,Data!A$21:A$6143,Data!G$21:G$6143)","v":320084570},1798]
[3562,274,321259176,{"$f":"LOOKUP(A275,Data!A$21:A$6143,Data!G$21:G$6143)","v":321257690},1486]
[3575,275,322431984,{"$f":"LOOKUP(A276,Data!A$21:A$6143,Data!G$21:G$6143)","v":322430810},1174]
[3588,276,323604792,{"$f":"LOOKUP(A277,Data!A$21:A$6143,Data!G$21:G$6143)","v":323603930},862]
[3601,277,324777600,{"$f":"LOOKUP(A278,Data!A$21:A$6143,Data!G$21:G$6143)","v":324777050},550]
[3614,278,325950408,{"$f":"LOOKUP(A279,Data!A$21:A$6143,Data!G$21:G$6143)","v":325950170},238]
[3627,279,327123216,{"$f":"LOOKUP(A280,Data!A$21:A$6143,Data!G$21:G$6143)","v":327123290},-74]
[3640,280,328296024,{"$f":"LOOKUP(A281,Data!A$21:A$6143,Data!G$21:G$6143)","v":328296410},-386]
[3653,281,329468832,{"$f":"LOOKUP(A282,Data!A$21:A$6143,Data!G$21:G$6143)","v":329466475},2357]
[3666,282,330641640,{"$f":"LOOKUP(A283,Data!A$21:A$6143,Data!G$21:G$6143)","v":330639595},2045]
[3679,283,331814448,{"$f":"LOOKUP(A284,Data!A$21:A$6143,Data!G$21:G$6143)","v":331812715},1733]
[3692,284,332987256,{"$f":"LOOKUP(A285,Data!A$21:A$6143,Data!G$21:G$6143)","v":332985835},1421]
[3705,285,334160064,{"$f":"LOOKUP(A286,Data!A$21:A$6143,Data!G$21:G$6143)","v":334158955},1109]
[3718,286,335332872,{"$f":"LOOKUP(A287,Data!A$21:A$6143,Data!G$21:G$6143)","v":335332075},797]
[3731,287,336505680,{"$f":"LOOKUP(A288,Data!A$21:A$6143,Data!G$21:G$6143)","v":336505195},485]
[3744,288,337678488,{"$f":"LOOKUP(A289,Data!A$21:A$6143,Data!G$21:G$6143)","v":337678315},173]
[3757,289,338851296,{"$f":"LOOKUP(A290,Data!A$21:A$6143,Data!G$21:G$6143)","v":338851435},-139]
[3770,290,340024104,{"$f":"LOOKUP(A291,Data!A$21:A$6143,Data!G$21:G$6143)","v":340024555},-451]
[3783,291,341196912,{"$f":"LOOKUP(A292,Data!A$21:A$6143,Data!G$21:G$6143)","v":341194620},2292]
[3796,292,342369720,{"$f":"LOOKUP(A293,Data!A$21:A$6143,Data!G$21:G$6143)","v":342367740},1980]
[3809,293,343542528,{"$f":"LOOKUP(A294,Data!A$21:A$6143,Data!G$21:G$6143)","v":343540860},1668]
[3822,294,344715336,{"$f":"LOOKUP(A295,Data!A$21:A$6143,Data!G$21:G$6143)","v":344713980},1356]
[3835,295,345888144,{"$f":"LOOKUP(A296,Data!A$21:A$6143,Data!G$21:G$6143)","v":345887100},1044]
[3848,296,347060952,{"$f":"LOOKUP(A297,Data!A$21:A$6143,Data!G$21:G$6143)","v":347060220},732]
[3861,297,348233760,{"$f":"LOOKUP(A298,Data!A$21:A$6143,Data!G$21:G$6143)","v":348233340},420]
[3874,298,349406568,{"$f":"LOOKUP(A299,Data!A$21:A$6143,Data!G$21:G$6143)","v":349406460},108]
[3887,299,350579376,{"$f":"LOOKUP(A300,Data!A$21:A$6143,Data!G$21:G$6143)","v":350579580},-204]
[3900,300,351752184,{"$f":"LOOKUP(A301,Data!A$21:A$6143,Data!G$21:G$6143)","v":351752700},-516]
[3913,301,352924992,{"$f":"LOOKUP(A302,Data!A$21:A$6143,Data!G$21:G$6143)","v":352922765},2227]
[3926,302,354097800,{"$f":"LOOKUP(A303,Data!A$21:A$6143,Data!G$21:G$6143)","v":354095885},1915]
[3939,303,355270608,{"$f":"LOOKUP(A304,Data!A$21:A$6143,Data!G$21:G$6143)","v":355269005},1603]
[3952,304,356443416,{"$f":"LOOKUP(A305,Data!A$21:A$6143,Data!G$21:G$6143)","v":356442125},1291]
[3965,305,357616224,{"$f":"LOOKUP(A306,Data!A$21:A$6143,Data!G$21:G$6143)","v":357615245},979]
[3978,306,358789032,{"$f":"LOOKUP(A307,Data!A$21:A$6143,Data!G$21:G$6143)","v":358788365},667]
[3991,307,359961840,{"$f":"LOOKUP(A308,Data!A$21:A$6143,Data!G$21:G$6143)","v":359961485},355]
[4004,308,361134648,{"$f":"LOOKUP(A309,Data!A$21:A$6143,Data!G$21:G$6143)","v":361134605},43]
[4017,309,362307456,{"$f":"LOOKUP(A310,Data!A$21:A$6143,Data!G$21:G$6143)","v":362307725},-269]
[4030,310,363480264,{"$f":"LOOKUP(A311,Data!A$21:A$6143,Data!G$21:G$6143)","v":363480845},-581]
[4043,311,364653072,{"$f":"LOOKUP(A312,Data!A$21:A$6143,Data!G$21:G$6143)","v":364650910},2162]
[4056,312,365825880,{"$f":"LOOKUP(A313,Data!A$21:A$6143,Data!G$21:G$6143)","v":365824030},1850]
[4069,313,366998688,{"$f":"LOOKUP(A314,Data!A$21:A$6143,Data!G$21:G$6143)","v":366997150},1538]
[4082,314,368171496,{"$f":"LOOKUP(A315,Data!A$21:A$6143,Data!G$21:G$6143)","v":368170270},1226]
[4095,315,369344304,{"$f":"LOOKUP(A316,Data!A$21:A$6143,Data!G$21:G$6143)","v":369343390},914]
[4108,316,370517112,{"$f":"LOOKUP(A317,Data!A$21:A$6143,Data!G$21:G$6143)","v":370516510},602]
[4121,317,371689920,{"$f":"LOOKUP(A318,Data!A$21:A$6143,Data!G$21:G$6143)","v":371689630},290]
[4134,318,372862728,{"$f":"LOOKUP(A319,Data!A$21:A$6143,Data!G$21:G$6143)","v":372862750},-22]
[4147,319,374035536,{"$f":"LOOKUP(A320,Data!A$21:A$6143,Data!G$21:G$6143)","v":374035870},-334]
[4160,320,375208344,{"$f":"LOOKUP(A321,Data!A$21:A$6143,Data!G$21:G$6143)","v":375208990},-646]
[4173,321,376381152,{"$f":"LOOKUP(A322,Data!A$21:A$6143,Data!G$21:G$6143)","v":376379055},{"$f":"C322-D322","v":2097}]
[4186,322,{"$f":"(A323-1)*PPM","v":377553960},{"$f":"LOOKUP(A323,Data!A$21:A$6143,Data!G$21:G$6143)","v":377552175},1785]
[{"$f":"A323+13","v":4199},{"$f":"B323+1","v":323},378726768,{"$f":"LOOKUP(A324,Data!A$21:A$6143,Data!G$21:G$6143)","v":378725295},1473]
[4212,324,379899576,{"$f":"LOOKUP(A325,Data!A$21:A$6143,Data!G$21:G$6143)","v":379898415},1161]
[4225,325,381072384,{"$f":"LOOKUP(A326,Data!A$21:A$6143,Data!G$21:G$6143)","v":381071535},849]
[4238,326,382245192,{"$f":"LOOKUP(A327,Data!A$21:A$6143,Data!G$21:G$6143)","v":382244655},537]
[4251,327,383418000,{"$f":"LOOKUP(A328,Data!A$21:A$6143,Data!G$21:G$6143)","v":383417775},225]
[4264,328,384590808,{"$f":"LOOKUP(A329,Data!A$21:A$6143,Data!G$21:G$6143)","v":384590895},-87]
[4277,329,385763616,{"$f":"LOOKUP(A330,Data!A$21:A$6143,Data!G$21:G$6143)","v":385764015},-399]
[4290,330,386936424,{"$f":"LOOKUP(A331,Data!A$21:A$6143,Data!G$21:G$6143)","v":386937135},-711]
[4303,331,388109232,{"$f":"LOOKUP(A332,Data!A$21:A$6143,Data!G$21:G$6143)","v":388107200},2032]
[4316,332,389282040,{"$f":"LOOKUP(A333,Data!A$21:A$6143,Data!G$21:G$6143)","v":389280320},1720]
[4329,333,390454848,{"$f":"LOOKUP(A334,Data!A$21:A$6143,Data!G$21:G$6143)","v":390453440},1408]
[4342,334,391627656,{"$f":"LOOKUP(A335,Data!A$21:A$6143,Data!G$21:G$6143)","v":391626560},1096]
[4355,335,392800464,{"$f":"LOOKUP(A336,Data!A$21:A$6143,Data!G$21:G$6143)","v":392799680},784]
[4368,336,393973272,{"$f":"LOOKUP(A337,Data!A$21:A$6143,Data!G$21:G$6143)","v":393972800},472]
[4381,337,395146080,{"$f":"LOOKUP(A338,Data!A$21:A$6143,Data!G$21:G$6143)","v":395145920},160]
[4394,338,396318888,{"$f":"LOOKUP(A339,Data!A$21:A$6143,Data!G$21:G$6143)","v":396319040},-152]
[4407,339,397491696,{"$f":"LOOKUP(A340,Data!A$21:A$6143,Data!G$21:G$6143)","v":397492160},-464]
[4420,340,398664504,{"$f":"LOOKUP(A341,Data!A$21:A$6143,Data!G$21:G$6143)","v":398665280},-776]
[4433,341,399837312,{"$f":"LOOKUP(A342,Data!A$21:A$6143,Data!G$21:G$6143)","v":399835345},1967]
[4446,342,401010120,{"$f":"LOOKUP(A343,Data!A$21:A$6143,Data!G$21:G$6143)","v":401008465},1655]
[4459,343,402182928,{"$f":"LOOKUP(A344,Data!A$21:A$6143,Data!G$21:G$6143)","v":402181585},1343]
[4472,344,403355736,{"$f":"LOOKUP(A345,Data!A$21:A$6143,Data!G$21:G$6143)","v":403354705},1031]
[4485,345,404528544,{"$f":"LOOKUP(A346,Data!A$21:A$6143,Data!G$21:G$6143)","v":404527825},719]
[4498,346,405701352,{"$f":"LOOKUP(A347,Data!A$21:A$6143,Data!G$21:G$6143)","v":405700945},407]
[4511,347,406874160,{"$f":"LOOKUP(A348,Data!A$21:A$6143,Data!G$21:G$6143)","v":406874065},95]
[4524,348,408046968,{"$f":"LOOKUP(A349,Data!A$21:A$6143,Data!G$21:G$6143)","v":408047185},-217]
[4537,349,409219776,{"$f":"LOOKUP(A350,Data!A$21:A$6143,Data!G$21:G$6143)","v":409220305},-529]
[4550,350,410392584,{"$f":"LOOKUP(A351,Data!A$21:A$6143,Data!G$21:G$6143)","v":410393425},-841]
[4563,351,411565392,{"$f":"LOOKUP(A352,Data!A$21:A$6143,Data!G$21:G$6143)","v":411563490},1902]
[4576,352,412738200,{"$f":"LOOKUP(A353,Data!A$21:A$6143,Data!G$21:G$6143)","v":412736610},1590]
[4589,353,413911008,{"$f":"LOOKUP(A354,Data!A$21:A$6143,Data!G$21:G$6143)","v":413909730},1278]
[4602,354,415083816,{"$f":"LOOKUP(A355,Data!A$21:A$6143,Data!G$21:G$6143)","v":415082850},966]
[4615,355,416256624,{"$f":"LOOKUP(A356,Data!A$21:A$6143,Data!G$21:G$6143)","v":416255970},654]
[4628,356,417429432,{"$f":"LOOKUP(A357,Data!A$21:A$6143,Data!G$21:G$6143)","v":417429090},342]
[4641,357,418602240,{"$f":"LOOKUP(A358,Data!A$21:A$6143,Data!G$21:G$6143)","v":418602210},30]
[4654,358,419775048,{"$f":"LOOKUP(A359,Data!A$21:A$6143,Data!G$21:G$6143)","v":419775330},-282]
[4667,359,420947856,{"$f":"LOOKUP(A360,Data!A$21:A$6143,Data!G$21:G$6143)","v":420948450},-594]
[4680,360,422120664,{"$f":"LOOKUP(A361,Data!A$21:A$6143,Data!G$21:G$6143)","v":422121570},-906]
[4693,361,423293472,{"$f":"LOOKUP(A362,Data!A$21:A$6143,Data!G$21:G$6143)","v":423291635},1837]
[4706,362,424466280,{"$f":"LOOKUP(A363,Data!A$21:A$6143,Data!G$21:G$6143)","v":424464755},1525]
[4719,363,425639088,{"$f":"LOOKUP(A364,Data!A$21:A$6143,Data!G$21:G$6143)","v":425637875},1213]
[4732,364,426811896,{"$f":"LOOKUP(A365,Data!A$21:A$6143,Data!G$21:G$6143)","v":426810995},901]
[4745,365,427984704,{"$f":"LOOKUP(A366,Data!A$21:A$6143,Data!G$21:G$6143)","v":427984115},589]
[4758,366,429157512,{"$f":"LOOKUP(A367,Data!A$21:A$6143,Data!G$21:G$6143)","v":429157235},277]
[4771,367,430330320,{"$f":"LOOKUP(A368,Data!A$21:A$6143,Data!G$21:G$6143)","v":430330355},-35]
[4784,368,431503128,{"$f":"LOOKUP(A369,Data!A$21:A$6143,Data!G$21:G$6143)","v":431503475},-347]
[4797,369,432675936,{"$f":"LOOKUP(A370,Data!A$21:A$6143,Data!G$21:G$6143)","v":432676595},-659]
[4810,370,433848744,{"$f":"LOOKUP(A371,Data!A$21:A$6143,Data!G$21:G$6143)","v":433849715},-971]
[4823,371,435021552,{"$f":"LOOKUP(A372,Data!A$21:A$6143,Data!G$21:G$6143)","v":435019780},1772]
[4836,372,436194360,{"$f":"LOOKUP(A373,Data!A$21:A$6143,Data!G$21:G$6143)","v":436192900},1460]
[4849,373,437367168,{"$f":"LOOKUP(A374,Data!A$21:A$6143,Data!G$21:G$6143)","v":437366020},1148]
[4862,374,438539976,{"$f":"LOOKUP(A375,Data!A$21:A$6143,Data!G$21:G$6143)","v":438539140},836]
[4875,375,439712784,{"$f":"LOOKUP(A376,Data!A$21:A$6143,Data!G$21:G$6143)","v":439712260},524]
[4888,376,440885592,{"$f":"LOOKUP(A377,Data!A$21:A$6143,Data!G$21:G$6143)","v":440885380},212]
[4901,377,442058400,{"$f":"LOOKUP(A378,Data!A$21:A$6143,Data!G$21:G$6143)","v":442058500},-100]
[4914,378,443231208,{"$f":"LOOKUP(A379,Data!A$21:A$6143,Data!G$21:G$6143)","v":443231620},-412]
[4927,379,444404016,{"$f":"LOOKUP(A380,Data!A$21:A$6143,Data!G$21:G$6143)","v":444404740},-724]
[4940,380,445576824,{"$f":"LOOKUP(A381,Data!A$21:A$6143,Data!G$21:G$6143)","v":445577860},-1036]
[4953,381,446749632,{"$f":"LOOKUP(A382,Data!A$21:A$6143,Data!G$21:G$6143)","v":446747925},1707]
[4966,382,447922440,{"$f":"LOOKUP(A383,Data!A$21:A$6143,Data!G$21:G$6143)","v":447921045},1395]
[4979,383,449095248,{"$f":"LOOKUP(A384,Data!A$21:A$6143,Data!G$21:G$6143)","v":449094165},1083]
[4992,384,450268056,{"$f":"LOOKUP(A385,Data!A$21:A$6143,Data!G$21:G$6143)","v":450267285},771]
[5005,385,451440864,{"$f":"LOOKUP(A386,Data!A$21:A$6143,Data!G$21:G$6143)","v":451440405},{"$f":"C386-D386","v":459}]
[5018,386,{"$f":"(A387-1)*PPM","v":452613672},{"$f":"LOOKUP(A387,Data!A$21:A$6143,Data!G$21:G$6143)","v":452613525},147]
[{"$f":"A387+13","v":5031},{"$f":"B387+1","v":387},453786480,{"$f":"LOOKUP(A388,Data!A$21:A$6143,Data!G$21:G$6143)","v":453786645},-165]
[5044,388,454959288,{"$f":"LOOKUP(A389,Data!A$21:A$6143,Data!G$21:G$6143)","v":454959765},-477]
[5057,389,456132096,{"$f":"LOOKUP(A390,Data!A$21:A$6143,Data!G$21:G$6143)","v":456132885},-789]
[5070,390,457304904,{"$f":"LOOKUP(A391,Data!A$21:A$6143,Data!G$21:G$6143)","v":457306005},-1101]
[5083,391,458477712,{"$f":"LOOKUP(A392,Data!A$21:A$6143,Data!G$21:G$6143)","v":458476070},1642]
[5096,392,459650520,{"$f":"LOOKUP(A393,Data!A$21:A$6143,Data!G$21:G$6143)","v":459649190},1330]
[5109,393,460823328,{"$f":"LOOKUP(A394,Data!A$21:A$6143,Data!G$21:G$6143)","v":460822310},1018]
[5122,394,461996136,{"$f":"LOOKUP(A395,Data!A$21:A$6143,Data!G$21:G$6143)","v":461995430},706]
[5135,395,463168944,{"$f":"LOOKUP(A396,Data!A$21:A$6143,Data!G$21:G$6143)","v":463168550},394]
[5148,396,464341752,{"$f":"LOOKUP(A397,Data!A$21:A$6143,Data!G$21:G$6143)","v":464341670},82]
[5161,397,465514560,{"$f":"LOOKUP(A398,Data!A$21:A$6143,Data!G$21:G$6143)","v":465514790},-230]
[5174,398,466687368,{"$f":"LOOKUP(A399,Data!A$21:A$6143,Data!G$21:G$6143)","v":466687910},-542]
[5187,399,467860176,{"$f":"LOOKUP(A400,Data!A$21:A$6143,Data!G$21:G$6143)","v":467861030},-854]
[5200,400,469032984,{"$f":"LOOKUP(A401,Data!A$21:A$6143,Data!G$21:G$6143)","v":469034150},-1166]
[5213,401,470205792,{"$f":"LOOKUP(A402,Data!A$21:A$6143,Data!G$21:G$6143)","v":470204215},1577]
[5226,402,471378600,{"$f":"LOOKUP(A403,Data!A$21:A$6143,Data!G$21:G$6143)","v":471377335},1265]
[5239,403,472551408,{"$f":"LOOKUP(A404,Data!A$21:A$6143,Data!G$21:G$6143)","v":472550455},953]
[5252,404,473724216,{"$f":"LOOKUP(A405,Data!A$21:A$6143,Data!G$21:G$6143)","v":473723575},641]
[5265,405,474897024,{"$f":"LOOKUP(A406,Data!A$21:A$6143,Data!G$21:G$6143)","v":474896695},329]
[5278,406,476069832,{"$f":"LOOKUP(A407,Data!A$21:A$6143,Data!G$21:G$6143)","v":476069815},17]
[5291,407,477242640,{"$f":"LOOKUP(A408,Data!A$21:A$6143,Data!G$21:G$6143)","v":477242935},-295]
[5304,408,478415448,{"$f":"LOOKUP(A409,Data!A$21:A$6143,Data!G$21:G$6143)","v":478416055},-607]
[5317,409,479588256,{"$f":"LOOKUP(A410,Data!A$21:A$6143,Data!G$21:G$6143)","v":479589175},-919]
[5330,410,480761064,{"$f":"LOOKUP(A411,Data!A$21:A$6143,Data!G$21:G$6143)","v":480762295},-1231]
[5343,411,481933872,{"$f":"LOOKUP(A412,Data!A$21:A$6143,Data!G$21:G$6143)","v":481932360},1512]
[5356,412,483106680,{"$f":"LOOKUP(A413,Data!A$21:A$6143,Data!G$21:G$6143)","v":483105480},1200]
[5369,413,484279488,{"$f":"LOOKUP(A414,Data!A$21:A$6143,Data!G$21:G$6143)","v":484278600},888]
[5382,414,485452296,{"$f":"LOOKUP(A415,Data!A$21:A$6143,Data!G$21:G$6143)","v":485451720},576]
[5395,415,486625104,{"$f":"LOOKUP(A416,Data!A$21:A$6143,Data!G$21:G$6143)","v":486624840},264]
[5408,416,487797912,{"$f":"LOOKUP(A417,Data!A$21:A$6143,Data!G$21:G$6143)","v":487797960},-48]
[5421,417,488970720,{"$f":"LOOKUP(A418,Data!A$21:A$6143,Data!G$21:G$6143)","v":488971080},-360]
[5434,418,490143528,{"$f":"LOOKUP(A419,Data!A$21:A$6143,Data!G$21:G$6143)","v":490144200},-672]
[5447,419,491316336,{"$f":"LOOKUP(A420,Data!A$21:A$6143,Data!G$21:G$6143)","v":491317320},-984]
[5460,420,492489144,{"$f":"LOOKUP(A421,Data!A$21:A$6143,Data!G$21:G$6143)","v":492490440},-1296]
[5473,421,493661952,{"$f":"LOOKUP(A422,Data!A$21:A$6143,Data!G$21:G$6143)","v":493660505},1447]
[5486,422,494834760,{"$f":"LOOKUP(A423,Data!A$21:A$6143,Data!G$21:G$6143)","v":494833625},1135]
[5499,423,496007568,{"$f":"LOOKUP(A424,Data!A$21:A$6143,Data!G$21:G$6143)","v":496006745},823]
[5512,424,497180376,{"$f":"LOOKUP(A425,Data!A$21:A$6143,Data!G$21:G$6143)","v":497179865},511]
[5525,425,498353184,{"$f":"LOOKUP(A426,Data!A$21:A$6143,Data!G$21:G$6143)","v":498352985},199]
[5538,426,499525992,{"$f":"LOOKUP(A427,Data!A$21:A$6143,Data!G$21:G$6143)","v":499526105},-113]
[5551,427,500698800,{"$f":"LOOKUP(A428,Data!A$21:A$6143,Data!G$21:G$6143)","v":500699225},-425]
[5564,428,501871608,{"$f":"LOOKUP(A429,Data!A$21:A$6143,Data!G$21:G$6143)","v":501872345},-737]
[5577,429,503044416,{"$f":"LOOKUP(A430,Data!A$21:A$6143,Data!G$21:G$6143)","v":503045465},-1049]
[5590,430,504217224,{"$f":"LOOKUP(A431,Data!A$21:A$6143,Data!G$21:G$6143)","v":504218585},-1361]
[5603,431,505390032,{"$f":"LOOKUP(A432,Data!A$21:A$6143,Data!G$21:G$6143)","v":505388650},1382]
[5616,432,506562840,{"$f":"LOOKUP(A433,Data!A$21:A$6143,Data!G$21:G$6143)","v":506561770},1070]
[5629,433,507735648,{"$f":"LOOKUP(A434,Data!A$21:A$6143,Data!G$21:G$6143)","v":507734890},758]
[5642,434,508908456,{"$f":"LOOKUP(A435,Data!A$21:A$6143,Data!G$21:G$6143)","v":508908010},446]
[5655,435,510081264,{"$f":"LOOKUP(A436,Data!A$21:A$6143,Data!G$21:G$6143)","v":510081130},134]
[5668,436,511254072,{"$f":"LOOKUP(A437,Data!A$21:A$6143,Data!G$21:G$6143)","v":511254250},-178]
[5681,437,512426880,{"$f":"LOOKUP(A438,Data!A$21:A$6143,Data!G$21:G$6143)","v":512427370},-490]
[5694,438,513599688,{"$f":"LOOKUP(A439,Data!A$21:A$6143,Data!G$21:G$6143)","v":513600490},-802]
[5707,439,514772496,{"$f":"LOOKUP(A440,Data!A$21:A$6143,Data!G$21:G$6143)","v":514773610},-1114]
[5720,440,515945304,{"$f":"LOOKUP(A441,Data!A$21:A$6143,Data!G$21:G$6143)","v":515946730},-1426]
[5733,441,517118112,{"$f":"LOOKUP(A442,Data!A$21:A$6143,Data!G$21:G$6143)","v":517116795},1317]
[5746,442,518290920,{"$f":"LOOKUP(A443,Data!A$21:A$6143,Data!G$21:G$6143)","v":518289915},1005]
[5759,443,519463728,{"$f":"LOOKUP(A444,Data!A$21:A$6143,Data!G$21:G$6143)","v":519463035},693]
[5772,444,520636536,{"$f":"LOOKUP(A445,Data!A$21:A$6143,Data!G$21:G$6143)","v":520636155},381]
[5785,445,521809344,{"$f":"LOOKUP(A446,Data!A$21:A$6143,Data!G$21:G$6143)","v":521809275},69]
[5798,446,522982152,{"$f":"LOOKUP(A447,Data!A$21:A$6143,Data!G$21:G$6143)","v":522982395},-243]
[5811,447,524154960,{"$f":"LOOKUP(A448,Data!A$21:A$6143,Data!G$21:G$6143)","v":524155515},-555]
[5824,448,525327768,{"$f":"LOOKUP(A449,Data!A$21:A$6143,Data!G$21:G$6143)","v":525328635},-867]
[5837,449,526500576,{"$f":"LOOKUP(A450,Data!A$21:A$6143,Data!G$21:G$6143)","v":526501755},{"$f":"C450-D450","v":-1179}]
[5850,450,{"$f":"(A451-1)*PPM","v":527673384},{"$f":"LOOKUP(A451,Data!A$21:A$6143,Data!G$21:G$6143)","v":527674875},-1491]
[{"$f":"A451+13","v":5863},{"$f":"B451+1","v":451},528846192,{"$f":"LOOKUP(A452,Data!A$21:A$6143,Data!G$21:G$6143)","v":528844940},1252]
[5876,452,530019000,{"$f":"LOOKUP(A453,Data!A$21:A$6143,Data!G$21:G$6143)","v":530018060},940]
[5889,453,531191808,{"$f":"LOOKUP(A454,Data!A$21:A$6143,Data!G$21:G$6143)","v":531191180},628]
[5902,454,532364616,{"$f":"LOOKUP(A455,Data!A$21:A$6143,Data!G$21:G$6143)","v":532364300},316]
[5915,455,533537424,{"$f":"LOOKUP(A456,Data!A$21:A$6143,Data!G$21:G$6143)","v":533537420},4]
[5928,456,534710232,{"$f":"LOOKUP(A457,Data!A$21:A$6143,Data!G$21:G$6143)","v":534710540},-308]
[5941,457,535883040,{"$f":"LOOKUP(A458,Data!A$21:A$6143,Data!G$21:G$6143)","v":535883660},-620]
[5954,458,537055848,{"$f":"LOOKUP(A459,Data!A$21:A$6143,Data!G$21:G$6143)","v":537056780},-932]
[5967,459,538228656,{"$f":"LOOKUP(A460,Data!A$21:A$6143,Data!G$21:G$6143)","v":538229900},-1244]
[5980,460,539401464,{"$f":"LOOKUP(A461,Data!A$21:A$6143,Data!G$21:G$6143)","v":539403020},-1556]
[5993,461,540574272,{"$f":"LOOKUP(A462,Data!A$21:A$6143,Data!G$21:G$6143)","v":540573085},1187]
[6006,462,541747080,{"$f":"LOOKUP(A463,Data!A$21:A$6143,Data!G$21:G$6143)","v":541746205},875]
[6019,463,542919888,{"$f":"LOOKUP(A464,Data!A$21:A$6143,Data!G$21:G$6143)","v":542919325},563]
[6032,464,544092696,{"$f":"LOOKUP(A465,Data!A$21:A$6143,Data!G$21:G$6143)","v":544092445},251]
[6045,465,545265504,{"$f":"LOOKUP(A466,Data!A$21:A$6143,Data!G$21:G$6143)","v":545265565},-61]
[6058,466,546438312,{"$f":"LOOKUP(A467,Data!A$21:A$6143,Data!G$21:G$6143)","v":546438685},-373]
[6071,467,547611120,{"$f":"LOOKUP(A468,Data!A$21:A$6143,Data!G$21:G$6143)","v":547611805},-685]
[6084,468,548783928,{"$f":"LOOKUP(A469,Data!A$21:A$6143,Data!G$21:G$6143)","v":548784925},-997]
[6097,469,549956736,{"$f":"LOOKUP(A470,Data!A$21:A$6143,Data!G$21:G$6143)","v":549958045},-1309]
[6110,470,551129544,{"$f":"LOOKUP(A471,Data!A$21:A$6143,Data!G$21:G$6143)","v":551131165},-1621]
[6123,471,552302352,{"$f":"LOOKUP(A472,Data!A$21:A$6143,Data!G$21:G$6143)","v":552301230},1122]

{"sheet":"Years2","index":3,"n_rows":472,"n_cols":5,"rows_kept":472}
["Month in Cycle","Lunar Year","New Year Moment","Elapsed","Difference"]
[{"$f":"StartMonth2","v":2},1,{"$f":"(A2-1)*PPM","v":90216},{"$f":"LOOKUP(A2,Data!A$21:A$6143,Data!G$21:G$6143)","v":91650},{"$f":"C2-D2","v":-1434}]
[{"$f":"A2+13","v":15},{"$f":"B2+1","v":2},1263024,{"$f":"LOOKUP(A3,Data!A$21:A$6143,Data!G$21:G$6143)","v":1264770},-1746]
[28,3,2435832,{"$f":"LOOKUP(A4,Data!A$21:A$6143,Data!G$21:G$6143)","v":2437890},-2058]
[41,4,3608640,{"$f":"LOOKUP(A5,Data!A$21:A$6143,Data!G$21:G$6143)","v":3611010},-2370]
[54,5,4781448,{"$f":"LOOKUP(A6,Data!A$21:A$6143,Data!G$21:G$6143)","v":4784130},-2682]
[67,6,5954256,{"$f":"LOOKUP(A7,Data!A$21:A$6143,Data!G$21:G$6143)","v":5957250},-2994]
[80,7,7127064,{"$f":"LOOKUP(A8,Data!A$21:A$6143,Data!G$21:G$6143)","v":7130370},-3306]
[93,8,8299872,{"$f":"LOOKUP(A9,Data!A$21:A$6143,Data!G$21:G$6143)","v":8303490},-3618]
[106,9,9472680,{"$f":"LOOKUP(A10,Data!A$21:A$6143,Data!G$21:G$6143)","v":9476610},-3930]
[119,10,10645488,{"$f":"LOOKUP(A11,Data!A$21:A$6143,Data!G$21:G$6143)","v":10649730},-4242]
[132,11,11818296,{"$f":"LOOKUP(A12,Data!A$21:A$6143,Data!G$21:G$6143)","v":11819795},-1499]
[145,12,12991104,{"$f":"LOOKUP(A13,Data!A$21:A$6143,Data!G$21:G$6143)","v":12992915},-1811]
[158,13,14163912,{"$f":"LOOKUP(A14,Data!A$21:A$6143,Data!G$21:G$6143)","v":14166035},-2123]
[171,14,15336720,{"$f":"LOOKUP(A15,Data!A$21:A$6143,Data!G$21:G$6143)","v":15339155},-2435]
[184,15,16509528,{"$f":"LOOKUP(A16,Data!A$21:A$6143,Data!G$21:G$6143)","v":16512275},-2747]
[197,16,17682336,{"$f":"LOOKUP(A17,Data!A$21:A$6143,Data!G$21:G$6143)","v":17685395},-3059]
[210,17,18855144,{"$f":"LOOKUP(A18,Data!A$21:A$6143,Data!G$21:G$6143)","v":18858515},-3371]
[223,18,20027952,{"$f":"LOOKUP(A19,Data!A$21:A$6143,Data!G$21:G$6143)","v":20031635},-3683]
[236,19,21200760,{"$f":"LOOKUP(A20,Data!A$21:A$6143,Data!G$21:G$6143)","v":21204755},-3995]
[249,20,22373568,{"$f":"LOOKUP(A21,Data!A$21:A$6143,Data!G$21:G$6143)","v":22377875},-4307]
[262,21,23546376,{"$f":"LOOKUP(A22,Data!A$21:A$6143,Data!G$21:G$6143)","v":23547940},-1564]
[275,22,24719184,{"$f":"LOOKUP(A23,Data!A$21:A$6143,Data!G$21:G$6143)","v":24721060},-1876]
[288,23,25891992,{"$f":"LOOKUP(A24,Data!A$21:A$6143,Data!G$21:G$6143)","v":25894180},-2188]
[301,24,27064800,{"$f":"LOOKUP(A25,Data!A$21:A$6143,Data!G$21:G$6143)","v":27067300},-2500]
[314,25,28237608,{"$f":"LOOKUP(A26,Data!A$21:A$6143,Data!G$21:G$6143)","v":28240420},-2812]
[327,26,29410416,{"$f":"LOOKUP(A27,Data!A$21:A$6143,Data!G$21:G$6143)","v":29413540},-3124]
[340,27,30583224,{"$f":"LOOKUP(A28,Data!A$21:A$6143,Data!G$21:G$6143)","v":30586660},-3436]
[353,28,31756032,{"$f":"LOOKUP(A29,Data!A$21:A$6143,Data!G$21:G$6143)","v":31759780},-3748]
[366,29,32928840,{"$f":"LOOKUP(A30,Data!A$21:A$6143,Data!G$21:G$6143)","v":32932900},-4060]
[379,30,34101648,{"$f":"LOOKUP(A31,Data!A$21:A$6143,Data!G$21:G$6143)","v":34106020},-4372]
[392,31,35274456,{"$f":"LOOKUP(A32,Data!A$21:A$6143,Data!G$21:G$6143)","v":35276085},-1629]
[405,32,36447264,{"$f":"LOOKUP(A33,Data!A$21:A$6143,Data!G$21:G$6143)","v":36449205},-1941]
[418,33,37620072,{"$f":"LOOKUP(A34,Data!A$21:A$6143,Data!G$21:G$6143)","v":37622325},-2253]
[431,34,38792880,{"$f":"LOOKUP(A35,Data!A$21:A$6143,Data!G$21:G$6143)","v":38795445},-2565]
[444,35,39965688,{"$f":"LOOKUP(A36,Data!A$21:A$6143,Data!G$21:G$6143)","v":39968565},-2877]
[457,36,41138496,{"$f":"LOOKUP(A37,Data!A$21:A$6143,Data!G$21:G$6143)","v":41141685},-3189]
[470,37,42311304,{"$f":"LOOKUP(A38,Data!A$21:A$6143,Data!G$21:G$6143)","v":42314805},-3501]
[483,38,43484112,{"$f":"LOOKUP(A39,Data!A$21:A$6143,Data!G$21:G$6143)","v":43487925},-3813]
[496,39,44656920,{"$f":"LOOKUP(A40,Data!A$21:A$6143,Data!G$21:G$6143)","v":44661045},-4125]
[509,40,45829728,{"$f":"LOOKUP(A41,Data!A$21:A$6143,Data!G$21:G$6143)","v":45834165},-4437]
[522,41,47002536,{"$f":"LOOKUP(A42,Data!A$21:A$6143,Data!G$21:G$6143)","v":47004230},-1694]
[535,42,48175344,{"$f":"LOOKUP(A43,Data!A$21:A$6143,Data!G$21:G$6143)","v":48177350},-2006]
[548,43,49348152,{"$f":"LOOKUP(A44,Data!A$21:A$6143,Data!G$21:G$6143)","v":49350470},-2318]
[561,44,50520960,{"$f":"LOOKUP(A45,Data!A$21:A$6143,Data!G$21:G$6143)","v":50523590},-2630]
[574,45,51693768,{"$f":"LOOKUP(A46,Data!A$21:A$6143,Data!G$21:G$6143)","v":51696710},-2942]
[587,46,52866576,{"$f":"LOOKUP(A47,Data!A$21:A$6143,Data!G$21:G$6143)","v":52869830},-3254]
[600,47,54039384,{"$f":"LOOKUP(A48,Data!A$21:A$6143,Data!G$21:G$6143)","v":54042950},-3566]
[613,48,55212192,{"$f":"LOOKUP(A49,Data!A$21:A$6143,Data!G$21:G$6143)","v":55216070},-3878]
[626,49,56385000,{"$f":"LOOKUP(A50,Data!A$21:A$6143,Data!G$21:G$6143)","v":56389190},-4190]
[639,50,57557808,{"$f":"LOOKUP(A51,Data!A$21:A$6143,Data!G$21:G$6143)","v":57562310},-4502]
[652,51,58730616,{"$f":"LOOKUP(A52,Data!A$21:A$6143,Data!G$21:G$6143)","v":58732375},-1759]
[665,52,59903424,{"$f":"LOOKUP(A53,Data!A$21:A$6143,Data!G$21:G$6143)","v":59905495},-2071]
[678,53,61076232,{"$f":"LOOKUP(A54,Data!A$21:A$6143,Data!G$21:G$6143)","v":61078615},-2383]
[691,54,62249040,{"$f":"LOOKUP(A55,Data!A$21:A$6143,Data!G$21:G$6143)","v":62251735},-2695]
[704,55,63421848,{"$f":"LOOKUP(A56,Data!A$21:A$6143,Data!G$21:G$6143)","v":63424855},-3007]
[717,56,64594656,{"$f":"LOOKUP(A57,Data!A$21:A$6143,Data!G$21:G$6143)","v":64597975},-3319]
[730,57,65767464,{"$f":"LOOKUP(A58,Data!A$21:A$6143,Data!G$21:G$6143)","v":65771095},-3631]
[743,58,66940272,{"$f":"LOOKUP(A59,Data!A$21:A$6143,Data!G$21:G$6143)","v":66944215},-3943]
[756,59,68113080,{"$f":"LOOKUP(A60,Data!A$21:A$6143,Data!G$21:G$6143)","v":68117335},-4255]
[769,60,69285888,{"$f":"LOOKUP(A61,Data!A$21:A$6143,Data!G$21:G$6143)","v":69290455},-4567]
[782,61,70458696,{"$f":"LOOKUP(A62,Data!A$21:A$6143,Data!G$21:G$6143)","v":70460520},-1824]
[795,62,71631504,{"$f":"LOOKUP(A63,Data!A$21:A$6143,Data!G$21:G$6143)","v":71633640},-2136]
[808,63,72804312,{"$f":"LOOKUP(A64,Data!A$21:A$6143,Data!G$21:G$6143)","v":72806760},-2448]
[821,64,73977120,{"$f":"LOOKUP(A65,Data!A$21:A$6143,Data!G$21:G$6143)","v":73979880},-2760]
[834,65,{"$f":"(A66-1)*PPM","v":75149928},{"$f":"LOOKUP(A66,Data!A$21:A$6143,Data!G$21:G$6143)","v":75153000},{"$f":"C66-D66","v":-3072}]
[{"$f":"A66+13","v":847},{"$f":"B66+1","v":66},76322736,{"$f":"LOOKUP(A67,Data!A$21:A$6143,Data!G$21:G$6143)","v":76326120},-3384]
[860,67,77495544,{"$f":"LOOKUP(A68,Data!A$21:A$6143,Data!G$21:G$6143)","v":77499240},-3696]
[873,68,78668352,{"$f":"LOOKUP(A69,Data!A$21:A$6143,Data!G$21:G$6143)","v":78672360},-4008]
[886,69,79841160,{"$f":"LOOKUP(A70,Data!A$21:A$6143,Data!G$21:G$6143)","v":79845480},-4320]
[899,70,81013968,{"$f":"LOOKUP(A71,Data!A$21:A$6143,Data!G$21:G$6143)","v":81018600},-4632]
[912,71,82186776,{"$f":"LOOKUP(A72,Data!A$21:A$6143,Data!G$21:G$6143)","v":82188665},-1889]
[925,72,83359584,{"$f":"LOOKUP(A73,Data!A$21:A$6143,Data!G$21:G$6143)","v":83361785},-2201]
[938,73,84532392,{"$f":"LOOKUP(A74,Data!A$21:A$6143,Data!G$21:G$6143)","v":84534905},-2513]
[951,74,85705200,{"$f":"LOOKUP(A75,Data!A$21:A$6143,Data!G$21:G$6143)","v":85708025},-2825]
[964,75,86878008,{"$f":"LOOKUP(A76,Data!A$21:A$6143,Data!G$21:G$6143)","v":86881145},-3137]
[977,76,88050816,{"$f":"LOOKUP(A77,Data!A$21:A$6143,Data!G$21:G$6143)","v":88054265},-3449]
[990,77,89223624,{"$f":"LOOKUP(A78,Data!A$21:A$6143,Data!G$21:G$6143)","v":89227385},-3761]
[1003,78,90396432,{"$f":"LOOKUP(A79,Data!A$21:A$6143,Data!G$21:G$6143)","v":90400505},-4073]
[1016,79,91569240,{"$f":"LOOKUP(A80,Data!A$21:A$6143,Data!G$21:G$6143)","v":91573625},-4385]
[1029,80,92742048,{"$f":"LOOKUP(A81,Data!A$21:A$6143,Data!G$21:G$6143)","v":92746745},-4697]
[1042,81,93914856,{"$f":"LOOKUP(A82,Data!A$21:A$6143,Data!G$21:G$6143)","v":93916810},-1954]
[1055,82,95087664,{"$f":"LOOKUP(A83,Data!A$21:A$6143,Data!G$21:G$6143)","v":95089930},-2266]
[1068,83,96260472,{"$f":"LOOKUP(A84,Data!A$21:A$6143,Data!G$21:G$6143)","v":96263050},-2578]
[1081,84,97433280,{"$f":"LOOKUP(A85,Data!A$21:A$6143,Data!G$21:G$6143)","v":97436170},-2890]
[1094,85,98606088,{"$f":"LOOKUP(A86,Data!A$21:A$6143,Data!G$21:G$6143)","v":98609290},-3202]
[1107,86,99778896,{"$f":"LOOKUP(A87,Data!A$21:A$6143,Data!G$21:G$6143)","v":99782410},-3514]
[1120,87,100951704,{"$f":"LOOKUP(A88,Data!A$21:A$6143,Data!G$21:G$6143)","v":100955530},-3826]
[1133,88,102124512,{"$f":"LOOKUP(A89,Data!A$21:A$6143,Data!G$21:G$6143)","v":102128650},-4138]
[1146,89,103297320,{"$f":"LOOKUP(A90,Data!A$21:A$6143,Data!G$21:G$6143)","v":103301770},-4450]
[1159,90,104470128,{"$f":"LOOKUP(A91,Data!A$21:A$6143,Data!G$21:G$6143)","v":104474890},-4762]
[1172,91,105642936,{"$f":"LOOKUP(A92,Data!A$21:A$6143,Data!G$21:G$6143)","v":105644955},-2019]
[1185,92,106815744,{"$f":"LOOKUP(A93,Data!A$21:A$6143,Data!G$21:G$6143)","v":106818075},-2331]
[1198,93,107988552,{"$f":"LOOKUP(A94,Data!A$21:A$6143,Data!G$21:G$6143)","v":107991195},-2643]
[1211,94,109161360,{"$f":"LOOKUP(A95,Data!A$21:A$6143,Data!G$21:G$6143)","v":109164315},-2955]
[1224,95,110334168,{"$f":"LOOKUP(A96,Data!A$21:A$6143,Data!G$21:G$6143)","v":110337435},-3267]
[1237,96,111506976,{"$f":"LOOKUP(A97,Data!A$21:A$6143,Data!G$21:G$6143)","v":111510555},-3579]
[1250,97,112679784,{"$f":"LOOKUP(A98,Data!A$21:A$6143,Data!G$21:G$6143)","v":112683675},-3891]
[1263,98,113852592,{"$f":"LOOKUP(A99,Data!A$21:A$6143,Data!G$21:G$6143)","v":113856795},-4203]
[1276,99,115025400,{"$f":"LOOKUP(A100,Data!A$21:A$6143,Data!G$21:G$6143)","v":115029915},-4515]
[1289,100,116198208,{"$f":"LOOKUP(A101,Data!A$21:A$6143,Data!G$21:G$6143)","v":116203035},-4827]
[1302,101,117371016,{"$f":"LOOKUP(A102,Data!A$21:A$6143,Data!G$21:G$6143)","v":117373100},-2084]
[1315,102,118543824,{"$f":"LOOKUP(A103,Data!A$21:A$6143,Data!G$21:G$6143)","v":118546220},-2396]
[1328,103,119716632,{"$f":"LOOKUP(A104,Data!A$21:A$6143,Data!G$21:G$6143)","v":119719340},-2708]
[1341,104,120889440,{"$f":"LOOKUP(A105,Data!A$21:A$6143,Data!G$21:G$6143)","v":120892460},-3020]
[1354,105,122062248,{"$f":"LOOKUP(A106,Data!A$21:A$6143,Data!G$21:G$6143)","v":122065580},-3332]
[1367,106,123235056,{"$f":"LOOKUP(A107,Data!A$21:A$6143,Data!G$21:G$6143)","v":123238700},-3644]
[1380,107,124407864,{"$f":"LOOKUP(A108,Data!A$21:A$6143,Data!G$21:G$6143)","v":124411820},-3956]
[1393,108,125580672,{"$f":"LOOKUP(A109,Data!A$21:A$6143,Data!G$21:G$6143)","v":125584940},-4268]
[1406,109,126753480,{"$f":"LOOKUP(A110,Data!A$21:A$6143,Data!G$21:G$6143)","v":126758060},-4580]
[1419,110,127926288,{"$f":"LOOKUP(A111,Data!A$21:A$6143,Data!G$21:G$6143)","v":127931180},-4892]
[1432,111,129099096,{"$f":"LOOKUP(A112,Data!A$21:A$6143,Data!G$21:G$6143)","v":129101245},-2149]
[1445,112,130271904,{"$f":"LOOKUP(A113,Data!A$21:A$6143,Data!G$21:G$6143)","v":130274365},-2461]
[1458,113,131444712,{"$f":"LOOKUP(A114,Data!A$21:A$6143,Data!G$21:G$6143)","v":131447485},-2773]
[1471,114,132617520,{"$f":"LOOKUP(A115,Data!A$21:A$6143,Data!G$21:G$6143)","v":132620605},-3085]
[1484,115,133790328,{"$f":"LOOKUP(A116,Data!A$21:A$6143,Data!G$21:G$6143)","v":133793725},-3397]
[1497,116,134963136,{"$f":"LOOKUP(A117,Data!A$21:A$6143,Data!G$21:G$6143)","v":134966845},-3709]
[1510,117,136135944,{"$f":"LOOKUP(A118,Data!A$21:A$6143,Data!G$21:G$6143)","v":136139965},-4021]
[1523,118,137308752,{"$f":"LOOKUP(A119,Data!A$21:A$6143,Data!G$21:G$6143)","v":137313085},-4333]
[1536,119,138481560,{"$f":"LOOKUP(A120,Data!A$21:A$6143,Data!G$21:G$6143)","v":138486205},-4645]
[1549,120,139654368,{"$f":"LOOKUP(A121,Data!A$21:A$6143,Data!G$21:G$6143)","v":139659325},-4957]
[1562,121,140827176,{"$f":"LOOKUP(A122,Data!A$21:A$6143,Data!G$21:G$6143)","v":140829390},-2214]
[1575,122,141999984,{"$f":"LOOKUP(A123,Data!A$21:A$6143,Data!G$21:G$6143)","v":142002510},-2526]
[1588,123,143172792,{"$f":"LOOKUP(A124,Data!A$21:A$6143,Data!G$21:G$6143)","v":143175630},-2838]
[1601,124,144345600,{"$f":"LOOKUP(A125,Data!A$21:A$6143,Data!G$21:G$6143)","v":144348750},-3150]
[1614,125,145518408,{"$f":"LOOKUP(A126,Data!A$21:A$6143,Data!G$21:G$6143)","v":145521870},-3462]
[1627,126,146691216,{"$f":"LOOKUP(A127,Data!A$21:A$6143,Data!G$21:G$6143)","v":146694990},-3774]
[1640,127,147864024,{"$f":"LOOKUP(A128,Data!A$21:A$6143,Data!G$21:G$6143)","v":147868110},-4086]
[1653,128,149036832,{"$f":"LOOKUP(A129,Data!A$21:A$6143,Data!G$21:G$6143)","v":149041230},-4398]
[1666,129,{"$f":"(A130-1)*PPM","v":150209640},{"$f":"LOOKUP(A130,Data!A$21:A$6143,Data!G$21:G$6143)","v":150214350},{"$f":"C130-D130","v":-4710}]
[{"$f":"A130+13","v":1679},{"$f":"B130+1","v":130},151382448,{"$f":"LOOKUP(A131,Data!A$21:A$6143,Data!G$21:G$6143)","v":151387470},-5022]
[1692,131,152555256,{"$f":"LOOKUP(A132,Data!A$21:A$6143,Data!G$21:G$6143)","v":152557535},-2279]
[1705,132,153728064,{"$f":"LOOKUP(A133,Data!A$21:A$6143,Data!G$21:G$6143)","v":153730655},-2591]
[1718,133,154900872,{"$f":"LOOKUP(A134,Data!A$21:A$6143,Data!G$21:G$6143)","v":154903775},-2903]
[1731,134,156073680,{"$f":"LOOKUP(A135,Data!A$21:A$6143,Data!G$21:G$6143)","v":156076895},-3215]
[1744,135,157246488,{"$f":"LOOKUP(A136,Data!A$21:A$6143,Data!G$21:G$6143)","v":157250015},-3527]
[1757,136,158419296,{"$f":"LOOKUP(A137,Data!A$21:A$6143,Data!G$21:G$6143)","v":158423135},-3839]
[1770,137,159592104,{"$f":"LOOKUP(A138,Data!A$21:A$6143,Data!G$21:G$6143)","v":159596255},-4151]
[1783,138,160764912,{"$f":"LOOKUP(A139,Data!A$21:A$6143,Data!G$21:G$6143)","v":160769375},-4463]
[1796,139,161937720,{"$f":"LOOKUP(A140,Data!A$21:A$6143,Data!G$21:G$6143)","v":161942495},-4775]
[1809,140,163110528,{"$f":"LOOKUP(A141,Data!A$21:A$6143,Data!G$21:G$6143)","v":163115615},-5087]
[1822,141,164283336,{"$f":"LOOKUP(A142,Data!A$21:A$6143,Data!G$21:G$6143)","v":164285680},-2344]
[1835,142,165456144,{"$f":"LOOKUP(A143,Data!A$21:A$6143,Data!G$21:G$6143)","v":165458800},-2656]
[1848,143,166628952,{"$f":"LOOKUP(A144,Data!A$21:A$6143,Data!G$21:G$6143)","v":166631920},-2968]
[1861,144,167801760,{"$f":"LOOKUP(A145,Data!A$21:A$6143,Data!G$21:G$6143)","v":167805040},-3280]
[1874,145,168974568,{"$f":"LOOKUP(A146,Data!A$21:A$6143,Data!G$21:G$6143)","v":168978160},-3592]
[1887,146,170147376,{"$f":"LOOKUP(A147,Data!A$21:A$6143,Data!G$21:G$6143)","v":170151280},-3904]
[1900,147,171320184,{"$f":"LOOKUP(A148,Data!A$21:A$6143,Data!G$21:G$6143)","v":171324400},-4216]
[1913,148,172492992,{"$f":"LOOKUP(A149,Data!A$21:A$6143,Data!G$21:G$6143)","v":172497520},-4528]
[1926,149,173665800,{"$f":"LOOKUP(A150,Data!A$21:A$6143,Data!G$21:G$6143)","v":173670640},-4840]
[1939,150,174838608,{"$f":"LOOKUP(A151,Data!A$21:A$6143,Data!G$21:G$6143)","v":174843760},-5152]
[1952,151,176011416,{"$f":"LOOKUP(A152,Data!A$21:A$6143,Data!G$21:G$6143)","v":176013825},-2409]
[1965,152,177184224,{"$f":"LOOKUP(A153,Data!A$21:A$6143,Data!G$21:G$6143)","v":177186945},-2721]
[1978,153,178357032,{"$f":"LOOKUP(A154,Data!A$21:A$6143,Data!G$21:G$6143)","v":178360065},-3033]
[1991,154,179529840,{"$f":"LOOKUP(A155,Data!A$21:A$6143,Data!G$21:G$6143)","v":179533185},-3345]
[2004,155,180702648,{"$f":"LOOKUP(A156,Data!A$21:A$6143,Data!G$21:G$6143)","v":180706305},-3657]
[2017,156,181875456,{"$f":"LOOKUP(A157,Data!A$21:A$6143,Data!G$21:G$6143)","v":181879425},-3969]
[2030,157,183048264,{"$f":"LOOKUP(A158,Data!A$21:A$6143,Data!G$21:G$6143)","v":183052545},-4281]
[2043,158,184221072,{"$f":"LOOKUP(A159,Data!A$21:A$6143,Data!G$21:G$6143)","v":184225665},-4593]
[2056,159,185393880,{"$f":"LOOKUP(A160,Data!A$21:A$6143,Data!G$21:G$6143)","v":185398785},-4905]
[2069,160,186566688,{"$f":"LOOKUP(A161,Data!A$21:A$6143,Data!G$21:G$6143)","v":186571905},-5217]
[2082,161,187739496,{"$f":"LOOKUP(A162,Data!A$21:A$6143,Data!G$21:G$6143)","v":187741970},-2474]
[2095,162,188912304,{"$f":"LOOKUP(A163,Data!A$21:A$6143,Data!G$21:G$6143)","v":188915090},-2786]
[2108,163,190085112,{"$f":"LOOKUP(A164,Data!A$21:A$6143,Data!G$21:G$6143)","v":190088210},-3098]
[2121,164,191257920,{"$f":"LOOKUP(A165,Data!A$21:A$6143,Data!G$21:G$6143)","v":191261330},-3410]
[2134,165,192430728,{"$f":"LOOKUP(A166,Data!A$21:A$6143,Data!G$21:G$6143)","v":192434450},-3722]
[2147,166,193603536,{"$f":"LOOKUP(A167,Data!A$21:A$6143,Data!G$21:G$6143)","v":193607570},-4034]
[2160,167,194776344,{"$f":"LOOKUP(A168,Data!A$21:A$6143,Data!G$21:G$6143)","v":194780690},-4346]
[2173,168,195949152,{"$f":"LOOKUP(A169,Data!A$21:A$6143,Data!G$21:G$6143)","v":195953810},-4658]
[2186,169,197121960,{"$f":"LOOKUP(A170,Data!A$21:A$6143,Data!G$21:G$6143)","v":197126930},-4970]
[2199,170,198294768,{"$f":"LOOKUP(A171,Data!A$21:A$6143,Data!G$21:G$6143)","v":198300050},-5282]
[2212,171,199467576,{"$f":"LOOKUP(A172,Data!A$21:A$6143,Data!G$21:G$6143)","v":199470115},-2539]
[2225,172,200640384,{"$f":"LOOKUP(A173,Data!A$21:A$6143,Data!G$21:G$6143)","v":200643235},-2851]
[2238,173,201813192,{"$f":"LOOKUP(A174,Data!A$21:A$6143,Data!G$21:G$6143)","v":201816355},-3163]
[2251,174,202986000,{"$f":"LOOKUP(A175,Data!A$21:A$6143,Data!G$21:G$6143)","v":202989475},-3475]
[2264,175,204158808,{"$f":"LOOKUP(A176,Data!A$21:A$6143,Data!G$21:G$6143)","v":204162595},-3787]
[2277,176,205331616,{"$f":"LOOKUP(A177,Data!A$21:A$6143,Data!G$21:G$6143)","v":205335715},-4099]
[2290,177,206504424,{"$f":"LOOKUP(A178,Data!A$21:A$6143,Data!G$21:G$6143)","v":206508835},-4411]
[2303,178,207677232,{"$f":"LOOKUP(A179,Data!A$21:A$6143,Data!G$21:G$6143)","v":207681955},-4723]
[2316,179,208850040,{"$f":"LOOKUP(A180,Data!A$21:A$6143,Data!G$21:G$6143)","v":208855075},-5035]
[2329,180,210022848,{"$f":"LOOKUP(A181,Data!A$21:A$6143,Data!G$21:G$6143)","v":210028195},-5347]
[2342,181,211195656,{"$f":"LOOKUP(A182,Data!A$21:A$6143,Data!G$21:G$6143)","v":211198260},-2604]
[2355,182,212368464,{"$f":"LOOKUP(A183,Data!A$21:A$6143,Data!G$21:G$6143)","v":212371380},-2916]
[2368,183,213541272,{"$f":"LOOKUP(A184,Data!A$21:A$6143,Data!G$21:G$6143)","v":213544500},-3228]
[2381,184,214714080,{"$f":"LOOKUP(A185,Data!A$21:A$6143,Data!G$21:G$6143)","v":214717620},-3540]
[2394,185,215886888,{"$f":"LOOKUP(A186,Data!A$21:A$6143,Data!G$21:G$6143)","v":215890740},-3852]
[2407,186,217059696,{"$f":"LOOKUP(A187,Data!A$21:A$6143,Data!G$21:G$6143)","v":217063860},-4164]
[2420,187,218232504,{"$f":"LOOKUP(A188,Data!A$21:A$6143,Data!G$21:G$6143)","v":218236980},-4476]
[2433,188,219405312,{"$f":"LOOKUP(A189,Data!A$21:A$6143,Data!G$21:G$6143)","v":219410100},-4788]
[2446,189,220578120,{"$f":"LOOKUP(A190,Data!A$21:A$6143,Data!G$21:G$6143)","v":220583220},-5100]
[2459,190,221750928,{"$f":"LOOKUP(A191,Data!A$21:A$6143,Data!G$21:G$6143)","v":221756340},-5412]
[2472,191,222923736,{"$f":"LOOKUP(A192,Data!A$21:A$6143,Data!G$21:G$6143)","v":222926405},-2669]
[2485,192,224096544,{"$f":"LOOKUP(A193,Data!A$21:A$6143,Data!G$21:G$6143)","v":224099525},-2981]
[2498,193,{"$f":"(A194-1)*PPM","v":225269352},{"$f":"LOOKUP(A194,Data!A$21:A$6143,Data!G$21:G$6143)","v":225272645},{"$f":"C194-D194","v":-3293}]
[{"$f":"A194+13","v":2511},{"$f":"B194+1","v":194},226442160,{"$f":"LOOKUP(A195,Data!A$21:A$6143,Data!G$21:G$6143)","v":226445765},-3605]
[2524,195,227614968,{"$f":"LOOKUP(A196,Data!A$21:A$6143,Data!G$21:G$6143)","v":227618885},-3917]
[2537,196,228787776,{"$f":"LOOKUP(A197,Data!A$21:A$6143,Data!G$21:G$6143)","v":228792005},-4229]
[2550,197,229960584,{"$f":"LOOKUP(A198,Data!A$21:A$6143,Data!G$21:G$6143)","v":229965125},-4541]
[2563,198,231133392,{"$f":"LOOKUP(A199,Data!A$21:A$6143,Data!G$21:G$6143)","v":231138245},-4853]
[2576,199,232306200,{"$f":"LOOKUP(A200,Data!A$21:A$6143,Data!G$21:G$6143)","v":232311365},-5165]
[2589,200,233479008,{"$f":"LOOKUP(A201,Data!A$21:A$6143,Data!G$21:G$6143)","v":233484485},-5477]
[2602,201,234651816,{"$f":"LOOKUP(A202,Data!A$21:A$6143,Data!G$21:G$6143)","v":234654550},-2734]
[2615,202,235824624,{"$f":"LOOKUP(A203,Data!A$21:A$6143,Data!G$21:G$6143)","v":235827670},-3046]
[2628,203,236997432,{"$f":"LOOKUP(A204,Data!A$21:A$6143,Data!G$21:G$6143)","v":237000790},-3358]
[2641,204,238170240,{"$f":"LOOKUP(A205,Data!A$21:A$6143,Data!G$21:G$6143)","v":238173910},-3670]
[2654,205,239343048,{"$f":"LOOKUP(A206,Data!A$21:A$6143,Data!G$21:G$6143)","v":239347030},-3982]
[2667,206,240515856,{"$f":"LOOKUP(A207,Data!A$21:A$6143,Data!G$21:G$6143)","v":240520150},-4294]
[2680,207,241688664,{"$f":"LOOKUP(A208,Data!A$21:A$6143,Data!G$21:G$6143)","v":241693270},-4606]
[2693,208,242861472,{"$f":"LOOKUP(A209,Data!A$21:A$6143,Data!G$21:G$6143)","v":242866390},-4918]
[2706,209,244034280,{"$f":"LOOKUP(A210,Data!A$21:A$6143,Data!G$21:G$6143)","v":244039510},-5230]
[2719,210,245207088,{"$f":"LOOKUP(A211,Data!A$21:A$6143,Data!G$21:G$6143)","v":245212630},-5542]
[2732,211,246379896,{"$f":"LOOKUP(A212,Data!A$21:A$6143,Data!G$21:G$6143)","v":246382695},-2799]
[2745,212,247552704,{"$f":"LOOKUP(A213,Data!A$21:A$6143,Data!G$21:G$6143)","v":247555815},-3111]
[2758,213,248725512,{"$f":"LOOKUP(A214,Data!A$21:A$6143,Data!G$21:G$6143)","v":248728935},-3423]
[2771,214,249898320,{"$f":"LOOKUP(A215,Data!A$21:A$6143,Data!G$21:G$6143)","v":249902055},-3735]
[2784,215,251071128,{"$f":"LOOKUP(A216,Data!A$21:A$6143,Data!G$21:G$6143)","v":251075175},-4047]
[2797,216,252243936,{"$f":"LOOKUP(A217,Data!A$21:A$6143,Data!G$21:G$6143)","v":252248295},-4359]
[2810,217,253416744,{"$f":"LOOKUP(A218,Data!A$21:A$6143,Data!G$21:G$6143)","v":253421415},-4671]
[2823,218,254589552,{"$f":"LOOKUP(A219,Data!A$21:A$6143,Data!G$21:G$6143)","v":254594535},-4983]
[2836,219,255762360,{"$f":"LOOKUP(A220,Data!A$21:A$6143,Data!G$21:G$6143)","v":255767655},-5295]
[2849,220,256935168,{"$f":"LOOKUP(A221,Data!A$21:A$6143,Data!G$21:G$6143)","v":256940775},-5607]
[2862,221,258107976,{"$f":"LOOKUP(A222,Data!A$21:A$6143,Data!G$21:G$6143)","v":258110840},-2864]
[2875,222,259280784,{"$f":"LOOKUP(A223,Data!A$21:A$6143,Data!G$21:G$6143)","v":259283960},-3176]
[2888,223,260453592,{"$f":"LOOKUP(A224,Data!A$21:A$6143,Data!G$21:G$6143)","v":260457080},-3488]
[2901,224,261626400,{"$f":"LOOKUP(A225,Data!A$21:A$6143,Data!G$21:G$6143)","v":261630200},-3800]
[2914,225,262799208,{"$f":"LOOKUP(A226,Data!A$21:A$6143,Data!G$21:G$6143)","v":262803320},-4112]
[2927,226,263972016,{"$f":"LOOKUP(A227,Data!A$21:A$6143,Data!G$21:G$6143)","v":263976440},-4424]
[2940,227,265144824,{"$f":"LOOKUP(A228,Data!A$21:A$6143,Data!G$21:G$6143)","v":265149560},-4736]
[2953,228,266317632,{"$f":"LOOKUP(A229,Data!A$21:A$6143,Data!G$21:G$6143)","v":266322680},-5048]
[2966,229,267490440,{"$f":"LOOKUP(A230,Data!A$21:A$6143,Data!G$21:G$6143)","v":267495800},-5360]
[2979,230,268663248,{"$f":"LOOKUP(A231,Data!A$21:A$6143,Data!G$21:G$6143)","v":268668920},-5672]
[2992,231,269836056,{"$f":"LOOKUP(A232,Data!A$21:A$6143,Data!G$21:G$6143)","v":269838985},-2929]
[3005,232,271008864,{"$f":"LOOKUP(A233,Data!A$21:A$6143,Data!G$21:G$6143)","v":271012105},-3241]
[3018,233,272181672,{"$f":"LOOKUP(A234,Data!A$21:A$6143,Data!G$21:G$6143)","v":272185225},-3553]
[3031,234,273354480,{"$f":"LOOKUP(A235,Data!A$21:A$6143,Data!G$21:G$6143)","v":273358345},-3865]
[3044,235,274527288,{"$f":"LOOKUP(A236,Data!A$21:A$6143,Data!G$21:G$6143)","v":274531465},-4177]
[3057,236,275700096,{"$f":"LOOKUP(A237,Data!A$21:A$6143,Data!G$21:G$6143)","v":275701530},-1434]
[3070,237,276872904,{"$f":"LOOKUP(A238,Data!A$21:A$6143,Data!G$21:G$6143)","v":276874650},-1746]
[3083,238,278045712,{"$f":"LOOKUP(A239,Data!A$21:A$6143,Data!G$21:G$6143)","v":278047770},-2058]
[3096,239,279218520,{"$f":"LOOKUP(A240,Data!A$21:A$6143,Data!G$21:G$6143)","v":279220890},-2370]
[3109,240,280391328,{"$f":"LOOKUP(A241,Data!A$21:A$6143,Data!G$21:G$6143)","v":280394010},-2682]
[3122,241,281564136,{"$f":"LOOKUP(A242,Data!A$21:A$6143,Data!G$21:G$6143)","v":281564075},61]
[3135,242,282736944,{"$f":"LOOKUP(A243,Data!A$21:A$6143,Data!G$21:G$6143)","v":282737195},-251]
[3148,243,283909752,{"$f":"LOOKUP(A244,Data!A$21:A$6143,Data!G$21:G$6143)","v":283910315},-563]
[3161,244,285082560,{"$f":"LOOKUP(A245,Data!A$21:A$6143,Data!G$21:G$6143)","v":285083435},-875]
[3174,245,286255368,{"$f":"LOOKUP(A246,Data!A$21:A$6143,Data!G$21:G$6143)","v":286256555},-1187]
[3187,246,287428176,{"$f":"LOOKUP(A247,Data!A$21:A$6143,Data!G$21:G$6143)","v":287429675},-1499]
[3200,247,288600984,{"$f":"LOOKUP(A248,Data!A$21:A$6143,Data!G$21:G$6143)","v":288602795},-1811]
[3213,248,289773792,{"$f":"LOOKUP(A249,Data!A$21:A$6143,Data!G$21:G$6143)","v":289775915},-2123]
[3226,249,290946600,{"$f":"LOOKUP(A250,Data!A$21:A$6143,Data!G$21:G$6143)","v":290949035},-2435]
[3239,250,292119408,{"$f":"LOOKUP(A251,Data!A$21:A$6143,Data!G$21:G$6143)","v":292122155},-2747]
[3252,251,293292216,{"$f":"LOOKUP(A252,Data!A$21:A$6143,Data!G$21:G$6143)","v":293292220},-4]
[3265,252,294465024,{"$f":"LOOKUP(A253,Data!A$21:A$6143,Data!G$21:G$6143)","v":294465340},-316]
[3278,253,295637832,{"$f":"LOOKUP(A254,Data!A$21:A$6143,Data!G$21:G$6143)","v":295638460},-628]
[3291,254,296810640,{"$f":"LOOKUP(A255,Data!A$21:A$6143,Data!G$21:G$6143)","v":296811580},-940]
[3304,255,297983448,{"$f":"LOOKUP(A256,Data!A$21:A$6143,Data!G$21:G$6143)","v":297984700},-1252]
[3317,256,299156256,{"$f":"LOOKUP(A257,Data!A$21:A$6143,Data!G$21:G$6143)","v":299157820},-1564]
[3330,257,{"$f":"(A258-1)*PPM","v":300329064},{"$f":"LOOKUP(A258,Data!A$21:A$6143,Data!G$21:G$6143)","v":300330940},{"$f":"C258-D258","v":-1876}]
[{"$f":"A258+13","v":3343},{"$f":"B258+1","v":258},301501872,{"$f":"LOOKUP(A259,Data!A$21:A$6143,Data!G$21:G$6143)","v":301504060},-2188]
[3356,259,302674680,{"$f":"LOOKUP(A260,Data!A$21:A$6143,Data!G$21:G$6143)","v":302677180},-2500]
[3369,260,303847488,{"$f":"LOOKUP(A261,Data!A$21:A$6143,Data!G$21:G$6143)","v":303850300},-2812]
[3382,261,305020296,{"$f":"LOOKUP(A262,Data!A$21:A$6143,Data!G$21:G$6143)","v":305020365},-69]
[3395,262,306193104,{"$f":"LOOKUP(A263,Data!A$21:A$6143,Data!G$21:G$6143)","v":306193485},-381]
[3408,263,307365912,{"$f":"LOOKUP(A264,Data!A$21:A$6143,Data!G$21:G$6143)","v":307366605},-693]
[3421,264,308538720,{"$f":"LOOKUP(A265,Data!A$21:A$6143,Data!G$21:G$6143)","v":308539725},-1005]
[3434,265,309711528,{"$f":"LOOKUP(A266,Data!A$21:A$6143,Data!G$21:G$6143)","v":309712845},-1317]
[3447,266,310884336,{"$f":"LOOKUP(A267,Data!A$21:A$6143,Data!G$21:G$6143)","v":310885965},-1629]
[3460,267,312057144,{"$f":"LOOKUP(A268,Data!A$21:A$6143,Data!G$21:G$6143)","v":312059085},-1941]
[3473,268,313229952,{"$f":"LOOKUP(A269,Data!A$21:A$6143,Data!G$21:G$6143)","v":313232205},-2253]
[3486,269,314402760,{"$f":"LOOKUP(A270,Data!A$21:A$6143,Data!G$21:G$6143)","v":314405325},-2565]
[3499,270,315575568,{"$f":"LOOKUP(A271,Data!A$21:A$6143,Data!G$21:G$6143)","v":315578445},-2877]
[3512,271,316748376,{"$f":"LOOKUP(A272,Data!A$21:A$6143,Data!G$21:G$6143)","v":316748510},-134]
[3525,272,317921184,{"$f":"LOOKUP(A273,Data!A$21:A$6143,Data!G$21:G$6143)","v":317921630},-446]
[3538,273,319093992,{"$f":"LOOKUP(A274,Data!A$21:A$6143,Data!G$21:G$6143)","v":319094750},-758]
[3551,274,320266800,{"$f":"LOOKUP(A275,Data!A$21:A$6143,Data!G$21:G$6143)","v":320267870},-1070]
[3564,275,321439608,{"$f":"LOOKUP(A276,Data!A$21:A$6143,Data!G$21:G$6143)","v":321440990},-1382]
[3577,276,322612416,{"$f":"LOOKUP(A277,Data!A$21:A$6143,Data!G$21:G$6143)","v":322614110},-1694]
[3590,277,323785224,{"$f":"LOOKUP(A278,Data!A$21:A$6143,Data!G$21:G$6143)","v":323787230},-2006]
[3603,278,324958032,{"$f":"LOOKUP(A279,Data!A$21:A$6143,Data!G$21:G$6143)","v":324960350},-2318]
[3616,279,326130840,{"$f":"LOOKUP(A280,Data!A$21:A$6143,Data!G$21:G$6143)","v":326133470},-2630]
[3629,280,327303648,{"$f":"LOOKUP(A281,Data!A$21:A$6143,Data!G$21:G$6143)","v":327306590},-2942]
[3642,281,328476456,{"$f":"LOOKUP(A282,Data!A$21:A$6143,Data!G$21:G$6143)","v":328476655},-199]
[3655,282,329649264,{"$f":"LOOKUP(A283,Data!A$21:A$6143,Data!G$21:G$6143)","v":329649775},-511]
[3668,283,330822072,{"$f":"LOOKUP(A284,Data!A$21:A$6143,Data!G$21:G$6143)","v":330822895},-823]
[3681,284,331994880,{"$f":"LOOKUP(A285,Data!A$21:A$6143,Data!G$21:G$6143)","v":331996015},-1135]
[3694,285,333167688,{"$f":"LOOKUP(A286,Data!A$21:A$6143,Data!G$21:G$6143)","v":333169135},-1447]
[3707,286,334340496,{"$f":"LOOKUP(A287,Data!A$21:A$6143,Data!G$21:G$6143)","v":334342255},-1759]
[3720,287,335513304,{"$f":"LOOKUP(A288,Data!A$21:A$6143,Data!G$21:G$6143)","v":335515375},-2071]
[3733,288,336686112,{"$f":"LOOKUP(A289,Data!A$21:A$6143,Data!G$21:G$6143)","v":336688495},-2383]
[3746,289,337858920,{"$f":"LOOKUP(A290,Data!A$21:A$6143,Data!G$21:G$6143)","v":337861615},-2695]
[3759,290,339031728,{"$f":"LOOKUP(A291,Data!A$21:A$6143,Data!G$21:G$6143)","v":339034735},-3007]
[3772,291,340204536,{"$f":"LOOKUP(A292,Data!A$21:A$6143,Data!G$21:G$6143)","v":340204800},-264]
[3785,292,341377344,{"$f":"LOOKUP(A293,Data!A$21:A$6143,Data!G$21:G$6143)","v":341377920},-576]
[3798,293,342550152,{"$f":"LOOKUP(A294,Data!A$21:A$6143,Data!G$21:G$6143)","v":342551040},-888]
[3811,294,343722960,{"$f":"LOOKUP(A295,Data!A$21:A$6143,Data!G$21:G$6143)","v":343724160},-1200]
[3824,295,344895768,{"$f":"LOOKUP(A296,Data!A$21:A$6143,Data!G$21:G$6143)","v":344897280},-1512]
[3837,296,346068576,{"$f":"LOOKUP(A297,Data!A$21:A$6143,Data!G$21:G$6143)","v":346070400},-1824]
[3850,297,347241384,{"$f":"LOOKUP(A298,Data!A$21:A$6143,Data!G$21:G$6143)","v":347243520},-2136]
[3863,298,348414192,{"$f":"LOOKUP(A299,Data!A$21:A$6143,Data!G$21:G$6143)","v":348416640},-2448]
[3876,299,349587000,{"$f":"LOOKUP(A300,Data!A$21:A$6143,Data!G$21:G$6143)","v":349589760},-2760]
[3889,300,350759808,{"$f":"LOOKUP(A301,Data!A$21:A$6143,Data!G$21:G$6143)","v":350762880},-3072]
[3902,301,351932616,{"$f":"LOOKUP(A302,Data!A$21:A$6143,Data!G$21:G$6143)","v":351932945},-329]
[3915,302,353105424,{"$f":"LOOKUP(A303,Data!A$21:A$6143,Data!G$21:G$6143)","v":353106065},-641]
[3928,303,354278232,{"$f":"LOOKUP(A304,Data!A$21:A$6143,Data!G$21:G$6143)","v":354279185},-953]
[3941,304,355451040,{"$f":"LOOKUP(A305,Data!A$21:A$6143,Data!G$21:G$6143)","v":355452305},-1265]
[3954,305,356623848,{"$f":"LOOKUP(A306,Data!A$21:A$6143,Data!G$21:G$6143)","v":356625425},-1577]
[3967,306,357796656,{"$f":"LOOKUP(A307,Data!A$21:A$6143,Data!G$21:G$6143)","v":357798545},-1889]
[3980,307,358969464,{"$f":"LOOKUP(A308,Data!A$21:A$6143,Data!G$21:G$6143)","v":358971665},-2201]
[3993,308,360142272,{"$f":"LOOKUP(A309,Data!A$21:A$6143,Data!G$21:G$6143)","v":360144785},-2513]
[4006,309,361315080,{"$f":"LOOKUP(A310,Data!A$21:A$6143,Data!G$21:G$6143)","v":361317905},-2825]
[4019,310,362487888,{"$f":"LOOKUP(A311,Data!A$21:A$6143,Data!G$21:G$6143)","v":362491025},-3137]
[4032,311,363660696,{"$f":"LOOKUP(A312,Data!A$21:A$6143,Data!G$21:G$6143)","v":363661090},-394]
[4045,312,364833504,{"$f":"LOOKUP(A313,Data!A$21:A$6143,Data!G$21:G$6143)","v":364834210},-706]
[4058,313,366006312,{"$f":"LOOKUP(A314,Data!A$21:A$6143,Data!G$21:G$6143)","v":366007330},-1018]
[4071,314,367179120,{"$f":"LOOKUP(A315,Data!A$21:A$6143,Data!G$21:G$6143)","v":367180450},-1330]
[4084,315,368351928,{"$f":"LOOKUP(A316,Data!A$21:A$6143,Data!G$21:G$6143)","v":368353570},-1642]
[4097,316,369524736,{"$f":"LOOKUP(A317,Data!A$21:A$6143,Data!G$21:G$6143)","v":369526690},-1954]
[4110,317,370697544,{"$f":"LOOKUP(A318,Data!A$21:A$6143,Data!G$21:G$6143)","v":370699810},-2266]
[4123,318,371870352,{"$f":"LOOKUP(A319,Data!A$21:A$6143,Data!G$21:G$6143)","v":371872930},-2578]
[4136,319,373043160,{"$f":"LOOKUP(A320,Data!A$21:A$6143,Data!G$21:G$6143)","v":373046050},-2890]
[4149,320,374215968,{"$f":"LOOKUP(A321,Data!A$21:A$6143,Data!G$21:G$6143)","v":374219170},-3202]
[4162,321,{"$f":"(A322-1)*PPM","v":375388776},{"$f":"LOOKUP(A322,Data!A$21:A$6143,Data!G$21:G$6143)","v":375389235},{"$f":"C322-D322","v":-459}]
[{"$f":"A322+13","v":4175},{"$f":"B322+1","v":322},376561584,{"$f":"LOOKUP(A323,Data!A$21:A$6143,Data!G$21:G$6143)","v":376562355},-771]
[4188,323,377734392,{"$f":"LOOKUP(A324,Data!A$21:A$6143,Data!G$21:G$6143)","v":377735475},-1083]
[4201,324,378907200,{"$f":"LOOKUP(A325,Data!A$21:A$6143,Data!G$21:G$6143)","v":378908595},-1395]
[4214,325,380080008,{"$f":"LOOKUP(A326,Data!A$21:A$6143,Data!G$21:G$6143)","v":380081715},-1707]
[4227,326,381252816,{"$f":"LOOKUP(A327,Data!A$21:A$6143,Data!G$21:G$6143)","v":381254835},-2019]
[4240,327,382425624,{"$f":"LOOKUP(A328,Data!A$21:A$6143,Data!G$21:G$6143)","v":382427955},-2331]
[4253,328,383598432,{"$f":"LOOKUP(A329,Data!A$21:A$6143,Data!G$21:G$6143)","v":383601075},-2643]
[4266,329,384771240,{"$f":"LOOKUP(A330,Data!A$21:A$6143,Data!G$21:G$6143)","v":384774195},-2955]
[4279,330,385944048,{"$f":"LOOKUP(A331,Data!A$21:A$6143,Data!G$21:G$6143)","v":385947315},-3267]
[4292,331,387116856,{"$f":"LOOKUP(A332,Data!A$21:A$6143,Data!G$21:G$6143)","v":387117380},-524]
[4305,332,388289664,{"$f":"LOOKUP(A333,Data!A$21:A$6143,Data!G$21:G$6143)","v":388290500},-836]
[4318,333,389462472,{"$f":"LOOKUP(A334,Data!A$21:A$6143,Data!G$21:G$6143)","v":389463620},-1148]
[4331,334,390635280,{"$f":"LOOKUP(A335,Data!A$21:A$6143,Data!G$21:G$6143)","v":390636740},-1460]
[4344,335,391808088,{"$f":"LOOKUP(A336,Data!A$21:A$6143,Data!G$21:G$6143)","v":391809860},-1772]
[4357,336,392980896,{"$f":"LOOKUP(A337,Data!A$21:A$6143,Data!G$21:G$6143)","v":392982980},-2084]
[4370,337,394153704,{"$f":"LOOKUP(A338,Data!A$21:A$6143,Data!G$21:G$6143)","v":394156100},-2396]
[4383,338,395326512,{"$f":"LOOKUP(A339,Data!A$21:A$6143,Data!G$21:G$6143)","v":395329220},-2708]
[4396,339,396499320,{"$f":"LOOKUP(A340,Data!A$21:A$6143,Data!G$21:G$6143)","v":396502340},-3020]
[4409,340,397672128,{"$f":"LOOKUP(A341,Data!A$21:A$6143,Data!G$21:G$6143)","v":397675460},-3332]
[4422,341,398844936,{"$f":"LOOKUP(A342,Data!A$21:A$6143,Data!G$21:G$6143)","v":398845525},-589]
[4435,342,400017744,{"$f":"LOOKUP(A343,Data!A$21:A$6143,Data!G$21:G$6143)","v":400018645},-901]
[4448,343,401190552,{"$f":"LOOKUP(A344,Data!A$21:A$6143,Data!G$21:G$6143)","v":401191765},-1213]
[4461,344,402363360,{"$f":"LOOKUP(A345,Data!A$21:A$6143,Data!G$21:G$6143)","v":402364885},-1525]
[4474,345,403536168,{"$f":"LOOKUP(A346,Data!A$21:A$6143,Data!G$21:G$6143)","v":403538005},-1837]
[4487,346,404708976,{"$f":"LOOKUP(A347,Data!A$21:A$6143,Data!G$21:G$6143)","v":404711125},-2149]
[4500,347,405881784,{"$f":"LOOKUP(A348,Data!A$21:A$6143,Data!G$21:G$6143)","v":405884245},-2461]
[4513,348,407054592,{"$f":"LOOKUP(A349,Data!A$21:A$6143,Data!G$21:G$6143)","v":407057365},-2773]
[4526,349,408227400,{"$f":"LOOKUP(A350,Data!A$21:A$6143,Data!G$21:G$6143)","v":408230485},-3085]
[4539,350,409400208,{"$f":"LOOKUP(A351,Data!A$21:A$6143,Data!G$21:G$6143)","v":409403605},-3397]
[4552,351,410573016,{"$f":"LOOKUP(A352,Data!A$21:A$6143,Data!G$21:G$6143)","v":410573670},-654]
[4565,352,411745824,{"$f":"LOOKUP(A353,Data!A$21:A$6143,Data!G$21:G$6143)","v":411746790},-966]
[4578,353,412918632,{"$f":"LOOKUP(A354,Data!A$21:A$6143,Data!G$21:G$6143)","v":412919910},-1278]
[4591,354,414091440,{"$f":"LOOKUP(A355,Data!A$21:A$6143,Data!G$21:G$6143)","v":414093030},-1590]
[4604,355,415264248,{"$f":"LOOKUP(A356,Data!A$21:A$6143,Data!G$21:G$6143)","v":415266150},-1902]
[4617,356,416437056,{"$f":"LOOKUP(A357,Data!A$21:A$6143,Data!G$21:G$6143)","v":416439270},-2214]
[4630,357,417609864,{"$f":"LOOKUP(A358,Data!A$21:A$6143,Data!G$21:G$6143)","v":417612390},-2526]
[4643,358,418782672,{"$f":"LOOKUP(A359,Data!A$21:A$6143,Data!G$21:G$6143)","v":418785510},-2838]
[4656,359,419955480,{"$f":"LOOKUP(A360,Data!A$21:A$6143,Data!G$21:G$6143)","v":419958630},-3150]
[4669,360,421128288,{"$f":"LOOKUP(A361,Data!A$21:A$6143,Data!G$21:G$6143)","v":421131750},-3462]
[4682,361,422301096,{"$f":"LOOKUP(A362,Data!A$21:A$6143,Data!G$21:G$6143)","v":422301815},-719]
[4695,362,423473904,{"$f":"LOOKUP(A363,Data!A$21:A$6143,Data!G$21:G$6143)","v":423474935},-1031]
[4708,363,424646712,{"$f":"LOOKUP(A364,Data!A$21:A$6143,Data!G$21:G$6143)","v":424648055},-1343]
[4721,364,425819520,{"$f":"LOOKUP(A365,Data!A$21:A$6143,Data!G$21:G$6143)","v":425821175},-1655]
[4734,365,426992328,{"$f":"LOOKUP(A366,Data!A$21:A$6143,Data!G$21:G$6143)","v":426994295},-1967]
[4747,366,428165136,{"$f":"LOOKUP(A367,Data!A$21:A$6143,Data!G$21:G$6143)","v":428167415},-2279]
[4760,367,429337944,{"$f":"LOOKUP(A368,Data!A$21:A$6143,Data!G$21:G$6143)","v":429340535},-2591]
[4773,368,430510752,{"$f":"LOOKUP(A369,Data!A$21:A$6143,Data!G$21:G$6143)","v":430513655},-2903]
[4786,369,431683560,{"$f":"LOOKUP(A370,Data!A$21:A$6143,Data!G$21:G$6143)","v":431686775},-3215]
[4799,370,432856368,{"$f":"LOOKUP(A371,Data!A$21:A$6143,Data!G$21:G$6143)","v":432859895},-3527]
[4812,371,434029176,{"$f":"LOOKUP(A372,Data!A$21:A$6143,Data!G$21:G$6143)","v":434029960},-784]
[4825,372,435201984,{"$f":"LOOKUP(A373,Data!A$21:A$6143,Data!G$21:G$6143)","v":435203080},-1096]
[4838,373,436374792,{"$f":"LOOKUP(A374,Data!A$21:A$6143,Data!G$21:G$6143)","v":436376200},-1408]
[4851,374,437547600,{"$f":"LOOKUP(A375,Data!A$21:A$6143,Data!G$21:G$6143)","v":437549320},-1720]
[4864,375,438720408,{"$f":"LOOKUP(A376,Data!A$21:A$6143,Data!G$21:G$6143)","v":438722440},-2032]
[4877,376,439893216,{"$f":"LOOKUP(A377,Data!A$21:A$6143,Data!G$21:G$6143)","v":439895560},-2344]
[4890,377,441066024,{"$f":"LOOKUP(A378,Data!A$21:A$6143,Data!G$21:G$6143)","v":441068680},-2656]
[4903,378,442238832,{"$f":"LOOKUP(A379,Data!A$21:A$6143,Data!G$21:G$6143)","v":442241800},-2968]
[4916,379,443411640,{"$f":"LOOKUP(A380,Data!A$21:A$6143,Data!G$21:G$6143)","v":443414920},-3280]
[4929,380,444584448,{"$f":"LOOKUP(A381,Data!A$21:A$6143,Data!G$21:G$6143)","v":444588040},-3592]
[4942,381,445757256,{"$f":"LOOKUP(A382,Data!A$21:A$6143,Data!G$21:G$6143)","v":445758105},-849]
[4955,382,446930064,{"$f":"LOOKUP(A383,Data!A$21:A$6143,Data!G$21:G$6143)","v":446931225},-1161]
[4968,383,448102872,{"$f":"LOOKUP(A384,Data!A$21:A$6143,Data!G$21:G$6143)","v":448104345},-1473]
[4981,384,449275680,{"$f":"LOOKUP(A385,Data!A$21:A$6143,Data!G$21:G$6143)","v":449277465},-1785]
[4994,385,{"$f":"(A386-1)*PPM","v":450448488},{"$f":"LOOKUP(A386,Data!A$21:A$6143,Data!G$21:G$6143)","v":450450585},{"$f":"C386-D386","v":-2097}]
[{"$f":"A386+13","v":5007},{"$f":"B386+1","v":386},451621296,{"$f":"LOOKUP(A387,Data!A$21:A$6143,Data!G$21:G$6143)","v":451623705},-2409]
[5020,387,452794104,{"$f":"LOOKUP(A388,Data!A$21:A$6143,Data!G$21:G$6143)","v":452796825},-2721]
[5033,388,453966912,{"$f":"LOOKUP(A389,Data!A$21:A$6143,Data!G$21:G$6143)","v":453969945},-3033]
[5046,389,455139720,{"$f":"LOOKUP(A390,Data!A$21:A$6143,Data!G$21:G$6143)","v":455143065},-3345]
[5059,390,456312528,{"$f":"LOOKUP(A391,Data!A$21:A$6143,Data!G$21:G$6143)","v":456316185},-3657]
[5072,391,457485336,{"$f":"LOOKUP(A392,Data!A$21:A$6143,Data!G$21:G$6143)","v":457486250},-914]
[5085,392,458658144,{"$f":"LOOKUP(A393,Data!A$21:A$6143,Data!G$21:G$6143)","v":458659370},-1226]
[5098,393,459830952,{"$f":"LOOKUP(A394,Data!A$21:A$6143,Data!G$21:G$6143)","v":459832490},-1538]
[5111,394,461003760,{"$f":"LOOKUP(A395,Data!A$21:A$6143,Data!G$21:G$6143)","v":461005610},-1850]
[5124,395,462176568,{"$f":"LOOKUP(A396,Data!A$21:A$6143,Data!G$21:G$6143)","v":462178730},-2162]
[5137,396,463349376,{"$f":"LOOKUP(A397,Data!A$21:A$6143,Data!G$21:G$6143)","v":463351850},-2474]
[5150,397,464522184,{"$f":"LOOKUP(A398,Data!A$21:A$6143,Data!G$21:G$6143)","v":464524970},-2786]
[5163,398,465694992,{"$f":"LOOKUP(A399,Data!A$21:A$6143,Data!G$21:G$6143)","v":465698090},-3098]
[5176,399,466867800,{"$f":"LOOKUP(A400,Data!A$21:A$6143,Data!G$21:G$6143)","v":466871210},-3410]
[5189,400,468040608,{"$f":"LOOKUP(A401,Data!A$21:A$6143,Data!G$21:G$6143)","v":468044330},-3722]
[5202,401,469213416,{"$f":"LOOKUP(A402,Data!A$21:A$6143,Data!G$21:G$6143)","v":469214395},-979]
[5215,402,470386224,{"$f":"LOOKUP(A403,Data!A$21:A$6143,Data!G$21:G$6143)","v":470387515},-1291]
[5228,403,471559032,{"$f":"LOOKUP(A404,Data!A$21:A$6143,Data!G$21:G$6143)","v":471560635},-1603]
[5241,404,472731840,{"$f":"LOOKUP(A405,Data!A$21:A$6143,Data!G$21:G$6143)","v":472733755},-1915]
[5254,405,473904648,{"$f":"LOOKUP(A406,Data!A$21:A$6143,Data!G$21:G$6143)","v":473906875},-2227]
[5267,406,475077456,{"$f":"LOOKUP(A407,Data!A$21:A$6143,Data!G$21:G$6143)","v":475079995},-2539]
[5280,407,476250264,{"$f":"LOOKUP(A408,Data!A$21:A$6143,Data!G$21:G$6143)","v":476253115},-2851]
[5293,408,477423072,{"$f":"LOOKUP(A409,Data!A$21:A$6143,Data!G$21:G$6143)","v":477426235},-3163]
[5306,409,478595880,{"$f":"LOOKUP(A410,Data!A$21:A$6143,Data!G$21:G$6143)","v":478599355},-3475]
[5319,410,479768688,{"$f":"LOOKUP(A411,Data!A$21:A$6143,Data!G$21:G$6143)","v":479772475},-3787]
[5332,411,480941496,{"$f":"LOOKUP(A412,Data!A$21:A$6143,Data!G$21:G$6143)","v":480942540},-1044]
[5345,412,482114304,{"$f":"LOOKUP(A413,Data!A$21:A$6143,Data!G$21:G$6143)","v":482115660},-1356]
[5358,413,483287112,{"$f":"LOOKUP(A414,Data!A$21:A$6143,Data!G$21:G$6143)","v":483288780},-1668]
[5371,414,484459920,{"$f":"LOOKUP(A415,Data!A$21:A$6143,Data!G$21:G$6143)","v":484461900},-1980]
[5384,415,485632728,{"$f":"LOOKUP(A416,Data!A$21:A$6143,Data!G$21:G$6143)","v":485635020},-2292]
[5397,416,486805536,{"$f":"LOOKUP(A417,Data!A$21:A$6143,Data!G$21:G$6143)","v":486808140},-2604]
[5410,417,487978344,{"$f":"LOOKUP(A418,Data!A$21:A$6143,Data!G$21:G$6143)","v":487981260},-2916]
[5423,418,489151152,{"$f":"LOOKUP(A419,Data!A$21:A$6143,Data!G$21:G$6143)","v":489154380},-3228]
[5436,419,490323960,{"$f":"LOOKUP(A420,Data!A$21:A$6143,Data!G$21:G$6143)","v":490327500},-3540]
[5449,420,491496768,{"$f":"LOOKUP(A421,Data!A$21:A$6143,Data!G$21:G$6143)","v":491500620},-3852]
[5462,421,492669576,{"$f":"LOOKUP(A422,Data!A$21:A$6143,Data!G$21:G$6143)","v":492670685},-1109]
[5475,422,493842384,{"$f":"LOOKUP(A423,Data!A$21:A$6143,Data!G$21:G$6143)","v":493843805},-1421]
[5488,423,495015192,{"$f":"LOOKUP(A424,Data!A$21:A$6143,Data!G$21:G$6143)","v":495016925},-1733]
[5501,424,496188000,{"$f":"LOOKUP(A425,Data!A$21:A$6143,Data!G$21:G$6143)","v":496190045},-2045]
[5514,425,497360808,{"$f":"LOOKUP(A426,Data!A$21:A$6143,Data!G$21:G$6143)","v":497363165},-2357]
[5527,426,498533616,{"$f":"LOOKUP(A427,Data!A$21:A$6143,Data!G$21:G$6143)","v":498536285},-2669]
[5540,427,499706424,{"$f":"LOOKUP(A428,Data!A$21:A$6143,Data!G$21:G$6143)","v":499709405},-2981]
[5553,428,500879232,{"$f":"LOOKUP(A429,Data!A$21:A$6143,Data!G$21:G$6143)","v":500882525},-3293]
[5566,429,502052040,{"$f":"LOOKUP(A430,Data!A$21:A$6143,Data!G$21:G$6143)","v":502055645},-3605]
[5579,430,503224848,{"$f":"LOOKUP(A431,Data!A$21:A$6143,Data!G$21:G$6143)","v":503228765},-3917]
[5592,431,504397656,{"$f":"LOOKUP(A432,Data!A$21:A$6143,Data!G$21:G$6143)","v":504398830},-1174]
[5605,432,505570464,{"$f":"LOOKUP(A433,Data!A$21:A$6143,Data!G$21:G$6143)","v":505571950},-1486]
[5618,433,506743272,{"$f":"LOOKUP(A434,Data!A$21:A$6143,Data!G$21:G$6143)","v":506745070},-1798]
[5631,434,507916080,{"$f":"LOOKUP(A435,Data!A$21:A$6143,Data!G$21:G$6143)","v":507918190},-2110]
[5644,435,509088888,{"$f":"LOOKUP(A436,Data!A$21:A$6143,Data!G$21:G$6143)","v":509091310},-2422]
[5657,436,510261696,{"$f":"LOOKUP(A437,Data!A$21:A$6143,Data!G$21:G$6143)","v":510264430},-2734]
[5670,437,511434504,{"$f":"LOOKUP(A438,Data!A$21:A$6143,Data!G$21:G$6143)","v":511437550},-3046]
[5683,438,512607312,{"$f":"LOOKUP(A439,Data!A$21:A$6143,Data!G$21:G$6143)","v":512610670},-3358]
[5696,439,513780120,{"$f":"LOOKUP(A440,Data!A$21:A$6143,Data!G$21:G$6143)","v":513783790},-3670]
[5709,440,514952928,{"$f":"LOOKUP(A441,Data!A$21:A$6143,Data!G$21:G$6143)","v":514956910},-3982]
[5722,441,516125736,{"$f":"LOOKUP(A442,Data!A$21:A$6143,Data!G$21:G$6143)","v":516126975},-1239]
[5735,442,517298544,{"$f":"LOOKUP(A443,Data!A$21:A$6143,Data!G$21:G$6143)","v":517300095},-1551]
[5748,443,518471352,{"$f":"LOOKUP(A444,Data!A$21:A$6143,Data!G$21:G$6143)","v":518473215},-1863]
[5761,444,519644160,{"$f":"LOOKUP(A445,Data!A$21:A$6143,Data!G$21:G$6143)","v":519646335},-2175]
[5774,445,520816968,{"$f":"LOOKUP(A446,Data!A$21:A$6143,Data!G$21:G$6143)","v":520819455},-2487]
[5787,446,521989776,{"$f":"LOOKUP(A447,Data!A$21:A$6143,Data!G$21:G$6143)","v":521992575},-2799]
[5800,447,523162584,{"$f":"LOOKUP(A448,Data!A$21:A$6143,Data!G$21:G$6143)","v":523165695},-3111]
[5813,448,524335392,{"$f":"LOOKUP(A449,Data!A$21:A$6143,Data!G$21:G$6143)","v":524338815},-3423]
[5826,449,{"$f":"(A450-1)*PPM","v":525508200},{"$f":"LOOKUP(A450,Data!A$21:A$6143,Data!G$21:G$6143)","v":525511935},{"$f":"C450-D450","v":-3735}]
[{"$f":"A450+13","v":5839},{"$f":"B450+1","v":450},526681008,{"$f":"LOOKUP(A451,Data!A$21:A$6143,Data!G$21:G$6143)","v":526685055},-4047]
[5852,451,527853816,{"$f":"LOOKUP(A452,Data!A$21:A$6143,Data!G$21:G$6143)","v":527855120},-1304]
[5865,452,529026624,{"$f":"LOOKUP(A453,Data!A$21:A$6143,Data!G$21:G$6143)","v":529028240},-1616]
[5878,453,530199432,{"$f":"LOOKUP(A454,Data!A$21:A$6143,Data!G$21:G$6143)","v":530201360},-1928]
[5891,454,531372240,{"$f":"LOOKUP(A455,Data!A$21:A$6143,Data!G$21:G$6143)","v":531374480},-2240]
[5904,455,532545048,{"$f":"LOOKUP(A456,Data!A$21:A$6143,Data!G$21:G$6143)","v":532547600},-2552]
[5917,456,533717856,{"$f":"LOOKUP(A457,Data!A$21:A$6143,Data!G$21:G$6143)","v":533720720},-2864]
[5930,457,534890664,{"$f":"LOOKUP(A458,Data!A$21:A$6143,Data!G$21:G$6143)","v":534893840},-3176]
[5943,458,536063472,{"$f":"LOOKUP(A459,Data!A$21:A$6143,Data!G$21:G$6143)","v":536066960},-3488]
[5956,459,537236280,{"$f":"LOOKUP(A460,Data!A$21:A$6143,Data!G$21:G$6143)","v":537240080},-3800]
[5969,460,538409088,{"$f":"LOOKUP(A461,Data!A$21:A$6143,Data!G$21:G$6143)","v":538413200},-4112]
[5982,461,539581896,{"$f":"LOOKUP(A462,Data!A$21:A$6143,Data!G$21:G$6143)","v":539583265},-1369]
[5995,462,540754704,{"$f":"LOOKUP(A463,Data!A$21:A$6143,Data!G$21:G$6143)","v":540756385},-1681]
[6008,463,541927512,{"$f":"LOOKUP(A464,Data!A$21:A$6143,Data!G$21:G$6143)","v":541929505},-1993]
[6021,464,543100320,{"$f":"LOOKUP(A465,Data!A$21:A$6143,Data!G$21:G$6143)","v":543102625},-2305]
[6034,465,544273128,{"$f":"LOOKUP(A466,Data!A$21:A$6143,Data!G$21:G$6143)","v":544275745},-2617]
[6047,466,545445936,{"$f":"LOOKUP(A467,Data!A$21:A$6143,Data!G$21:G$6143)","v":545448865},-2929]
[6060,467,546618744,{"$f":"LOOKUP(A468,Data!A$21:A$6143,Data!G$21:G$6143)","v":546621985},-3241]
[6073,468,547791552,{"$f":"LOOKUP(A469,Data!A$21:A$6143,Data!G$21:G$6143)","v":547795105},-3553]
[6086,469,548964360,{"$f":"LOOKUP(A470,Data!A$21:A$6143,Data!G$21:G$6143)","v":548968225},-3865]
[6099,470,550137168,{"$f":"LOOKUP(A471,Data!A$21:A$6143,Data!G$21:G$6143)","v":550141345},-4177]
[6112,471,551309976,{"$f":"LOOKUP(A472,Data!A$21:A$6143,Data!G$21:G$6143)","v":551311410},-1434]

{"sheet":"Rules","index":4,"n_rows":13,"n_cols":3,"rows_kept":13}
["Lunar year has 13 months"]
["470 thirteen-month lunar years per cycle"]
[{"$f":"470*13","v":6110},"months"]
["odd-numbered months have 30 days, even numbered months have 29 days"]
["so common years have 7 full months and 6 deficient months"]
["length of common year =",{"$f":"6*29+7*30","v":384}]
["but when the year number is divisible by 10 or 235 one day is removed from the last month"]
["so instead of having",{"$f":"7*470","v":3290},"full months per cycle"]
[null,47,"are removed for years divisible by 10"]
[null,1,"is removed for years divisible by 235 (470 is already a leap year because it is divisible by 10)"]
[null,{"$f":"B8-B9-B10","v":3242}]
[{"$f":"\"so the mean month = 29+\"&B11&\"/\"&A3&\" days = 29+\"&reducefraction(3242,6110,FALSE,FALSE,TRUE)&\" days\"","v":"so the mean month = 29+3242/6110 days = 29+1621/3055 days"}]
["and so the overall calendar cycle is a double lunar cycle."]

{"sheet":"Zoom","index":5,"n_rows":12,"n_cols":9,"rows_kept":12}
[0,"= Current Zoom Level"]
["Level","Months","MajorTick","MinorTick","Shift","Connect","Years","YearsMajor","YearsMinor"]
[{"$f":"ROW()-3","v":0},{"$f":"2*MPC","v":6110},520,52,null,false,{"$f":"B3/13","v":470},20,5]
[1,{"$f":"B5*2","v":3328},260,26,{"$f":"B5","v":1664},false,{"$f":"B4/13","v":256},10,2]
[2,1664,130,13,832,false,{"$f":"B5/13","v":128},5,1]
[3,832,52,13,416,false,64,2,1]
[4,416,13,13,208,false,32,1,1]
[5,208,13,13,104,true,16,1,1]
[6,104,13,1,52,true,8,1,{"$f":"1/13","v":0.07692307692307693}]
[7,52,13,1,26,true,4,1,{"$f":"1/13","v":0.07692307692307693}]
[8,{"$f":"B12*2","v":26},1,1,{"$f":"B12","v":13},true,2,1,{"$f":"1/13","v":0.07692307692307693}]
[9,13,1,1,13,true,1,1,{"$f":"1/13","v":0.07692307692307693}]

{"sheet":"Labels","index":6,"n_rows":28,"n_cols":3,"rows_kept":28}
["Lunar Year","Hours",{"$f":"\"Span \"&B2-B28&\"h\"","v":"Span 78h"}]
[471,30]
[{"$f":"A2","v":471},{"$f":"B2-3","v":27}]
[{"$f":"A3","v":471},{"$f":"B3-3","v":24}]
[{"$f":"A4","v":471},21]
[{"$f":"A5","v":471},18]
[471,15]
[471,12]
[471,9]
[471,6]
[471,3]
[471,0]
[471,-3]
[471,-6]
[471,-9]
[{"$f":"A15","v":471},{"$f":"B15-3","v":-12}]
[471,-15]
[471,-18]
[471,-21]
[471,-24]
[471,-27]
[471,-30]
[471,-33]
[{"$f":"A23","v":471},{"$f":"B23-3","v":-36}]
[{"$f":"A24","v":471},{"$f":"B24-3","v":-39}]
[{"$f":"A25","v":471},{"$f":"B25-3","v":-42}]
[{"$f":"A26","v":471},{"$f":"B26-3","v":-45}]
[{"$f":"A27","v":471},{"$f":"B27-3","v":-48}]